{"text_format":"1","workbook":"xlsx","n_sheets":38,"sheets":["入力票","配列シート","1-1経営改善の計画","1-2生活改善の計画","1-3新規投資所要資金内訳","1-4買掛未払金","1-5家畜・飼料の棚卸額","1-6流通資産","2-1経営収支計画・個人","2-1経営収支計画・法人","3-1借換後の計画","3-2借換額内訳","4条件緩和総括表","5償還表(条件緩和前)","5-1既住借入金の償還計画","6償還表(条件緩和後)","6-1既住借入金の償還計画","7-1農家の概要","7-1法人の概要","7-4経営の概況・個人","7-4経営の概況・法人","7-5借換・条件緩和の内容","8-1計画審査シート(初年度)","8-1計画審査シート(見直し)","8-2見直し計画確定審査用","9-1借入者取組状況評価表","9-2融資機関評価表","確定審査データシート","ヒアリングシート","検算シート","グラフ用テンポラリ","モニタ1技術(1)子取り用めす豚","モニタ1技術(2)肥育豚","モニタ2キャッシュ(1)経営・個人","モニタ2キャッシュ(1)経営・法人","モニタ2キャッシュ(2)投資(3)財務・個人","モニタ2キャッシュ(2)投資(3)財務・法人","モニタ3改善状況"],"not_rendered":{"charts":0,"images":96,"macros":1,"external_links":0,"defined_names":46,"comments":1,"pivot_tables":0},"unopened":[],"bounds":{"document_bytes":16777216,"sheet_cells":100000,"rows_first":2000,"rows_last":500,"rows_between":2000,"halvings":0,"cell_chars":16384,"cell_head_chars":4096},"cells_cut":0,"cells_raw":0,"read":"whole","date_system":"1900"}

{"sheet":"入力票","index":0,"n_rows":72,"n_cols":36,"rows_kept":72,"cut":false,"hidden":true,"merged":[[70,34,71,34],[70,18,70,23],[70,24,70,26],[71,18,71,23],[71,24,71,26],[5,7,5,8],[6,7,6,15],[5,9,5,11],[5,12,5,14],[56,32,56,33],[48,19,51,19],[57,32,57,33],[56,31,57,31],[56,29,56,30],[57,29,57,30],[47,22,47,26],[45,21,45,26],[66,19,66,26],[67,18,67,26],[53,19,55,19],[54,21,54,26],[55,20,55,26],[44,18,54,18],[58,19,58,26],[3,30,4,34],[37,20,37,26],[38,19,38,26],[39,20,39,26],[40,19,40,26],[3,15,4,15],[36,19,36,26],[26,20,26,26],[33,20,33,26],[34,19,34,26],[35,20,35,26],[29,21,29,26],[30,21,30,26],[31,21,31,26],[5,19,5,21],[5,25,5,29],[21,19,21,26],[20,20,20,26],[28,19,32,19],[28,20,28,26],[24,19,24,26],[25,20,25,26],[24,16,26,16],[18,16,19,16],[59,19,59,26],[56,18,57,27],[59,18,65,18],[64,19,64,26],[65,19,65,26],[53,20,53,26],[52,19,52,26],[60,19,60,26],[61,19,61,26],[62,19,62,26],[63,19,63,26],[51,22,51,26],[48,20,51,20],[46,21,46,26],[48,21,48,26],[49,22,49,26],[50,21,50,26],[41,19,41,26],[42,19,42,26],[43,21,43,26],[44,21,44,26],[8,2,8,8],[8,21,8,26],[9,21,9,26],[8,20,9,20],[14,21,14,26],[15,20,15,26],[11,16,12,16],[8,19,9,19],[10,21,10,26],[11,22,11,26],[13,16,14,16],[15,16,16,16],[5,1,5,2],[5,3,5,4],[20,1,36,1],[5,5,5,6],[19,3,19,8],[16,2,16,8],[20,3,20,8],[34,3,34,8],[56,28,57,28],[24,3,24,8],[25,3,25,8],[26,3,26,8],[27,3,27,8],[28,3,28,8],[29,3,29,8],[27,20,27,26],[27,16,29,16],[31,3,31,8],[32,3,32,8],[22,3,22,8],[23,3,23,8],[30,3,30,8],[33,3,33,8],[9,2,9,8],[20,16,21,16],[27,18,40,18],[10,18,22,18],[21,3,21,8],[15,2,15,8],[14,2,14,8],[39,3,39,8],[35,3,35,8],[36,3,36,8],[37,3,37,8],[38,3,38,8],[18,3,18,8],[33,2,38,2],[24,2,30,2],[18,2,21,2],[17,3,17,8],[13,2,13,8],[12,3,12,8],[11,2,11,8],[10,3,10,8],[5,22,5,24],[33,34,34,34],[22,19,22,26],[10,20,14,20],[25,19,26,19],[17,19,17,26],[18,19,18,26],[19,19,19,26],[32,20,32,26],[23,19,23,26],[16,19,16,26],[12,21,12,26],[13,22,13,26],[5,30,5,34]]}
[]
[null,{"$f":"\"平成\"&CELL(\"CONTENTS\",配列シート!B8)&\"年度　養豚特別支援(新)資金計画入力票\"","v":"平成年度　養豚特別支援(新)資金計画入力票"}]
[]
[null,"資 金",null,"入　力",null,"県",null,"振興局",null,"融資機関",null,null,"経営者",null,null,"年度",null,null,null,"資金の",null,null,"経営の",null,null,"家族・企業",null,null,null,null,"経営者氏名"]
[null,"区 分",null,"コード",null,"コード",null,"コード",null,"コード",null,null,"コード",null,null,null,null,null,null,"種　類",null,null,"種　類",null,null,"経営区分"]
[null,"13",null,"2",null,{"$f":"CELL(\"CONTENTS\",配列シート!B3)","v":0},null,{"$f":"CELL(\"CONTENTS\",配列シート!C3)","v":0},null,{"$f":"CELL(\"CONTENTS\",配列シート!D3)","v":0},null,null,{"$f":"CELL(\"CONTENTS\",配列シート!E3)","v":0},null,null,{"$f":"CELL(\"CONTENTS\",配列シート!B8)","v":0},null,null,null,{"$f":"CELL(\"CONTENTS\",配列シート!G3)","v":0},null,null,{"$f":"CELL(\"CONTENTS\",配列シート!H3)","v":0},null,null,{"$f":"CELL(\"CONTENTS\",配列シート!I3)","v":0},null,null,null,null,{"$f":"CELL(\"CONTENTS\",配列シート!J4)","v":""},null,null,null,null," "]
[null,"農協名(融資機関名)",null,null,null,null,null,{"$f":"CELL(\"CONTENTS\",配列シート!Q4)","v":""}]
[null,"項  目　名",null,null,null,null,null,null,null,null,"項番","符号",{"$f":"FULLP_P3(VALUE(CELL(\"CONTENTS\",配列シート!B8))-1) & \"年実績\"","v":"－１年実績"},"項番","符号",{"$f":"FULLP_P3(VALUE(CELL(\"CONTENTS\",配列シート!B8))) & \"年計画\"","v":"０年計画"},"区分",null,"項　目　名",null,null,null,null,null,null,null,null,null,"項番","符号",{"$f":"FULLP_P3(VALUE(CELL(\"CONTENTS\",配列シート!B8))-1) & \"年実績\"","v":"－１年実績"},"項番","符号",{"$f":"FULLP_P3(VALUE(CELL(\"CONTENTS\",配列シート!B8))) & \"年計画\"","v":"０年計画"},"区分"]
[null,null,"家族人員",null,null,null,null,null,null,"(人)","001",null,null,"002",null,null,null,null,null,"農業","収入","養豚部門",null,null,null,null,null,"(千円)","111",null,null,112]
[null,"労","労働力家族",null,null,null,null,null,null,"(人)",{"$f":"K9+2","v":3},null,null,{"$f":"N9+2","v":4},null,null,1,null,null,null,null,"その他部門",null,null,null,null,null,"(千円)",{"$f":"AC9+2","v":113},null,null,{"$f":"AF9+2","v":114}]
[null,"働",null,"うち養豚部門",null,null,null,null,null,"(人)",5,null,null,6,null,null,null,null,"経営収支計画（家族）",null,"養豚部門","家畜購入費",null,null,null,null,null,"(千円)",115,null,null,116]
[null,"力","雇用",null,null,null,null,null,null,"(延人日)",7,null,null,8,null,null,2,null,null,"農",null,null,"うち当該年購入",null,null,null,null,"(千円)",117,null,null,118]
[null,null,null,"うち養豚部門",null,null,null,null,null,"(延人日)",9,null,null,10,null,null,null,null,null,"業",null,"飼料購入費",null,null,null,null,null,"(千円)",119,null,null,120]
[null,"土","田",null,null,null,null,null,null,"(ａ)",11,null,null,12,null,null,"●",null,null,"支",null,null,"うち当該年購入",null,null,null,null,"(千円)",121,null,null,122,null,null,"●"]
[null,"地","畑",null,null,null,null,null,null,"(ａ)",13,null,null,14,null,null,null,null,null,"出",null,"その他支出",null,null,null,null,null,"(千円)",123,null,null,124]
[null,"家","子とり用めす豚",null,null,null,null,null,null,"(頭)",15,null,null,16,null,null,"●",null,null,null,"その他部門支出",null,null,null,null,null,null,"(千円)",125,null,null,126]
[null,"畜","肥育豚",null,null,null,null,null,null,"(頭)",17,null,null,18,null,null,null,null,null,"農外収入",null,null,null,null,null,null,null,"(千円)",127,null,null,128]
[null,null,null,"１腹当り正常子豚生産頭数",null,null,null,null,null,"(頭)",19,null,null,20,null,null,null,null,null,"農外支出",null,null,null,null,null,null,null,"(千円)",129,null,null,130]
[null,null,"繁殖経営","種雌豚１頭当り平均分娩回数",null,null,null,null,null,"(回)",21,null,null,22,null,null,31,null,null,"租税公課諸負担",null,null,null,null,null,null,null,"(千円)",131,null,null,132]
[null,null,null,"育成率（離乳時）",null,null,null,null,null,"(％)",23,null,null,24,null,null,null,null,null,"出稼ぎ、被贈、年金等収入",null,null,null,null,null,null,null,"(千円)",133,null,null,134]
[null,"生産状況等",null,"子豚出荷頭数",null,null,null,null,null,"(頭)",25,null,null,26,null,null,"△",null,null,null,"うち国の奨励金",null,null,null,null,null,null,"(千円)",135,null,null,136]
[null,null,null,"子豚出荷生体重",null,null,null,null,null,"(㎏)",27,null,null,28,null,null,null,null,null,"家計費",null,null,null,null,null,null,null,"(千円)",137,null,null,138,null,null,1]
[null,null,null,"子豚出荷価格",null,null,null,null,null,"(千円/頭)",29,null,null,30,null,null,null,null,null,"資産処分",null,null,null,null,null,null,null,"(千円)",139,null,null,140]
[null,null,null,"１腹当り正常子豚生産頭数",null,null,null,null,null,"(頭)",31,null,null,32,null,null,null,null,null,"預貯金引出額",null,null,null,null,null,null,null,"(千円)",141,null,null,142,null,null,"●"]
[null,null,"一貫経営","種雌豚１頭当り平均分娩回数",null,null,null,null,null,"(回)",33,null,null,34,null,null,32,null,null,"償還財源",null,null,null,null,null,null,null,"(千円)",143,null,null,144]
[null,null,null,"育成率（離乳時）",null,null,null,null,null,"(％)",35,null,null,36,null,null,null,null,null,"売上高","畜産部門",null,null,null,null,null,null,"(千円)",145,null,null,146]
[null,null,null,"肥育豚出荷頭数",null,null,null,null,null,"(頭)",37,null,null,38,null,null,null,null,null,null,"その他部門",null,null,null,null,null,null,"(千円)",147,null,null,148]
[null,null,null,"肥育豚出荷生体重",null,null,null,null,null,"(㎏)",39,null,null,40,null,null,"△",null,"経営収支計画（企業）",null,"期首棚卸高",null,null,null,null,null,null,"(千円)",149,null,null,150]
[null,null,null,"肥育豚出荷価格",null,null,null,null,null,"(千円/頭)",41,null,null,42,null,null,null,null,null,"売上原価","当期製造原価",null,null,null,null,null,null,"(千円)",151,null,null,152]
[null,null,null,"平均肥育日数",null,null,null,null,null,"(日)",43,null,null,44,null,null,null,null,null,null,null,"うち家畜購入費",null,null,null,null,null,"(千円)",153,null,null,154]
[null,null,null,"D.G.(1日当り増体重)",null,null,null,null,null,"(ｇ)",45,null,null,46,null,null,null,null,null,null,null,"うち飼料購入費",null,null,null,null,null,"(千円)",155,null,null,156]
[null,null,null,"事　　故　　率",null,null,null,null,null,"(％)",47,null,null,48,null,null,42,null,null,null,null,"うち減価償却費",null,null,null,null,null,"(千円)",157,null,null,158]
[null,null,null,"子豚導入頭数",null,null,null,null,null,"(頭)",49,null,null,50,null,null,null,null,null,null,"期中成畜振替額",null,null,null,null,null,null,"(千円)",159,null,null,160]
[null,null,"肥育経営","子豚導入価格",null,null,null,null,null,"(千円/頭)",51,null,null,52,null,null,null,null,null,null,"期末棚卸高",null,null,null,null,null,null,"(千円)",161,null,null,162,null,null,"●"]
[null,null,null,"肥育豚出荷頭数",null,null,null,null,null,"(頭)",53,null,null,54,null,null,33,null,null,"販売費および一般管理費",null,null,null,null,null,null,null,"(千円)",163,null,null,164]
[null,null,null,"肥育豚出荷生体重",null,null,null,null,null,"(㎏)",55,null,null,56,null,null,null,null,null,null,"うち役員報酬",null,null,null,null,null,null,"(千円)",165,null,null,166]
[null,null,null,"肥育豚出荷価格",null,null,null,null,null,"(千円/頭)",57,null,null,58,null,null,"△",null,null,"事業外収入",null,null,null,null,null,null,null,"(千円)",167,null,null,168]
[null,null,null,"平均肥育日数",null,null,null,null,null,"(日)",59,null,null,60,null,null,null,null,null,null,"うち国の奨励金",null,null,null,null,null,null,"(千円)",169,null,null,170]
[null,null,null,"D.G.(1日当り増体重)",null,null,null,null,null,"(ｇ)",61,null,null,62,null,null,null,null,null,"事業外費用",null,null,null,null,null,null,null,"(千円)",171,null,null,172]
[null,null,null,"事　　故　　率",null,null,null,null,null,"(％)",63,null,null,64,null,null,43,null,null,null,"うち支払利息",null,null,null,null,null,null,"(千円)",173,null,null,174]
[null,null,null,null,null,null,null,null,null,null,null,null,null,null,null,null,null,null,null,"資産処分・預貯金充当",null,null,null,null,null,null,null,"(千円)",175,null,null,176]
[null,null,null,null,null,null,null,null,null,null,null,null,null,null,null,null,null,null,null,"償還財源",null,null,null,null,null,null,null,"(千円)",177,null,null,178]
[null,null,null,null,null,null,null,null,null,null,null,null,null,null,null,null,null,null,null,"【修正】償還財源",null,null,null,null,null,null,null,"(千円)",179,null,null,180]
[null,null,null,null,null,null,null,null,null,null,null,null,null,null,null,null,null,null,null,"条","約","制度資金(除く畜特)",null,null,null,null,null,"(千円)",181,null,null,182]
[null,null,null,null,null,null,null,null,null,null,null,null,null,null,null,null,null,null,"負債整理計画","件","定","畜産特別資金",null,null,null,null,null,"(千円)",183,null,null,184]
[null,"【記入区分】",null,null,null,null,null,null,null,null,null,null,null,null,null,null,null,null,null,"緩","償","系統・その他資金",null,null,null,null,null,"(千円)",185,null,null,186,null,null,"●"]
[null,null,"●","計画書の数値を必ず記入する。但し「０」の場合は、空欄で良い。",null,null,null,null,null,null,null,null,null,null,null,null,null,null,null,"和","還","既借入約定元利金･合計",null,null,null,null,null,"(千円)",187,null,null,188]
[null,null,"△","不明の項目は記入しなくて良い。",null,null,null,null,null,null,null,null,null,null,null,null,null,null,null,"後","額",null,"うち元金",null,null,null,null,"(千円)",189,null,null,190]
[null,null,1,"家族経営にあってはゼロ以外の数字を、企業経営にあってはゼロを必ず記入する。",null,null,null,null,null,null,null,null,null,null,null,null,null,null,null,"特別支援(新)資金","約定償還額","経営改善資金元利金",null,null,null,null,null,"(千円)",191,null,null,192]
[null,null,2,"企業経営にあってはゼロ以外の数字を、家族経営にあってはゼロを含め数字を必ず",null,null,null,null,null,null,null,null,null,null,null,null,null,null,null,null,null,null,"うち元金",null,null,null,null,"(千円)",193,null,null,194]
[null,null,null,"記入する。",null,null,null,null,null,null,null,null,null,null,null,null,null,null,null,null,null,"経営継承資金元利金",null,null,null,null,null,"(千円)",195,null,null,196,null,null,"●"]
[null,null,31,"(繁殖)",null,null,"入力票の上部にある経営の種類のコードと一致し、該当する経営の",null,null,null,null,null,null,null,null,null,null,null,null,null,null,null,"うち元金",null,null,null,null,"(千円)",197,null,null,198]
[null,null,32,"(一貫)",null,null,"種類のみ記入する。",null,null,null,null,null,null,null,null,null,null,null,null,"前期繰越",null,null,null,null,null,null,null,"(千円)",199,null,null,200]
[null,null,33,"(肥育)",null,null,"但し、一部一貫経営は、全て一貫経営の欄に記入する。",null,null,null,null,null,null,null,null,null,null,null,null,"対策額","経営改善資金借換額",null,null,null,null,null,null,"(千円)",201,null,null,202]
[null,null,null,null,null,null,null,null,null,null,null,null,null,null,null,null,null,null,null,null,null,"うち残高借換分",null,null,null,null,null,"(千円)",203,null,null,204,null,null,"●"]
[null,null,42,null,"ゼロを含め数字を必ず記入する。但し該当する経営のみ。",null,null,null,null,null,null,null,null,null,null,null,null,null,null,null,"経営継承資金借換額",null,null,null,null,null,null,"(千円)",205,null,null,206]
[null,null,43,null,null,null,null,null,null,null,null,null,null,null,null,null,null,null,"項　目　名",null,null,null,null,null,null,null,null,null,"項番",{"$f":"FULLP_P3(VALUE(CELL(\"CONTENTS\",配列シート!B8))-1) & \"年期末\"","v":"－１年期末"},null,"項番",{"$f":"FULLP_P3(VALUE(CELL(\"CONTENTS\",配列シート!B8))) & \"年期末\"","v":"０年期末"}]
[null,null,null,null,null,null,null,null,null,null,null,null,null,null,null,null,null,null,null,null,null,null,null,null,null,null,null,null,null,"借入金他残高",null,null,"借入金他残高"]
[null,"【符　　号】",null,null,null,null,null,null,null,null,null,null,null,null,null,null,null,null,null,"農業近代化資金",null,null,null,null,null,null,null,"(千円)",{"$f":"AC56+2","v":207},null,null,{"$f":"AF56+2","v":208}]
[null,null,"符号の欄で白抜きの項目（償還財源と前期繰越）は、数値がマイナスの場合にのみ",null,null,null,null,null,null,null,null,null,null,null,null,null,null,null,"借入金残高","公庫資金",null,null,null,null,null,null,null,"(千円)",{"$f":"AC59+2","v":209},null,null,{"$f":"AF59+2","v":210}]
[null,null,"（－）を記入する。",null,null,null,null,null,null,null,null,null,null,null,null,null,null,null,null,"その他制度資金",null,null,null,null,null,null,null,"(千円)",211,null,null,212]
[null,null,null,null,null,null,null,null,null,null,null,null,null,null,null,null,null,null,null,"畜産特別資金",null,null,null,null,null,null,null,"(千円)",213,null,null,214]
[null,null,null,null,null,null,null,null,null,null,null,null,null,null,null,null,null,null,null,"農協系統資金(長期)",null,null,null,null,null,null,null,"(千円)",215,null,null,216,null,null,"●"]
[null,null,null,null,null,null,null,null,null,null,null,null,null,null,null,null,null,null,null,"農協系統資金(短期)",null,null,null,null,null,null,null,"(千円)",217,null,null,218]
[null,null,null,null,null,null,null,null,null,null,null,null,null,null,null,null,null,null,null,"一般金融機関資金",null,null,null,null,null,null,null,"(千円)",219,null,null,220]
[null,null,null,null,null,null,null,null,null,null,null,null,null,null,null,null,null,null,null,"経営改善資金",null,null,null,null,null,null,null,"(千円)",221,null,null,222]
[null,null,null,null,null,null,null,null,null,null,null,null,null,null,null,null,null,null,null,"経営継承資金",null,null,null,null,null,null,null,"(千円)",223,null,null,224]
[null,null,null,null,null,null,null,null,null,null,null,null,null,null,null,null,null,null,"買掛未払金残高　　　",null,null,null,null,null,null,null,null,"(千円)",225,null,null,null,null,null,"●"]
[null,null,null,null,null,null,null,null,null,null,null,null,null,null,null,null,null,null,"平成24年度経済階層改定項目"]
[null,null,null,null,null,null,null,null,null,null,null,null,null,null,null,null,null,null,"項　目　名",null,null,null,null,null,null,null,null,null,"項番","符号",{"$f":"FULLP_P3(VALUE(CELL(\"CONTENTS\",配列シート!B8))-1) & \"年実績\"","v":"－１年実績"},"項番","符号",{"$f":"FULLP_P3(VALUE(CELL(\"CONTENTS\",配列シート!B8))) & \"年計画\"","v":"０年計画"},"区分"]
[null,null,null,null,null,null,null,null,null,null,null,null,null,null,null,null,null,null,"経済階層用",null,null,null,null,null,"元利金",null,null,"(千円)",227,null,null,228,null,null,"●"]
[null,null,null,null,null,null,null,null,null,null,null,null,null,null,null,null,null,null,"要償還額",null,null,null,null,null,"元金",null,null,"(千円)",{"$f":"AC71+2","v":229},null,null,{"$f":"AF71+2","v":230}]

{"sheet":"配列シート","index":1,"n_rows":74,"n_cols":66,"rows_kept":74,"cut":false,"hidden":true,"merged":[[31,36,51,36],[31,38,33,38],[34,38,36,38],[37,38,39,38],[40,38,42,38],[43,38,45,38],[46,38,48,38],[49,38,51,38],[19,38,21,38],[19,45,21,45],[22,38,24,38],[25,38,27,38],[28,38,30,38],[10,38,12,38],[10,45,12,45],[13,38,15,38],[13,45,15,45],[16,38,18,38],[16,45,18,45],[1,38,3,38],[1,45,3,45],[4,38,6,38],[4,45,6,45],[7,38,9,38],[7,45,9,45],[1,26,3,26],[1,27,1,29],[2,27,2,29],[3,27,3,29],[4,26,6,26],[4,27,4,29],[5,27,5,29],[6,27,6,29]]}
["Version","3.1.1","←※計画書マスタを更新した場合、Versionを更新する。（Version更新ルールは、共通マスタの配列シートを参照）",null,null,null,null,null,null,null,null,null,null,null,null,null,null,null,null,null,null,null,null,null,null,"No","シート名／項目",null,null,null,"グラフ","デフォルト上限値","上限値","デフォルト下限値","下限値","単位",null,"No","項目","デフォルト初年度","デフォルト見直し用","初年度","見直し用",null,"No","項目","デフォルト","確定審査用",null,"経営種類別参照先用枠",null,null,null,null,null,null,null,null,null,null,null,"参照先リスト"]
[null,"県コード","振興局コード","融資機関コード","経営者コード","年度","資金の種類","経営の種類","経営区分","借受者名",null,"後継者の有無","後継者年齢","経営者の年齢","新経営者コード","市町村名","農協名","特別指導者名",null,"長期平均払事業への参加","青色申告の有無",null,"年度開始月","目標年次",null,1,"1(1)子取り用雌豚","飼養頭数　子取り用めす豚",null,null,"折れ線",300,null,0,null,"頭",null,1,"①畜産部門収入","妥当",5,null,null,null,1,"①畜産部門収入","妥当",null,null,"シート名","'1-1経営改善の計画'",null,null,null,"初期値",null,null,null,null,null,null,"行番号","項目名",null,null,"書式"]
["ﾚｺｰﾄﾞﾃﾞｰﾀ",null,null,null,null,null,null,null,null,null,null,null,null,null,null,null,null,null,null,null,null,null,null,null,null,2,null,"正常子豚生産頭数",null,null,"折れ線",600,null,0,null,"頭",null,2,null,"注意必要",{"$f":"IF(AO4 =0,0,\"-\" & AO4) & \"～\" & AO2 & \"%の範囲\"","v":"-10～5%の範囲"},null,null,null,2,null,"注意必要",null,null,"年度","列番号",null,null,null,null,"31繁殖32一貫33肥育",null,null,null,null,null,0,"その他",null,null,"G/標準"]
["参照ﾏｽﾀﾃﾞｰﾀ",{"$f":"IF(B3=\"\",\"\",FULLP_P2(B3))","v":""},{"$f":"IF(OR(B3<>1,C3=\"\"),\"\",FULLP_P2(C3))","v":""},{"$f":"FULLP_P2(D3)","v":""},{"$f":"FULLP_P2(E3)","v":""},{"$f":"IF(F3=\"\",\"\",FULLP_P2(TEXT(VALUE(F3),\"##\"))&\"年度\")","v":""},{"$f":"IF(G3=\"\",\"\",FULLP_P2(G3))","v":""},{"$f":"IF(H3=\"\",\"\",FULLP_P2(H3))","v":""},{"$f":"IF(I3=\"\",\"\",FULLP_P2(I3))","v":""},{"$f":"FULLP_P2(TRIM(IF(J3=\"\",\"\",LEFT(J3,25))))","v":""},null,{"$f":"IF(L3=\"\",\"\",FULLP_P2(L3))","v":""},{"$f":"IF(M3=\"\",\"\",FULLP_P2(M3))","v":""},{"$f":"IF(N3=\"\",\"\",FULLP_P2(N3))","v":""},null,{"$f":"IF(P3=\"\",\"\",P3)","v":""},{"$f":"IF(Q3=\"\",\"\",Q3)","v":""},{"$f":"IF(R3=\"\",\"\",R3)","v":""},null,null,null,null,{"$f":"IF(W3=\"\",\"\",FULLP_P2(W3))","v":""},null,null,3,null,"子豚出荷頭数",null,null,"折れ線",600,null,0,null,"頭",null,3,null,"要検討",10,null,null,null,3,null,"要検討",null,null,"前々年実績","H",null,null,null,"常時飼養頭数",16,null,null,null,null,null,16,"家畜飼養頭数(常時)","子取り用雌豚","(頭)","##,##0.0"]
["ｺｰﾄﾞ文字ﾃﾞｰﾀ",{"$f":"IF(OR(VALUE(B3)<1,VALUE(B3)>47,B3=\"\"),\"\",DGET(A10:B57,\"県　名\",B2:B3))","v":""},{"$f":"IF(OR(B3<>1,C3=\"\"),\"\",DGET(D10:E24,\"振興局名\",C2:C3))","v":""},{"$f":"FULLP_P2(D3)","v":""},{"$f":"FULLP_P2(E3)","v":""},{"$f":"IF(F3=\"\",\"\",FULLP_P2(TEXT(VALUE(F3),\"##\"))&\"年度\")","v":""},{"$f":"IF(OR(VALUE(G3)<1,VALUE(G3)>2,G3=\"\"),\"\",DGET(G19:H21,\"借受資金\",G2:G3))","v":""},{"$f":"IF(OR(VALUE(H3)<31,VALUE(H3)>33,H3=\"\"),\"\",DGET(G10:H13,\"経営名\",H2:H3))","v":""},{"$f":"IF(OR(VALUE(I3)<1,VALUE(I3)>2,I3=\"\"),\"\",DGET(G25:H27,\"区分名\",I2:I3))","v":""},{"$f":"IF(J4=\"\",\"\",J4)","v":""},null,{"$f":"IF(OR(VALUE(L3)<1,VALUE(L3)>2,L3=\"\"),\"\",DGET(L10:M12,\"有無\",L2:L3))","v":""},null,null,null,null,null,null,null,null,null,null,{"$f":"IF(OR(VALUE(W3)<1,VALUE(W3)>12,W3=\"\"),\"\",DGET(W10:X22,\"決算期間\",W2:W3))","v":""},null,null,6,"1(2)肥育豚","飼養頭数　肥育豚",null,null,"折れ線",4200,null,0,null,"頭",null,4,"②畜産部門支出","妥当",5,null,null,null,4,"②畜産部門支出","妥当",null,null,"前年計画","I",null,null,null,"生産技術指標",21,null,null,null,null,null,17,"家畜飼養頭数(常時)","肥育豚","(頭)","##,##0"]
["資金名","養豚特別支援(新)資金",null,null,null,{"$f":"IF(F3=\"\",\"\",FULLP_P2(\"4\" & TEXT(VALUE(F3),\"00\")))","v":""},null,"経営の種類ｺﾝﾊﾞｰﾄ",{"$f":"IF(H3=1,31,IF(H3=2,32,IF(H3=3,33,\"\")))","v":""},null,null,null,null,null,null,null,null,null,null,null,null,null,null,null,null,7,null,"肥育豚出荷頭数",null,null,"折れ線",600,null,0,null,"頭",null,5,null,"注意必要",{"$f":"IF(AO5=0,0,\"-\" & AO5) & \"～\" & AO7 & \"%の範囲\"","v":"-5～10%の範囲"},null,null,null,5,null,"注意必要",null,null,"前年実績","J",null,null,null,"販売単価",34,null,null,null,null,null,19,"子取り用雌豚","１腹当たり正常子豚生産頭数","(頭)","##,##0.0"]
["ファイル名",null,null,null,null,null,null,null,null,null,null,null,null,null,null,null,null,null,null,null,null,null,null,null,null,8,null,"出荷枝肉重量（平均）",null,null,"折れ線",80,null,0,null,"kg",null,6,null,"要検討",10,null,null,null,6,null,"要検討",null,null,"当年計画","K",null,null,null,"生産物販売量",31,null,null,null,null,null,20,"子取り用雌豚","種雌豚１頭当たり年間平均分娩回数","(回)","##,##0.0"]
["対象年次",null,"←※この年度を基本に表頭の数値を決定する。",null,null,null,null,null,null,null,null,null,null,null,null,null,null,null,null,null,null,null,null,null,null,null,null,null,null,null,null,null,null,null,null,null,null,7,"③家計費","妥当",5,null,null,null,7,"③家計費","妥当",null,null,"次年計画","M",null,null,null,null,null,null,null,null,null,null,21,"子取り用雌豚","種雌豚１頭当たり年間正常子豚生産頭数","(頭)","##,##0.0"]
["目標年次",null,null,null,null,null,null,null,null,null,null,null,null,null,null,null,null,null,null,null,null,null,null,null,null,null,null,null,null,null,null,null,null,null,null,null,null,8,null,"注意必要",{"$f":"IF(AO8=0,0,\"-\" & AO8) & \"～\" & AO10 & \"%の範囲\"","v":"-5～10%の範囲"},null,null,null,8,null,"注意必要",null,null,"償還一年目計画","$K$3:$X$38",null,null,null,null,null,null,null,null,null,null,22,"子取り用雌豚","育成率 (離乳時)","(％)","##,##0"]
["県コード","県　名",null,"振興局コード","振興局名",null,"経営の種類","経営名",null,null,null,"後継者の有無","有無",null,null,null,null,null,null,"長期平均払事業への参加","有無",null,"年度開始月","決算期間",null,null,null,null,null,null,null,null,null,null,null,null,null,9,null,"要検討",10,null,null,null,9,null,"要検討",null,null,"目標年計画","$K$3:$X$38",null,null,null,null,null,null,null,null,null,null,23,"子取り用雌豚","子豚出荷頭数","(頭)","##,##0"]
[1,"北海道",null,1,"石狩振興局",null,31,"繁殖",null,null,null,1,"有り",null,null,null,null,null,null,1,"有り",null,1,"１月～１２月",null,null,null,null,null,null,null,null,null,null,null,null,null,10,"④償還財源","増加",5,null,null,null,10,"④償還財源","妥当",null,null,null,null,null,null,null,null,null,null,null,null,null,null,24,"子取り用雌豚","子豚出荷日齢","(日)","##,##0"]
[{"$f":"A11+1","v":2},"青森県",null,2,"空知総合振興局",null,32,"一貫",null,null,null,{"$f":"L11+1","v":2},"無し",null,null,null,null,null,null,2,"無し",null,2,"２月～１月",null,null,null,null,null,null,null,null,null,null,null,null,null,11,null,"同じ程度",{"$f":"IF(AO13=0,0,\"-\" & AO13) & \"～\" & AO11 & \"%の範囲\"","v":"-5～5%の範囲"},null,null,null,11,null,"注意必要",null,null,"選択行・算式保持枠",null,null,null,null,null,null,null,null,null,null,null,25,"子取り用雌豚","子豚出荷体重","(kg/頭)","##,##0"]
[3,"岩手県",null,3,"上川総合振興局",null,33,"肥育",null,null,null,null,null,null,null,null,null,null,null,null,null,null,3,"３月～２月",null,null,null,null,null,null,null,null,null,null,null,null,null,12,null,"減少",5,null,null,null,12,null,"要検討",null,null,null,"行","項目名①","項目名②","前々年実績","前年計画","前年実績","当年計画","次年計画","償還一年目計画","目標年計画",null,26,"子取り用雌豚","子豚出荷価格","(千円/頭)","##,##0.0"]
[4,"宮城県",null,4,"後志総合振興局",null,null,null,null,null,null,null,null,null,null,null,null,null,null,null,null,null,4,"４月～３月",null,null,null,null,null,null,null,null,null,null,null,null,null,13,"⑤１頭当たり\n　期末総負債残高","減少","約定償還額以上減少",null,null,null,13,"⑤１頭当たり\n　期末借入金残高","妥当",null,null,"常時飼養頭数",null,{"$f":"VLOOKUP(配列シート!$AY14,$BJ$3:$BL$25,2,FALSE)","v":"その他"},{"$f":"VLOOKUP(配列シート!$AY14,$BJ$3:$BL$25,3,FALSE) & VLOOKUP(配列シート!$AY14,BJ3:BM25,4,FALSE)","v":""},{"$f":"INDIRECT($AY$2 & \"!\" &$AY4 &$AY$14,TRUE)","v":{"$error":"#REF!"}},{"$f":"INDIRECT($AY$2 & \"!\" &$AY5 &$AY$14,TRUE)","v":{"$error":"#REF!"}},{"$f":"INDIRECT($AY$2 & \"!\" &$AY6 &$AY$14,TRUE)","v":{"$error":"#REF!"}},{"$f":"INDIRECT($AY$2 & \"!\" &$AY7 &$AY$14,TRUE)","v":{"$error":"#REF!"}},{"$f":"INDIRECT($AY$2 & \"!\" &$AY8 &$AY$14,TRUE)","v":{"$error":"#REF!"}},{"$f":"HLOOKUP(配列シート!$E$39,INDIRECT($AY$2 & \"!\" & $AY$9,TRUE), INDIRECT(\"$AY$14\",TRUE) - 2,FALSE)","v":{"$error":"#N/A"}},{"$f":"HLOOKUP(配列シート!$B$9,INDIRECT($AY$2 & \"!\" & $AY$10,TRUE), INDIRECT(\"$AY$14\",TRUE) - 2,FALSE)","v":{"$error":"#VALUE!"}},null,27,"肥育豚","子豚導入頭数","(頭)","##,##0"]
[5,"秋田県",null,5,"檜山振興局",null,null,null,null,null,null,null,null,null,null,null,null,null,null,null,null,null,5,"５月～４月",null,null,null,null,null,null,null,null,null,null,null,null,null,14,"期末総負債残高","同じ程度","同じ程度",null,null,null,14,"期末総負債残高","注意必要",null,null,"生産技術指標",null,{"$f":"VLOOKUP(配列シート!$AY15,$BJ$3:$BL$25,2,FALSE)","v":"その他"},{"$f":"VLOOKUP(配列シート!$AY15,$BJ$3:$BL$25,3,FALSE) & VLOOKUP(配列シート!$AY15,BJ3:BM25,4,FALSE)","v":""},{"$f":"INDIRECT($AY$2 & \"!\" &$AY4 &$AY$15,TRUE)","v":{"$error":"#REF!"}},{"$f":"INDIRECT($AY$2 & \"!\" &$AY5 &$AY$15,TRUE)","v":{"$error":"#REF!"}},{"$f":"INDIRECT($AY$2 & \"!\" &$AY6 &$AY$15,TRUE)","v":{"$error":"#REF!"}},{"$f":"INDIRECT($AY$2 & \"!\" &$AY7 &$AY$15,TRUE)","v":{"$error":"#REF!"}},{"$f":"INDIRECT($AY$2 & \"!\" &$AY8 &$AY$15,TRUE)","v":{"$error":"#REF!"}},{"$f":"HLOOKUP(配列シート!$E$39,INDIRECT($AY$2 & \"!\" & $AY$9,TRUE), INDIRECT(\"$AY$15\",TRUE) - 2,FALSE)","v":{"$error":"#N/A"}},{"$f":"HLOOKUP(配列シート!$B$9,INDIRECT($AY$2 & \"!\" & $AY$10,TRUE), INDIRECT(\"$AY$15\",TRUE) - 2,FALSE)","v":{"$error":"#VALUE!"}},null,28,"肥育豚","子豚導入日齢","(日)","##,##0"]
[6,"山形県",null,6,"渡島総合振興局",null,null,null,null,null,null,null,null,null,null,null,null,null,null,"青色申告の有無","有無",null,6,"６月～５月",null,null,null,null,null,null,null,null,null,null,null,null,null,15,null,"増加","増加",null,null,null,15,null,"要検討",null,null,"販売単価",null,{"$f":"VLOOKUP(配列シート!$AY16,$BJ$3:$BL$25,2,FALSE)","v":"その他"},{"$f":"VLOOKUP(配列シート!$AY16,$BJ$3:$BL$25,3,FALSE) & VLOOKUP(配列シート!$AY16,BJ3:BM25,4,FALSE)","v":""},{"$f":"INDIRECT($AY$2 & \"!\" &$AY4 &$AY$16,TRUE)","v":{"$error":"#REF!"}},{"$f":"INDIRECT($AY$2 & \"!\" &$AY5 &$AY$16,TRUE)","v":{"$error":"#REF!"}},{"$f":"INDIRECT($AY$2 & \"!\" &$AY6 &$AY$16,TRUE)","v":{"$error":"#REF!"}},{"$f":"INDIRECT($AY$2 & \"!\" &$AY7 &$AY$16,TRUE)","v":{"$error":"#REF!"}},{"$f":"INDIRECT($AY$2 & \"!\" &$AY8 &$AY$16,TRUE)","v":{"$error":"#REF!"}},{"$f":"HLOOKUP(配列シート!$E$39,INDIRECT($AY$2 & \"!\" & $AY$9,TRUE), INDIRECT(\"$AY$16\",TRUE) - 2,FALSE)","v":{"$error":"#N/A"}},{"$f":"HLOOKUP(配列シート!$B$9,INDIRECT($AY$2 & \"!\" & $AY$10,TRUE), INDIRECT(\"$AY$16\",TRUE) - 2,FALSE)","v":{"$error":"#VALUE!"}},null,29,"肥育豚","子豚導入体重","(kg)","##,##0"]
[7,"福島県",null,7,"胆振総合振興局",null,null,null,null,null,null,null,null,null,null,null,null,null,null,1,"有り",null,7,"７月～６月",null,null,null,null,null,null,null,null,null,null,null,null,null,16,"⑥売上高負債比率",100,100,null,null,null,16,"⑥融資機関による\n　借入者の評価","妥当",null,null,"生産物販売量",null,{"$f":"VLOOKUP(配列シート!$AY17,$BJ$3:$BL$25,2,FALSE)","v":"その他"},{"$f":"VLOOKUP(配列シート!$AY17,$BJ$3:$BL$25,3,FALSE) & VLOOKUP(配列シート!$AY17,BJ3:BM25,4,FALSE)","v":""},{"$f":"INDIRECT($AY$2 & \"!\" &$AY4 &$AY$17,TRUE)","v":{"$error":"#REF!"}},{"$f":"INDIRECT($AY$2 & \"!\" &$AY5 &$AY$17,TRUE)","v":{"$error":"#REF!"}},{"$f":"INDIRECT($AY$2 & \"!\" &$AY6 &$AY$17,TRUE)","v":{"$error":"#REF!"}},{"$f":"INDIRECT($AY$2 & \"!\" &$AY7 &$AY$17,TRUE)","v":{"$error":"#REF!"}},{"$f":"INDIRECT($AY$2 & \"!\" &$AY8 &$AY$17,TRUE)","v":{"$error":"#REF!"}},{"$f":"HLOOKUP(配列シート!$E$39,INDIRECT($AY$2 & \"!\" & $AY$9,TRUE), INDIRECT(\"$AY$17\",TRUE) - 2,FALSE)","v":{"$error":"#N/A"}},{"$f":"HLOOKUP(配列シート!$B$9,INDIRECT($AY$2 & \"!\" & $AY$10,TRUE), INDIRECT(\"$AY$17\",TRUE) - 2,FALSE)","v":{"$error":"#VALUE!"}},null,30,"肥育豚","子豚導入価格","(千円/頭)","##,##0"]
[8,"茨城県",null,8,"日高振興局",null,null,null,null,null,null,null,null,null,null,null,null,null,null,2,"無し",null,8,"８月～７月",null,null,null,null,null,null,null,null,null,null,null,null,null,17,null,{"$f":"AN17 & \"～\" & AN19-1 & \"%\"","v":"100～399%"},{"$f":"AO17 & \"～\" & AO19-1 & \"%\"","v":"100～399%"},null,null,null,17,"期末総負債残高","注意必要",null,null,null,null,null,null,null,null,null,null,null,null,null,null,31,"肥育豚","肥育豚出荷頭数","(頭)","##,##0"]
[9,"栃木県",null,9,"十勝総合振興局",null,"資金の種類","借受資金",null,null,null,"最終入力日",null,null,null,null,null,null,null,null,null,null,9,"９月～８月",null,null,null,null,null,null,null,null,null,null,null,null,null,18,null,400,400,null,null,null,18,null,"要検討",null,null,null,null,null,null,null,null,null,null,null,null,null,null,32,"肥育豚","肥育豚出荷日齢","(日)","##,##0"]
[10,"群馬県",null,10,"釧路総合振興局",null,1,"経営改善資金",null,null,null,"最終入力者",null,null,null,null,null,null,null,null,null,null,10,"１０月～９月",null,null,null,null,null,null,null,null,null,null,null,null,null,19,"⑦畜産部門収入","妥当","妥当",null,null,null,19,"⑦見直し計画書の\n　総合評価","妥当",null,null,null,null,null,null,null,null,null,null,null,null,null,null,33,"肥育豚","肥育豚出荷生体重","(kg/頭)","##,##0"]
[11,"埼玉県",null,11,"根室振興局",null,2,"経営継承資金",null,null,null,"最終入力者所属",null,null,null,null,null,null,null,null,null,null,11,"１１月～１０月",null,null,null,null,null,null,null,null,null,null,null,null,null,20,null,"注意必要","注意必要",null,null,null,20,"期末総負債残高","注意必要",null,null,null,null,null,null,null,null,null,null,null,null,null,null,34,"肥育豚","肥育豚出荷価格","(千円/頭)","##,##0.0"]
[12,"千葉県",null,12,"オホーツク総合振興局",null,null,null,null,null,null,null,null,null,null,null,null,null,null,null,null,null,12,"１２月～１１月",null,null,null,null,null,null,null,null,null,null,null,null,null,21,null,"要検討","要検討",null,null,null,21,null,"要検討",null,null,null,null,null,null,null,null,null,null,null,null,null,null,35,"肥育豚","平均肥育日数","(日)","##,##0"]
[13,"東京都",null,13,"宗谷総合振興局",null,null,null,null,null,null,null,null,null,null,null,null,null,null,null,null,null,null,null,null,null,null,null,null,null,null,null,null,null,null,null,null,22,"⑧畜産部門支出","妥当","妥当",null,null,null,null,null,null,null,null,null,null,null,null,null,null,null,null,null,null,null,null,36,"肥育豚","１日当たり増体重（Ｄ．Ｇ．）","(ｇ)","##,##0"]
[14,"神奈川県",null,14,"留萌振興局",null,null,null,null,null,null,null,null,null,null,null,null,null,null,null,null,null,null,null,null,null,null,null,null,null,null,null,null,null,null,null,null,23,null,"注意必要","注意必要",null,null,null,null,null,null,null,null,null,null,null,null,null,null,null,null,null,null,null,null,37,"肥育豚","事故率","(％)","##,##0"]
[15,"新潟県",null,null,null,null,"経営区分","区分名",null,null,null,null,null,null,null,null,null,null,null,null,null,null,null,null,null,null,null,null,null,null,null,null,null,null,null,null,null,24,null,"要検討","要検討",null,null,null,null,null,null,null,null,null,null,null,null,null,null,null,null,null,null,null,null,38,"肥育豚","肥育素豚自家産割合","(％)","##,##0"]
[16,"富山県",null,"コンバートフラグ",null,null,1,"家族",null,null,null,null,null,null,null,null,null,null,null,null,null,null,null,null,null,null,null,null,null,null,null,null,null,null,null,null,null,25,"⑨家計費","妥当","妥当"]
[17,"石川県",null,"初期フラグ",null,null,{"$f":"G26+1","v":2},"法人",null,null,null,null,null,null,null,null,null,null,null,null,null,null,null,null,null,null,null,null,null,null,null,null,null,null,null,null,null,26,null,"注意必要","注意必要"]
[18,"福井県",null,"開発フラグ",null,null,null,null,null,null,null,null,null,null,null,null,null,null,null,null,null,null,null,null,null,null,null,null,null,null,null,null,null,null,null,null,null,27,null,"要検討","要検討"]
[19,"山梨県",null,"↑(1)にすることで、マクロを有効にしたまま開発作業を行えます。",null,null,null,null,null,null,null,null,null,null,null,null,null,null,null,null,null,null,null,null,null,null,null,null,null,null,null,null,null,null,null,null,null,28,"⑩償還財源","妥当","妥当"]
[20,"長野県",null,null,null,null,null,null,null,null,null,null,null,null,null,null,null,null,null,null,null,null,null,null,null,null,null,null,null,null,null,null,null,null,null,null,null,29,null,"注意必要","注意必要"]
[21,"岐阜県",null,null,null,null,null,null,null,null,null,null,null,null,null,null,null,null,null,null,null,null,null,null,null,null,null,null,null,null,null,null,null,null,null,null,null,30,null,"要検討","要検討"]
[22,"静岡県",null,"↑開発フラグが(1)の状態で実行する。全シートが対象です。",null,null,null,"↑貸付年度を設定します。",null,null,null,null,null,null,null,null,null,null,null,null,null,null,null,null,null,null,null,null,null,null,null,null,null,null,null,null,"別表１頭あたり期末借入金残高　　",31,"経産牛",80,80]
[23,"愛知県",null,null,null,null,"印刷サイズ","　タイトル名は C_LOAN_YEARの値 を設定します。",null,null,null,null,null,null,null,null,null,null,null,null,null,null,null,null,null,null,null,null,null,null,null,null,null,null,null,null,null,32,null,{"$f":"AN32&\"～\"&AN34 & \"万円\"","v":"80～160万円"},{"$f":"AO32&\"～\"&AO34 & \"万円\"","v":"80～160万円"}]
[24,"三重県",null,null,null,null,"A4",null,null,null,null,null,null,null,null,null,null,null,null,null,null,null,null,null,null,null,null,null,null,null,null,null,null,null,null,null,null,33,null,160,160]
[25,"滋賀県",null,"↑入力票・配列シート以外のヘッダタイトルを設定します。",null,null,null,null,null,null,null,null,null,null,null,null,null,null,null,null,null,null,null,null,null,null,null,null,null,null,null,null,null,null,null,null,null,34,"繁殖雌牛",60,60]
[26,"京都府",null,"　タイトル名は C_TITLE_HEADERの値 を設定します。",null,null,null,null,null,null,null,null,null,null,null,null,null,null,null,null,null,null,null,null,null,null,null,null,null,null,null,null,null,null,null,null,null,35,null,{"$f":"AN35&\"～\"&AN37 & \"万円\"","v":"60～120万円"},{"$f":"AO35&\"～\"&AO37 & \"万円\"","v":"60～120万円"}]
[27,"大阪府",null,"計画審査シート用",null,null,null,null,null,null,null,null,null,null,null,null,null,null,null,null,null,null,null,null,null,null,null,null,null,null,null,null,null,null,null,null,null,36,null,120,120]
[28,"兵庫県",null,"借換最終年",{"$f":"VLOOKUP(MIN(F42:F48),F42:G48,2,FALSE)","v":25},null,"初年度フラグ",{"$f":"IF(B8=E41,1,0)","v":0},null,null,null,null,null,null,null,null,null,null,null,null,null,null,null,null,null,null,null,null,null,null,null,null,null,null,null,null,null,37,"肉専用種肥育牛",45,45]
[29,"奈良県",null,"償還１年目計画年",{"$f":"MAX(M41:M48)","v":26},null,null,null,null,null,null,null,null,null,null,null,null,null,null,null,null,null,null,null,null,null,null,null,null,null,null,null,null,null,null,null,null,38,null,{"$f":"AN38&\"～\"&AN40 & \"万円\"","v":"45～100万円"},{"$f":"AO38&\"～\"&AO40 & \"万円\"","v":"45～100万円"}]
[30,"和歌山県",null,"見直し１年目",{"$f":"E38+1","v":26},"順位","貸付年","借換額","据置","入力フラグ","貸付年＋１０年","借換初年度","貸付年＋１年＋据置","償還期間","年度+行/1000",null,null,null,null,null,null,null,null,null,null,null,null,null,null,null,null,null,null,null,null,null,null,39,null,100,100]
[31,"鳥取県",null,"借換初年度",{"$f":"IF(SUM(J42:J48)>0,SMALL(L42:L48,COUNTIF(L42:L48,\"0\")+1),L41)","v":25},null,null,null,null,{"$f":"SUM(J42:J48)","v":0},{"$f":"G42+10","v":35},{"$f":"G42","v":25},{"$f":"G42+1","v":26},null,null,null,null,null,null,null,null,null,null,null,null,null,null,null,null,null,null,null,null,null,null,null,null,40,"交雑肥育牛",35,35]
[32,"島根県",null,"確定審査用（5年目）",{"$f":"IF(B8 - E38 <=5,E38+5,B8)","v":30},{"$f":"RANK(O42,$O$42:$O$48)","v":1},{"$f":"'3-1借換後の計画'!E13","v":25},{"$f":"'3-1借換後の計画'!G16","v":0},{"$f":"'3-1借換後の計画'!AD13","v":0},{"$f":"IF(AND($B$8>=G42,G42>0),IF(H42>0,1,0),0)","v":0},{"$f":"IF(J42=1,G42+10,0)","v":0},{"$f":"IF(J42=1,G42,0)","v":0},{"$f":"IF(J42=1,G42+1+I42,0)","v":0},{"$f":"'3-1借換後の計画'!AB13","v":0},{"$f":"G42+ROW()/1000","v":25.042000000000002},null,null,null,null,null,null,null,null,null,null,null,null,null,null,null,null,null,null,null,null,null,null,41,null,{"$f":"AN41&\"～\"&AN43 & \"万円\"","v":"35～70万円"},{"$f":"AO41&\"～\"&AO43 & \"万円\"","v":"35～70万円"}]
[33,"岡山県",null,"貸付最終年の償還期間",{"$f":"VLOOKUP(MIN(F42:F48),F42:N48,9,FALSE)","v":0},{"$f":"RANK(O43,$O$42:$O$48)","v":2},{"$f":"'3-1借換後の計画'!E17","v":26},{"$f":"'3-1借換後の計画'!G20","v":0},{"$f":"'3-1借換後の計画'!AD17","v":0},0,0,0,0,{"$f":"'3-1借換後の計画'!AB17","v":0},{"$f":"IF(J43=0,0,G43+ROW()/1000)","v":0},null,null,null,null,null,null,null,null,null,null,null,null,null,null,null,null,null,null,null,null,null,null,42,null,70,70]
[34,"広島県",null,"貸付最終年の据置",{"$f":"VLOOKUP(MIN(F42:F48),F42:I48,4,FALSE)","v":0},2,{"$f":"'3-1借換後の計画'!E21","v":27},{"$f":"'3-1借換後の計画'!G24","v":0},{"$f":"'3-1借換後の計画'!AD21","v":0},0,0,0,0,{"$f":"'3-1借換後の計画'!AB21","v":0},{"$f":"IF(J44=0,0,G44+ROW()/1000)","v":0},null,null,null,null,null,null,null,null,null,null,null,null,null,null,null,null,null,null,null,null,null,null,43,"乳用種肥育牛",25,25]
[35,"山口県",null,"貸付最終年の借換額",{"$f":"VLOOKUP(MIN(F42:F48),F42:H48,3,FALSE)","v":0},2,{"$f":"'3-1借換後の計画'!E25","v":28},{"$f":"'3-1借換後の計画'!G28","v":0},{"$f":"'3-1借換後の計画'!AD25","v":0},0,0,0,0,{"$f":"'3-1借換後の計画'!AB25","v":0},0,null,null,null,null,null,null,null,null,null,null,null,null,null,null,null,null,null,null,null,null,null,null,44,null,{"$f":"AN44&\"～\"&AN46 & \"万円\"","v":"25～50万円"},{"$f":"AO44&\"～\"&AO46 & \"万円\"","v":"25～50万円"}]
[36,"徳島県",null,null,null,2,{"$f":"'3-1借換後の計画'!E29","v":29},{"$f":"'3-1借換後の計画'!G32","v":0},{"$f":"'3-1借換後の計画'!AD29","v":0},0,0,0,0,{"$f":"'3-1借換後の計画'!AB29","v":0},0,null,null,null,null,null,null,null,null,null,null,null,null,null,null,null,null,null,null,null,null,null,null,45,null,50,50]
[37,"香川県",null,null,null,2,{"$f":"'3-1借換後の計画'!E33","v":0},{"$f":"'3-1借換後の計画'!G36","v":0},{"$f":"'3-1借換後の計画'!AD33","v":0},0,0,0,0,{"$f":"'3-1借換後の計画'!AB33","v":0},0,null,null,null,null,null,null,null,null,null,null,null,null,null,null,null,null,null,null,null,null,null,null,46,"ほ育育成牛",20,20]
[38,"愛媛県",null,null,null,2,{"$f":"'3-1借換後の計画'!E37","v":0},{"$f":"'3-1借換後の計画'!G40","v":0},{"$f":"'3-1借換後の計画'!AD37","v":0},0,0,0,0,{"$f":"'3-1借換後の計画'!AB37","v":0},{"$f":"IF(J48=0,0,G48+ROW()/1000)","v":0},null,null,null,null,null,null,null,null,null,null,null,null,null,null,null,null,null,null,null,null,null,null,47,null,{"$f":"AN47&\"～\"&AN49 & \"万円\"","v":"20～40万円"},{"$f":"AO47&\"～\"&AO49 & \"万円\"","v":"20～40万円"}]
[39,"高知県",null,null,null,null,null,null,null,null,null,null,null,null,null,null,null,null,null,null,null,null,null,null,null,null,null,null,null,null,null,null,null,null,null,null,null,48,null,40,40]
[40,"福岡県",null,null,null,null,null,null,null,null,null,null,null,null,null,null,null,null,null,null,null,null,null,null,null,null,null,null,null,null,null,null,null,null,null,null,null,49,"子取り用雌豚",40,40]
[41,"佐賀県",null,null,null,null,null,null,null,null,null,null,null,null,null,null,null,null,null,null,null,null,null,null,null,null,null,null,null,null,null,null,null,null,null,null,null,50,null,{"$f":"AN50&\"～\"&AN52 & \"万円\"","v":"40～80万円"},{"$f":"AO50&\"～\"&AO52 & \"万円\"","v":"40～80万円"}]
[42,"長崎県",null,null,null,null,null,null,null,null,null,null,null,null,null,null,null,null,null,null,null,null,null,null,null,null,null,null,null,null,null,null,null,null,null,null,null,51,null,80,80]
[43,"熊本県"]
[44,"大分県"]
[45,"宮崎県"]
[46,"鹿児島県"]
[47,"沖縄県"]
[]
[]
[]
[]
[]
[]
[]
[]
[]
[]
[]
[]
[]
[]
[]
[]
[null,null,null,null,null,null,null,null,null,null,null,null,null,null,null,null,null,null,null,null,null,null,null,null,null,"A4"]

{"sheet":"1-1経営改善の計画","index":2,"n_rows":47,"n_cols":26,"rows_kept":47,"cut":false,"hidden":false,"merged":[[46,1,46,24],[40,1,40,24],[41,1,41,24],[42,1,42,24],[43,1,43,24],[44,1,44,24],[45,1,45,24],[18,2,25,2],[20,1,35,1],[20,3,20,4],[28,2,35,2],[38,1,38,24],[39,1,39,24],[2,1,3,5],[2,24,3,24],[5,1,8,1],[9,1,14,1],[15,1,17,1],[15,2,17,2]]}
[]
[null," 1.経営改善促進計画 (1)経営改善の計画"]
[null,"項　　　　　　　　目",null,null,null,null,{"$f":"配列シート!$B$8-3","v":-3},{"$f":"G3+1","v":-2},{"$f":"H3+1","v":-1},null,{"$f":"I3+1","v":0},null,{"$f":"K3+1","v":1},null,{"$f":"M3+1","v":2},null,{"$f":"O3+1","v":3},{"$f":"Q3+1","v":4},{"$f":"R3+1","v":5},{"$f":"S3+1","v":6},{"$f":"T3+1","v":7},{"$f":"U3+1","v":8},{"$f":"V3+1","v":9},{"$f":"W3+1","v":10},"摘　　　　要"]
[null,null,null,null,null,null,"実　績","実　績","前年度計画","実　績",{"$f":"IF(配列シート!$B$9=K3,\"計画(目標年次)\",\"計　画\")","v":"計画(目標年次)"},"前年度計画",{"$f":"IF(配列シート!$B$9=M3,\"計画(目標年次)\",\"計　画\")","v":"計　画"},"前年度計画",{"$f":"IF(配列シート!$B$9=O3,\"計画(目標年次)\",\"計　画\")","v":"計　画"},"前年度計画",{"$f":"IF(配列シート!$B$9=Q3,\"計画(目標年次)\",\"計　画\")","v":"計　画"},{"$f":"IF(配列シート!$B$9=R3,\"計画(目標年次)\",\"計　画\")","v":"計　画"},{"$f":"IF(配列シート!$B$9=S3,\"計画(目標年次)\",\"計　画\")","v":"計　画"},{"$f":"IF(配列シート!$B$9=T3,\"計画(目標年次)\",\"計　画\")","v":"計　画"},{"$f":"IF(配列シート!$B$9=U3,\"計画(目標年次)\",\"計　画\")","v":"計　画"},{"$f":"IF(配列シート!$B$9=V3,\"計画(目標年次)\",\"計　画\")","v":"計　画"},{"$f":"IF(配列シート!$B$9=W3,\"計画(目標年次)\",\"計　画\")","v":"計　画"},{"$f":"IF(配列シート!$B$9=X3,\"計画(目標年次)\",\"計　画\")","v":"計　画"}]
[null," 家　族　人　員",null,null,null,"(人）",null,null,null,null,null,null,null,null,null,null,null,null,null,null,null,null,null,null,null," "]
[null,"労働力"," 家  族(実人員)",null,null,"（人）",null,null,null,null,null,null,null,null,null,null,null,null,null,null,null,null,null,null,null," "]
[null,null,null,"うち養豚部門　　　",null,"（人）",null,null,null,null,null,null,null,null,null,null,null,null,null,null,null,null,null,null,null," "]
[null,null," 雇　　用　　　　　　　",null,null,"（延人日）",null,null,null,null,null,null,null,null,null,null,null,null,null,null,null,null,null,null,null," "]
[null,null,null,"うち養豚部門　　　",null,"（延人日）",null,null,null,null,null,null,null,null,null,null,null,null,null,null,null,null,null,null,null," "]
[null,"土地利用面積"," 合　　計",null,null,"（ａ）",{"$f":"G12+G14","v":0},{"$f":"H12+H14","v":0},{"$f":"I12+I14","v":0},{"$f":"J12+J14","v":0},{"$f":"K12+K14","v":0},{"$f":"L12+L14","v":0},{"$f":"M12+M14","v":0},{"$f":"N12+N14","v":0},{"$f":"O12+O14","v":0},{"$f":"P12+P14","v":0},{"$f":"Q12+Q14","v":0},{"$f":"R12+R14","v":0},{"$f":"S12+S14","v":0},{"$f":"T12+T14","v":0},{"$f":"U12+U14","v":0},{"$f":"V12+V14","v":0},{"$f":"W12+W14","v":0},{"$f":"X12+X14","v":0},null," "]
[null,null,null,null,"うち借入地","（ａ）",{"$f":"G13+G15","v":0},{"$f":"H13+H15","v":0},{"$f":"I13+I15","v":0},{"$f":"J13+J15","v":0},{"$f":"K13+K15","v":0},{"$f":"L13+L15","v":0},{"$f":"M13+M15","v":0},{"$f":"N13+N15","v":0},{"$f":"O13+O15","v":0},{"$f":"P13+P15","v":0},{"$f":"Q13+Q15","v":0},{"$f":"R13+R15","v":0},{"$f":"S13+S15","v":0},{"$f":"T13+T15","v":0},{"$f":"U13+U15","v":0},{"$f":"V13+V15","v":0},{"$f":"W13+W15","v":0},{"$f":"X13+X15","v":0},null," "]
[null,null,null,"う ち 田",null,"（ａ）",null,null,null,null,null,null,null,null,null,null,null,null,null,null,null,null,null,null,null," "]
[null,null,null,null,"うち借入地","（ａ）",null,null,null,null,null,null,null,null,null,null,null,null,null,null,null,null,null,null,null," "]
[null,null,null,"う ち 畑",null,"（ａ）",null,null,null,null,null,null,null,null,null,null,null,null,null,null,null,null,null,null,null," "]
[null,null,null,null,"うち借入地","（ａ）",null,null,null,null,null,null,null,null,null,null,null,null,null,null,null,null,null,null,null," "]
[null,"家畜飼","養頭数","子取り用雌豚",null,"（頭）",null,null,null,null,null,null,null,null,null,null,null,null,null,null,null,null,null,null,null," "]
[null,null,null,"肥　育　豚",null,"（頭）",null,null,null,null,null,null,null,null,null,null,null,null,null,null,null,null,null,null,null," "]
[null,null,null,"　　計",null,"（頭）",{"$f":"SUM(G16:G17)","v":0},{"$f":"SUM(H16:H17)","v":0},{"$f":"SUM(I16:I17)","v":0},{"$f":"SUM(J16:J17)","v":0},{"$f":"SUM(K16:K17)","v":0},{"$f":"SUM(L16:L17)","v":0},{"$f":"SUM(M16:M17)","v":0},{"$f":"SUM(N16:N17)","v":0},{"$f":"SUM(O16:O17)","v":0},{"$f":"SUM(P16:P17)","v":0},{"$f":"SUM(Q16:Q17)","v":0},{"$f":"SUM(R16:R17)","v":0},{"$f":"SUM(S16:S17)","v":0},{"$f":"SUM(T16:T17)","v":0},{"$f":"SUM(U16:U17)","v":0},{"$f":"SUM(V16:V17)","v":0},{"$f":"SUM(W16:W17)","v":0},{"$f":"SUM(X16:X17)","v":0},null," "]
[null,null,"子取り用雌豚","１腹当たり正常子豚生産頭数",null,"（頭）",null,null,null,null,null,null,null,null,null,null,null,null,null,null,null,null,null,null,null," "]
[null,null,null,"種雌豚１頭当たり年間平均分娩回数",null,"（回）",null,null,null,null,null,null,null,null,null,null,null,null,null,null,null,null,null,null,null," "]
[null,"生産状況等",null," 　　　〃 　　　年間正常子豚生産頭数",null,"（頭）",null,null,null,null,null,null,null,null,null,null,null,null,null,null,null,null,null,null,null," "]
[null,null,null,"育  成  率 (離乳時)",null,"（％）",null,null,null,null,null,null,null,null,null,null,null,null,null,null,null,null,null,null,null," "]
[null,null,null,"子豚出荷頭数",null,"（頭）",null,null,null,null,null,null,null,null,null,null,null,null,null,null,null,null,null,null,null," "]
[null,null,null," 　〃 　日齢",null,"（日）",null,null,null,null,null,null,null,null,null,null,null,null,null,null,null,null,null,null,null," "]
[null,null,null," 　〃 　体重",null,"(㎏/頭）",null,null,null,null,null,null,null,null,null,null,null,null,null,null,null,null,null,null,null," "]
[null,null,null," 　〃 　価格",null,"（千円/頭）",null,null,null,null,null,null,null,null,null,null,null,null,null,null,null,null,null,null,null," "]
[null,null,null,"子豚導入頭数",null,"（頭）",null,null,null,null,null,null,null,null,null,null,null,null,null,null,null,null,null,null,null," "]
[null,null,null," 　〃 　日齢",null,"（日）",null,null,null,null,null,null,null,null,null,null,null,null,null,null,null,null,null,null,null," "]
[null,null,"肥育豚"," 　〃 　体重",null,"（kg）",null,null,null,null,null,null,null,null,null,null,null,null,null,null,null,null,null,null,null," "]
[null,null,null," 　〃 　価格",null,"（千円/頭）",null,null,null,null,null,null,null,null,null,null,null,null,null,null,null,null,null,null,null," "]
[null,null,null,"肥育豚出荷頭数",null,"（頭）",null,null,null,null,null,null,null,null,null,null,null,null,null,null,null,null,null,null,null," "]
[null,null,null,"　　〃　　日齢",null,"（日）",null,null,null,null,null,null,null,null,null,null,null,null,null,null,null,null,null,null,null," "]
[null,null,null,"　　〃　　生体重",null,"（kg/頭）",null,null,null,null,null,null,null,null,null,null,null,null,null,null,null,null,null,null,null," "]
[null,null,null,"　　〃　　価格",null,"（千円/頭）",null,null,null,null,null,null,null,null,null,null,null,null,null,null,null,null,null,null,null," "]
[null,null,null,"平均肥育日数",null,"（日）",null,null,null,null,null,null,null,null,null,null,null,null,null,null,null,null,null,null,null," "]
[null,null,null,"１日当たり増体重（Ｄ．Ｇ．）",null,"（ｇ）",null,null,null,null,null,null,null,null,null,null,null,null,null,null,null,null,null,null,null," "]
[null,null,null,"事　故　率",null,"（％）",null,null,null,null,null,null,null,null,null,null,null,null,null,null,null,null,null,null,null," "]
[null,null,null,"肥育素豚自家産割合",null,"（％）",null,null,null,null,null,null,null,null,null,null,null,null,null,null,null,null,null,null,null," "]
[null,"(注)１ 経営の種類欄の「繁殖経営」は、養豚部門販売額の７割以上が子豚の販売が占める経営。「一貫経営」は繁殖経営以外のもので肥育用素豚に占める自家生産子豚の割合が７割以上の経営とすること。（前年作成した計画書の経営の種類と同一とすること。）"]
[null,"　　２「家族人員」は、生計を一にする家族実人員を記入すること。法人の場合は空欄とする。（一戸法人は個人扱いとするので、家族実人員を記入する。）"]
[null,"　　３「家族労働力」は、農業に従事する者の実人員を整数で記入すること。"]
[null,"　　４ 家畜飼養頭数（常時）の「子取り用雌豚」は、子豚生産を目的としたおおむね６か月齢以上の雌豚頭数を、「肥育豚」は、肥育を目的としたおおむね30kg以上の肥育豚を記入すること。"]
[null,"　　５ 生産状況等の欄は、飼養する家畜の該当欄に記入すること。導入又は出荷欄は、外部からの導入又は外部への出荷についてのみ記入し、内部に仕向けたものは記入しないこと。"]
[null,"　　  「Ｄ．Ｇ．」＝（（出荷時平均体重－導入時平均体重）÷平均肥育日数）、「事故率」　＝（年間事故頭数÷常時飼養頭数）とすること。"]
[null,"　　　 ただし、肥育豚の「平均肥育日数」及び「Ｄ．Ｇ．」欄は、一貫経営の場合、離乳時から出荷時まで、肥育経営の場合、子豚導入時から出荷時までの数値を記入すること。"]
[null,"　　６「肥育素豚自家産割合」は、肥育用素豚に占める自家産生産子豚の割合を記入すること。"]
[null,"　　７「前年度計画」は、前年度に作成した経営改善計画の当初計画若しくは見直し計画の数値を記入すること。"]

{"sheet":"1-2生活改善の計画","index":3,"n_rows":27,"n_cols":14,"rows_kept":27,"cut":false,"hidden":false,"merged":[[2,12,3,12],[2,1,3,2],[2,3,3,3],[2,4,3,4],[2,6,3,6],[2,7,3,7],[2,10,3,10]]}
[""]
[null," 1.経営改善促進計画 (2)生活改善の計画",null,null,null,null,null,null,null,null,null,null,"（単位：千円）"]
[null,"項　　　目",null,"食料費","住居費","光　熱","被服費","教育費","耐久消費","娯　楽","その他","家計費","摘要"]
[null,null,null,null,null,"水道費",null,null,"財購入費","交際費",null,"合　計"]
[null,{"$f":"配列シート!$B$8-3","v":-3},"実　　績",null,null,null,null,null,null,null,null,{"$f":"SUM(D5:K5)","v":0},null," "]
[null,{"$f":"B5+1","v":-2},"実　　績",null,null,null,null,null,null,null,null,{"$f":"SUM(D6:K6)","v":0},null," "]
[null,{"$f":"B6+1","v":-1},"前年度計画",null,null,null,null,null,null,null,null,{"$f":"SUM(D7:K7)","v":0},null," "]
[null,null,"実　　績",null,null,null,null,null,null,null,null,{"$f":"SUM(D8:K8)","v":0},null," "]
[null,{"$f":"B7+1","v":0},{"$f":"IF(配列シート!$B$9=B9,\"(目標)計画\",\"計　　画\")","v":"(目標)計画"},null,null,null,null,null,null,null,null,{"$f":"SUM(D9:K9)","v":0},null," "]
[null,null,"前年度計画",null,null,null,null,null,null,null,null,{"$f":"SUM(D10:K10)","v":0}]
[null,{"$f":"B9+1","v":1},{"$f":"IF(配列シート!$B$9=B11,\"(目標)計画\",\"計　　画\")","v":"計　　画"},null,null,null,null,null,null,null,null,{"$f":"SUM(D11:K11)","v":0}]
[null,null,"前年度計画",null,null,null,null,null,null,null,null,{"$f":"SUM(D12:K12)","v":0}]
[null,{"$f":"B11+1","v":2},{"$f":"IF(配列シート!$B$9=B13,\"(目標)計画\",\"計　　画\")","v":"計　　画"},null,null,null,null,null,null,null,null,{"$f":"SUM(D13:K13)","v":0},null," "]
[null,null,"前年度計画",null,null,null,null,null,null,null,null,{"$f":"SUM(D14:K14)","v":0},null," "]
[null,{"$f":"B13+1","v":3},{"$f":"IF(配列シート!$B$9=B15,\"(目標)計画\",\"計　　画\")","v":"計　　画"},null,null,null,null,null,null,null,null,{"$f":"SUM(D15:K15)","v":0},null," "]
[null,{"$f":"B15+1","v":4},{"$f":"IF(配列シート!$B$9=B16,\"(目標)計画\",\"計　　画\")","v":"計　　画"},null,null,null,null,null,null,null,null,{"$f":"SUM(D16:K16)","v":0},null," "]
[null,{"$f":"B16+1","v":5},{"$f":"IF(配列シート!$B$9=B17,\"(目標)計画\",\"計　　画\")","v":"計　　画"},null,null,null,null,null,null,null,null,{"$f":"SUM(D17:K17)","v":0}]
[null,{"$f":"B17+1","v":6},{"$f":"IF(配列シート!$B$9=B18,\"(目標)計画\",\"計　　画\")","v":"計　　画"},null,null,null,null,null,null,null,null,{"$f":"SUM(D18:K18)","v":0}]
[null,{"$f":"B18+1","v":7},{"$f":"IF(配列シート!$B$9=B19,\"(目標)計画\",\"計　　画\")","v":"計　　画"},null,null,null,null,null,null,null,null,{"$f":"SUM(D19:K19)","v":0}]
[null,{"$f":"B19+1","v":8},{"$f":"IF(配列シート!$B$9=B20,\"(目標)計画\",\"計　　画\")","v":"計　　画"},null,null,null,null,null,null,null,null,{"$f":"SUM(D20:K20)","v":0}]
[null,{"$f":"B20+1","v":9},{"$f":"IF(配列シート!$B$9=B21,\"(目標)計画\",\"計　　画\")","v":"計　　画"},null,null,null,null,null,null,null,null,{"$f":"SUM(D21:K21)","v":0}]
[null,{"$f":"B21+1","v":10},{"$f":"IF(配列シート!$B$9=B22,\"(目標)計画\",\"計　　画\")","v":"計　　画"},null,null,null,null,null,null,null,null,{"$f":"SUM(D22:K22)","v":0}]
[null,null,"(注)１ 家計費の計画について、節減事項を「摘要」欄に簡潔に記入すること。"]
[null,null,"　　２ 現金収支に係る金額を記入すること。「６．既往借入金年次別約定償還表（条件緩和後）」で生活に関わる借入金の償還額は本表"]
[null,null,"　　　 に記入しないこと。"]
[null,null,"　  ３ その他には、医療費、交通費、臨時費等を記入すること。"]
[null,null,"　  ４「前年度計画」は、前年度に作成した経営改善計画の当初計画若しくは見直し計画の数値を記入すること。"]

{"sheet":"1-3新規投資所要資金内訳","index":4,"n_rows":20,"n_cols":7,"rows_kept":20,"cut":false,"hidden":false,"merged":[]}
[""]
[null," 1.経営改善促進計画 (3)新規投資所要資金内訳",null,null,null,null,"(単位：千円)"]
[null,"項  　　  目",null,"事  業  内  容","事  業  費","資金名・貸付条件","借  入  額"]
[null,{"$f":"配列シート!$B$8","v":0},{"$f":"IF(配列シート!$B$9=B4,\"(目標)計画\",\"計　　画\")","v":"(目標)計画"}]
[null,null,"前年度計画"]
[null,{"$f":"B4+1","v":1},{"$f":"IF(配列シート!$B$9=B6,\"(目標)計画\",\"計　　画\")","v":"計　　画"}]
[null,null,"前年度計画"]
[null,{"$f":"B6+1","v":2},{"$f":"IF(配列シート!$B$9=B8,\"(目標)計画\",\"計　　画\")","v":"計　　画"}]
[null,null,"前年度計画"]
[null,{"$f":"B8+1","v":3},{"$f":"IF(配列シート!$B$9=B10,\"(目標)計画\",\"計　　画\")","v":"計　　画"}]
[null,{"$f":"B10+1","v":4},{"$f":"IF(配列シート!$B$9=B11,\"(目標)計画\",\"計　　画\")","v":"計　　画"}]
[null,{"$f":"B11+1","v":5},{"$f":"IF(配列シート!$B$9=B12,\"(目標)計画\",\"計　　画\")","v":"計　　画"}]
[null,{"$f":"B12+1","v":6},{"$f":"IF(配列シート!$B$9=B13,\"(目標)計画\",\"計　　画\")","v":"計　　画"}]
[null,{"$f":"B13+1","v":7},{"$f":"IF(配列シート!$B$9=B14,\"(目標)計画\",\"計　　画\")","v":"計　　画"}]
[null,{"$f":"B14+1","v":8},{"$f":"IF(配列シート!$B$9=B15,\"(目標)計画\",\"計　　画\")","v":"計　　画"}]
[null,{"$f":"B15+1","v":9},{"$f":"IF(配列シート!$B$9=B16,\"(目標)計画\",\"計　　画\")","v":"計　　画"}]
[null,{"$f":"B16+1","v":10},{"$f":"IF(配列シート!$B$9=B17,\"(目標)計画\",\"計　　画\")","v":"計　　画"}]
[null,"(注)１ 新規投資所要資金には、畜舎、構築物、機械を取得するための借入金を記入し、家畜、飼料等の運転資金を借り入れる場合は本表"]
[null,"　　　 に記入しないこと。"]
[null,"  　２「前年度計画」は、前年度に作成した経営改善計画の当初計画若しくは見直し計画の数値を記入すること。"]

{"sheet":"1-4買掛未払金","index":5,"n_rows":16,"n_cols":5,"rows_kept":16,"cut":false,"hidden":false,"merged":[[3,1,4,1],[3,2,3,3]]}
[""]
[null," 1.経営改善促進計画 (4)買掛未払金(営農勘定・預託勘定等の貸越額を含む。)"]
[null,null,null,"（単位：千円）"]
[null,"借   入   先","　年　月（見込）",null,"※見込み年月は手入力です、年次更新処理で自動変更されませんのでご注意ください。"]
[null,null,"年利率(％)","貸越額"]
[]
[]
[]
[]
[]
[]
[]
[]
[]
[]
[null,"計",null,{"$f":"SUM(D6:D15)","v":0}]

{"sheet":"1-5家畜・飼料の棚卸額","index":6,"n_rows":17,"n_cols":5,"rows_kept":17,"cut":false,"hidden":false,"merged":[[3,1,4,1],[3,2,3,3]]}
[""]
[null," 1.経営改善促進計画 (5)家畜・飼料の棚卸額"]
[null,null,null,"(単位：千円)"]
[null,"品　　目","　年　月（見込）",null,"※見込み年月は手入力です、年次更新処理で自動変更されませんのでご注意ください。"]
[null,null,"数量","金　額"]
[]
[]
[]
[]
[]
[]
[]
[]
[]
[]
[null,"計",null,{"$f":"SUM(D6:D15)","v":0}]
[null,"(注)棚卸額に成畜は含めないこと。"]

{"sheet":"1-6流通資産","index":7,"n_rows":16,"n_cols":6,"rows_kept":16,"cut":false,"hidden":false,"merged":[[5,1,13,1]]}
[""]
[null," 1.経営改善促進計画 (6)流通資産"]
[null,null,null,null,"(単位：千円)"]
[null,"      項      目",null,null,"　年　月（見込）","※見込み年月は手入力です、年次更新処理で自動変更されませんのでご注意ください。"]
[null,"　手　　持　　現　　金"]
[null,"貯　蓄",null,"農 協 貯 金"]
[null,null,"預貯金","その他預貯金"]
[null,null,null,"小　　　計",{"$f":"E6+E7","v":0}]
[null,null,null,"農 協 共 済"]
[null,null,"積立金","その他積立金"]
[null,null,null,"小　　　計",{"$f":"E9+E10","v":0}]
[null,null,"　貸　　付　　金"]
[null,null,"　有　価　証　券"]
[null,null,"計",null,{"$f":"E8+E11+E12+E13","v":0}]
[null,"　売　掛　未　収　入　金"]
[null,"　合　　　　　　　計",null,null,{"$f":"E5+E14+E15","v":0}]

{"sheet":"2-1経営収支計画・個人","index":8,"n_rows":49,"n_cols":28,"rows_kept":49,"cut":false,"hidden":false,"merged":[[40,1,40,26],[41,1,41,26],[42,1,42,26],[43,1,43,26],[44,1,44,26],[45,1,45,26],[2,26,4,26],[9,2,18,2],[10,1,19,1],[22,1,24,1],[37,1,38,4],[39,1,39,26]]}
[""]
[null,"2.経営収支計画(個人)・償還財源算出表(資金繰り)    ",null,null,null,null,null,null,null,null,null,null,null,null,null,null,null,null,null,null,null,null,null,null,null,null,"           (単位：千円)"]
[null,null,null,null,null,null,null,null,{"$f":"配列シート!$B$8-3","v":-3},{"$f":"I3+1","v":-2},{"$f":"J3+1","v":-1},null,{"$f":" K3+1","v":0},null,{"$f":"M3+1","v":1},null,{"$f":"O3+1","v":2},null,{"$f":"Q3+1","v":3},{"$f":"S3+1","v":4},{"$f":"T3+1","v":5},{"$f":"U3+1","v":6},{"$f":"V3+1","v":7},{"$f":"W3+1","v":8},{"$f":"X3+1","v":9},{"$f":"Y3+1","v":10},"算　出　基　礎"]
[null,"項                 目",null,null,null,null,null,null,null,null,"前年度",null,{"$f":"IF(配列シート!$B$9=M3,\"(目標年次)\",\"\")","v":"(目標年次)"},"前年度",{"$f":"IF(配列シート!$B$9=O3,\"(目標年次)\",\"\")","v":""},"前年度",{"$f":"IF(配列シート!$B$9=Q3,\"(目標年次)\",\"\")","v":""},"前年度",{"$f":"IF(配列シート!$B$9=S3,\"(目標年次)\",\"\")","v":""},{"$f":"IF(配列シート!$B$9=T3,\"(目標年次)\",\"\")","v":""},{"$f":"IF(配列シート!$B$9=U3,\"(目標年次)\",\"\")","v":""},{"$f":"IF(配列シート!$B$9=V3,\"(目標年次)\",\"\")","v":""},{"$f":"IF(配列シート!$B$9=W3,\"(目標年次)\",\"\")","v":""},{"$f":"IF(配列シート!$B$9=X3,\"(目標年次)\",\"\")","v":""},{"$f":"IF(配列シート!$B$9=Y3,\"(目標年次)\",\"\")","v":""},{"$f":"IF(配列シート!$B$9=Z3,\"(目標年次)\",\"\")","v":""}]
[null,null,null,null,null,null,null,null,"実  績","実  績","計　画","実  績","計　画","計　画","計　画","計　画","計　画","計　画","計　画","計　画","計　画","計　画","計　画","計　画","計　画","計　画"]
[null,"農"," 養  豚  部  門",null,null,null,null,"(A)",null,null,null,null,null,null,null,null,null,null,null,null,null,null,null,null,null,null,null,"　"]
[null,"収業"," そ  の  他  部  門",null,null,null,null,"(B)",null,null,null,null,null,null,null,null,null,null,null,null,null,null,null,null,null,null,null,"　"]
[null,"入",null,"  　　計",null,null,null,"(A)+(B)",{"$f":"I6+I7","v":0},{"$f":"J6+J7","v":0},{"$f":"K6+K7","v":0},{"$f":"L6+L7","v":0},{"$f":"M6+M7","v":0},{"$f":"N6+N7","v":0},{"$f":"O6+O7","v":0},{"$f":"P6+P7","v":0},{"$f":"Q6+Q7","v":0},{"$f":"R6+R7","v":0},{"$f":"S6+S7","v":0},{"$f":"T6+T7","v":0},{"$f":"U6+U7","v":0},{"$f":"V6+V7","v":0},{"$f":"W6+W7","v":0},{"$f":"X6+X7","v":0},{"$f":"Y6+Y7","v":0},{"$f":"Z6+Z7","v":0},null,"　"]
[null,null,null,"家"," 当該年購入に係るもの  　",null,null,"(ｱ)",null,null,null,null,null,null,null,null,null,null,null,null,null,null,null,null,null,null,null,"　"]
[null,null,"養豚部門","畜"," 次年以降支払うもの                   ",null,null,"(ｲ)",null,null,null,null,null,null,null,null,null,null,null,null,null,null,null,null,null,null,null,"　"]
[null,"農業支出",null,"購"," 前年以前の購入に係るもの          ",null,null,"(ｳ)",null,null,null,null,null,null,null,null,null,null,null,null,null,null,null,null,null,null,null,"　"]
[null,null,null,"入"," 利      息                                ",null,null,"(ｴ)",null,null,null,null,null,null,null,null,null,null,null,null,null,null,null,null,null,null,null,"　"]
[null,null,null,"費","当該年支払額",null,"(ｱ)-(ｲ)+(ｳ)+(ｴ)","(C)",{"$f":"I9-I10+I11+I12","v":0},{"$f":"J9-J10+J11+J12","v":0},{"$f":"K9-K10+K11+K12","v":0},{"$f":"L9-L10+L11+L12","v":0},{"$f":"M9-M10+M11+M12","v":0},{"$f":"N9-N10+N11+N12","v":0},{"$f":"O9-O10+O11+O12","v":0},{"$f":"P9-P10+P11+P12","v":0},{"$f":"Q9-Q10+Q11+Q12","v":0},{"$f":"R9-R10+R11+R12","v":0},{"$f":"S9-S10+S11+S12","v":0},{"$f":"T9-T10+T11+T12","v":0},{"$f":"U9-U10+U11+U12","v":0},{"$f":"V9-V10+V11+V12","v":0},{"$f":"W9-W10+W11+W12","v":0},{"$f":"X9-X10+X11+X12","v":0},{"$f":"Y9-Y10+Y11+Y12","v":0},{"$f":"Z9-Z10+Z11+Z12","v":0},null,"　"]
[null,null,null,"飼"," 当該年購入に係るもの  ",null,null,"(ｵ)",null,null,null,null,null,null,null,null,null,null,null,null,null,null,null,null,null,null,null,"　"]
[null,null,null,"料"," 次年以降支払うもの             ",null,null,"(ｶ)",null,null,null,null,null,null,null,null,null,null,null,null,null,null,null,null,null,null,null,"　"]
[null,null,null,"購"," 前年以前の購入に係るもの       ",null,null,"(ｷ)",null,null,null,null,null,null,null,null,null,null,null,null,null,null,null,null,null,null,null,"　"]
[null,null,null,"入"," 利      息                     ",null,null,"(ｸ)",null,null,null,null,null,null,null,null,null,null,null,null,null,null,null,null,null,null,null,"　"]
[null,null,null,"費","当該年支払額   ",null,"(ｵ)-(ｶ)+(ｷ)+(ｸ)","(D)",{"$f":"I14-I15+I16+I17","v":0},{"$f":"J14-J15+J16+J17","v":0},{"$f":"K14-K15+K16+K17","v":0},{"$f":"L14-L15+L16+L17","v":0},{"$f":"M14-M15+M16+M17","v":0},{"$f":"N14-N15+N16+N17","v":0},{"$f":"O14-O15+O16+O17","v":0},{"$f":"P14-P15+P16+P17","v":0},{"$f":"Q14-Q15+Q16+Q17","v":0},{"$f":"R14-R15+R16+R17","v":0},{"$f":"S14-S15+S16+S17","v":0},{"$f":"T14-T15+T16+T17","v":0},{"$f":"U14-U15+U16+U17","v":0},{"$f":"V14-V15+V16+V17","v":0},{"$f":"W14-W15+W16+W17","v":0},{"$f":"X14-X15+X16+X17","v":0},{"$f":"Y14-Y15+Y16+Y17","v":0},{"$f":"Z14-Z15+Z16+Z17","v":0},null,"　"]
[null,null,null," そ  の  他  支  出 ",null,null,null,"(E)",null,null,null,null,null,null,null,null,null,null,null,null,null,null,null,null,null,null,null,"　"]
[null,null,null,"    小　　　計",null,null,"(C)+(D)+(E)","(F)",{"$f":"I13+I18+I19","v":0},{"$f":"J13+J18+J19","v":0},{"$f":"K13+K18+K19","v":0},{"$f":"L13+L18+L19","v":0},{"$f":"M13+M18+M19","v":0},{"$f":"N13+N18+N19","v":0},{"$f":"O13+O18+O19","v":0},{"$f":"P13+P18+P19","v":0},{"$f":"Q13+Q18+Q19","v":0},{"$f":"R13+R18+R19","v":0},{"$f":"S13+S18+S19","v":0},{"$f":"T13+T18+T19","v":0},{"$f":"U13+U18+U19","v":0},{"$f":"V13+V18+V19","v":0},{"$f":"W13+W18+W19","v":0},{"$f":"X13+X18+X19","v":0},{"$f":"Y13+Y18+Y19","v":0},{"$f":"Z13+Z18+Z19","v":0},null,"　"]
[null,null," そ  の  他  部  門  支  出",null,null,null,null,"(G)",null,null,null,null,null,null,null,null,null,null,null,null,null,null,null,null,null,null,null,"　"]
[null,null,"           計",null,null,null,null,"(F)+(G)",{"$f":"I20+I21","v":0},{"$f":"J20+J21","v":0},{"$f":"K20+K21","v":0},{"$f":"L20+L21","v":0},{"$f":"M20+M21","v":0},{"$f":"N20+N21","v":0},{"$f":"O20+O21","v":0},{"$f":"P20+P21","v":0},{"$f":"Q20+Q21","v":0},{"$f":"R20+R21","v":0},{"$f":"S20+S21","v":0},{"$f":"T20+T21","v":0},{"$f":"U20+U21","v":0},{"$f":"V20+V21","v":0},{"$f":"W20+W21","v":0},{"$f":"X20+X21","v":0},{"$f":"Y20+Y21","v":0},{"$f":"Z20+Z21","v":0},null,"　"]
[null,"差引農業収支"," 養  豚  部  門",null,null,null,"(A)-(F)","(H)",{"$f":"I6-I20","v":0},{"$f":"J6-J20","v":0},{"$f":"K6-K20","v":0},{"$f":"L6-L20","v":0},{"$f":"M6-M20","v":0},{"$f":"N6-N20","v":0},{"$f":"O6-O20","v":0},{"$f":"P6-P20","v":0},{"$f":"Q6-Q20","v":0},{"$f":"R6-R20","v":0},{"$f":"S6-S20","v":0},{"$f":"T6-T20","v":0},{"$f":"U6-U20","v":0},{"$f":"V6-V20","v":0},{"$f":"W6-W20","v":0},{"$f":"X6-X20","v":0},{"$f":"Y6-Y20","v":0},{"$f":"Z6-Z20","v":0},null,"　"]
[null,null," そ  の  他  部  門",null,null,null,"(B)-(G)","(I)",{"$f":"I7-I21","v":0},{"$f":"J7-J21","v":0},{"$f":"K7-K21","v":0},{"$f":"L7-L21","v":0},{"$f":"M7-M21","v":0},{"$f":"N7-N21","v":0},{"$f":"O7-O21","v":0},{"$f":"P7-P21","v":0},{"$f":"Q7-Q21","v":0},{"$f":"R7-R21","v":0},{"$f":"S7-S21","v":0},{"$f":"T7-T21","v":0},{"$f":"U7-U21","v":0},{"$f":"V7-V21","v":0},{"$f":"W7-W21","v":0},{"$f":"X7-X21","v":0},{"$f":"Y7-Y21","v":0},{"$f":"Z7-Z21","v":0},null,"　"]
[null,null," 　      計",null,null,null,"(H)+(I)","(J)",{"$f":"I23+I24","v":0},{"$f":"J23+J24","v":0},{"$f":"K23+K24","v":0},{"$f":"L23+L24","v":0},{"$f":"M23+M24","v":0},{"$f":"N23+N24","v":0},{"$f":"O23+O24","v":0},{"$f":"P23+P24","v":0},{"$f":"Q23+Q24","v":0},{"$f":"R23+R24","v":0},{"$f":"S23+S24","v":0},{"$f":"T23+T24","v":0},{"$f":"U23+U24","v":0},{"$f":"V23+V24","v":0},{"$f":"W23+W24","v":0},{"$f":"X23+X24","v":0},{"$f":"Y23+Y24","v":0},{"$f":"Z23+Z24","v":0},null,"　"]
[null,"　農"," 農  外  収  入",null,null,null,null,"(ｹ)",null,null,null,null,null,null,null,null,null,null,null,null,null,null,null,null,null,null,null,"　"]
[null,"収外"," 農  外  支  出",null,null,null,null,"(ｺ)",null,null,null,null,null,null,null,null,null,null,null,null,null,null,null,null,null,null,null,"　"]
[null,"支","　　   計",null,null,null,"(ｹ)-(ｺ)","(K)",{"$f":"I26-I27","v":0},{"$f":"J26-J27","v":0},{"$f":"K26-K27","v":0},{"$f":"L26-L27","v":0},{"$f":"M26-M27","v":0},{"$f":"N26-N27","v":0},{"$f":"O26-O27","v":0},{"$f":"P26-P27","v":0},{"$f":"Q26-Q27","v":0},{"$f":"R26-R27","v":0},{"$f":"S26-S27","v":0},{"$f":"T26-T27","v":0},{"$f":"U26-U27","v":0},{"$f":"V26-V27","v":0},{"$f":"W26-W27","v":0},{"$f":"X26-X27","v":0},{"$f":"Y26-Y27","v":0},{"$f":"Z26-Z27","v":0},null,"　"]
[null," 農  家  収  入",null,null,null,null,"(J)+(K)","(L)",{"$f":"I25+I28","v":0},{"$f":"J25+J28","v":0},{"$f":"K25+K28","v":0},{"$f":"L25+L28","v":0},{"$f":"M25+M28","v":0},{"$f":"N25+N28","v":0},{"$f":"O25+O28","v":0},{"$f":"P25+P28","v":0},{"$f":"Q25+Q28","v":0},{"$f":"R25+R28","v":0},{"$f":"S25+S28","v":0},{"$f":"T25+T28","v":0},{"$f":"U25+U28","v":0},{"$f":"V25+V28","v":0},{"$f":"W25+W28","v":0},{"$f":"X25+X28","v":0},{"$f":"Y25+Y28","v":0},{"$f":"Z25+Z28","v":0},null,"　"]
[null," 租  税  公  課  諸  負  担",null,null,null,null,null,"(M)",null,null,null,null,null,null,null,null,null,null,null,null,null,null,null,null,null,null,null,"　"]
[null," 出稼ぎ、被贈、年金、扶助等の収入",null,null,null,null,null,"(N)",null,null,null,null,null,null,null,null,null,null,null,null,null,null,null,null,null,null,null,"　"]
[null,null,null,null," う ち 国 の 奨 励 金",null,null,null,null,null,null,null,null,null,null,null,null,null,null,null,null,null,null,null,null,null,null,"　"]
[null," 可  処  分  収  入",null,null,null,null,"(L)-(M)+(N)","(O)",{"$f":"I29-I30+I31","v":0},{"$f":"J29-J30+J31","v":0},{"$f":"K29-K30+K31","v":0},{"$f":"L29-L30+L31","v":0},{"$f":"M29-M30+M31","v":0},{"$f":"N29-N30+N31","v":0},{"$f":"O29-O30+O31","v":0},{"$f":"P29-P30+P31","v":0},{"$f":"Q29-Q30+Q31","v":0},{"$f":"R29-R30+R31","v":0},{"$f":"S29-S30+S31","v":0},{"$f":"T29-T30+T31","v":0},{"$f":"U29-U30+U31","v":0},{"$f":"V29-V30+V31","v":0},{"$f":"W29-W30+W31","v":0},{"$f":"X29-X30+X31","v":0},{"$f":"Y29-Y30+Y31","v":0},{"$f":"Z29-Z30+Z31","v":0},null,"　"]
[null," 家  計  費",null,null,null,null,null,"(P)",{"$f":"CELL(\"contents\",'1-2生活改善の計画'!L5)","v":0},{"$f":"CELL(\"contents\",'1-2生活改善の計画'!L6)","v":0},{"$f":"CELL(\"contents\",'1-2生活改善の計画'!L7)","v":0},{"$f":"CELL(\"contents\",'1-2生活改善の計画'!L8)","v":0},{"$f":"CELL(\"contents\",'1-2生活改善の計画'!L9)","v":0},{"$f":"CELL(\"contents\",'1-2生活改善の計画'!L10)","v":0},{"$f":"CELL(\"contents\",'1-2生活改善の計画'!L11)","v":0},{"$f":"CELL(\"contents\",'1-2生活改善の計画'!L12)","v":0},{"$f":"CELL(\"contents\",'1-2生活改善の計画'!L13)","v":0},{"$f":"CELL(\"contents\",'1-2生活改善の計画'!L14)","v":0},{"$f":"CELL(\"contents\",'1-2生活改善の計画'!L15)","v":0},{"$f":"CELL(\"contents\",'1-2生活改善の計画'!L16)","v":0},{"$f":"CELL(\"contents\",'1-2生活改善の計画'!L17)","v":0},{"$f":"CELL(\"contents\",'1-2生活改善の計画'!L18)","v":0},{"$f":"CELL(\"contents\",'1-2生活改善の計画'!L19)","v":0},{"$f":"CELL(\"contents\",'1-2生活改善の計画'!L20)","v":0},{"$f":"CELL(\"contents\",'1-2生活改善の計画'!L21)","v":0},{"$f":"CELL(\"contents\",'1-2生活改善の計画'!L22)","v":0},null,"　"]
[null," 資  金  過  不  足",null,null,null,null,"(O)-(P)","(Q)",{"$f":"I33-I34","v":0},{"$f":"J33-J34","v":0},{"$f":"K33-K34","v":0},{"$f":"L33-L34","v":0},{"$f":"M33-M34","v":0},{"$f":"N33-N34","v":0},{"$f":"O33-O34","v":0},{"$f":"P33-P34","v":0},{"$f":"Q33-Q34","v":0},{"$f":"R33-R34","v":0},{"$f":"S33-S34","v":0},{"$f":"T33-T34","v":0},{"$f":"U33-U34","v":0},{"$f":"V33-V34","v":0},{"$f":"W33-W34","v":0},{"$f":"X33-X34","v":0},{"$f":"Y33-Y34","v":0},{"$f":"Z33-Z34","v":0},null,"　"]
[null," 資  産  処  分",null,null,null,null,null,"(R)",null,null,null,null,null,null,null,null,null,null,null,null,null,null,null,null,null,null,null,"　"]
[null," 預  貯  金  引  出  額",null,null,null,null,null,"(S)",null,null,null,null,null,null,null,null,null,null,null,null,null,null,null,null,null,null,null,"　"]
[null," 償  還  財  源",null,null,null,"計　　算","(Q)+(R)+(S)","(T)",{"$f":"I35+I36+I37","v":0},{"$f":"J35+J36+J37","v":0},{"$f":"K35+K36+K37","v":0},{"$f":"L35+L36+L37","v":0},{"$f":"M35+M36+M37","v":0},{"$f":"N35+N36+N37","v":0},{"$f":"O35+O36+O37","v":0},{"$f":"P35+P36+P37","v":0},{"$f":"Q35+Q36+Q37","v":0},{"$f":"R35+R36+R37","v":0},{"$f":"S35+S36+S37","v":0},{"$f":"T35+T36+T37","v":0},{"$f":"U35+U36+U37","v":0},{"$f":"V35+V36+V37","v":0},{"$f":"W35+W36+W37","v":0},{"$f":"X35+X36+X37","v":0},{"$f":"Y35+Y36+Y37","v":0},{"$f":"Z35+Z36+Z37","v":0},null,"　"]
[null,null,null,null,null,"修正入力","(Q)+(R)+(S)","(T)",null,null,null,null,null,null,null,null,null,null,null,null,null,null,null,null,null,null,null,"　"]
[null,"(注)　 この表は、借入金の償還に充てることができる償還財源を出すためのものであるから、現金収支に係る金額のみを、次により記入すること。なお、借入金で対応したものについては、これを清算した年の支出として計上すること。"]
[null,"　　１「農業収入」の(１)「養豚部門」には、たい肥販売を含む。(２)「その他部門」には(１)以外の農業収入のすべてを記入し、算出基礎欄に、米、野菜等具体的に記入すること。　"]
[null,"　　２「農業支出」の「その他支出」は、(１)養豚部門のうち、家畜及び飼料購入費以外の支出とし、減価償却費及び家族労働費は除くこと。(２)「その他部門支出」は、養豚以外の、米、野菜等の農業生産に係る支出とし(１)の「その他支出」と"]
[null,"　　　 混同しないこと。"]
[null,"　　３「農外収入」は、自営する兼業収入、被用労賃、俸給手当、貸付小作料、配当利子及びその他雑収入とし、被贈、年金、扶助等の収入を除いたものとすること。"]
[null,"　　４「国の奨励金」は、国の施策に係る奨励金のみを、(Ｎ)の内数として記入すること。"]
[null,"　　５「前年度計画」は、前年度に作成した経営改善計画の当初計画若しくは見直し計画の数値を記入すること。"]
[]
[]
[null," 償  還  財  源",null,null,null,null,"(Q)+(R)+(S)","(T)",{"$f":"IF(I39=\"\",I38,I39)","v":0},{"$f":"IF(J39=\"\",J38,J39)","v":0},{"$f":"IF(K39=\"\",K38,K39)","v":0},{"$f":"IF(L39=\"\",L38,L39)","v":0},{"$f":"IF(M39=\"\",M38,M39)","v":0},{"$f":"IF(N39=\"\",N38,N39)","v":0},{"$f":"IF(O39=\"\",O38,O39)","v":0},{"$f":"IF(P39=\"\",P38,P39)","v":0},{"$f":"IF(Q39=\"\",Q38,Q39)","v":0},{"$f":"IF(R39=\"\",R38,R39)","v":0},{"$f":"IF(S39=\"\",S38,S39)","v":0},{"$f":"IF(T39=\"\",T38,T39)","v":0},{"$f":"IF(U39=\"\",U38,U39)","v":0},{"$f":"IF(V39=\"\",V38,V39)","v":0},{"$f":"IF(W39=\"\",W38,W39)","v":0},{"$f":"IF(X39=\"\",X38,X39)","v":0},{"$f":"IF(Y39=\"\",Y38,Y39)","v":0},{"$f":"IF(Z39=\"\",Z38,Z39)","v":0}]

{"sheet":"2-1経営収支計画・法人","index":9,"n_rows":39,"n_cols":26,"rows_kept":39,"cut":false,"hidden":false,"merged":[[31,1,31,24],[32,1,32,24],[2,1,4,5],[5,1,7,1],[10,1,13,1],[27,1,28,3],[29,1,29,24],[30,1,30,24]]}
[""]
[null,"2.経営収支計画(法人)・償還財源算出表(資金繰り)    ",null,null,null,null,null,null,null,null,null,null,null,null,null,null,null,null,null,null,null,null,null,null,"           (単位：千円)"]
[null,"項       　  目",null,null,null,null,{"$f":"配列シート!B8-3","v":-3},{"$f":"G3+1","v":-2},{"$f":"H3+1","v":-1},null,{"$f":"I3+1","v":0},null,{"$f":"K3+1","v":1},null,{"$f":"M3+1","v":2},null,{"$f":"O3+1","v":3},{"$f":"Q3+1","v":4},{"$f":"R3+1","v":5},{"$f":"S3+1","v":6},{"$f":"T3+1","v":7},{"$f":"U3+1","v":8},{"$f":"V3+1","v":9},{"$f":"W3+1","v":10}]
[null,null,null,null,null,null,null,null,"前年度",null,{"$f":"IF(配列シート!$B$9=K3,\"(目標年次)\",\"\")","v":"(目標年次)"},"前年度",{"$f":"IF(配列シート!$B$9=M3,\"(目標年次)\",\"\")","v":""},"前年度",{"$f":"IF(配列シート!$B$9=O3,\"(目標年次)\",\"\")","v":""},"前年度",{"$f":"IF(配列シート!$B$9=Q3,\"(目標年次)\",\"\")","v":""},{"$f":"IF(配列シート!$B$9=R3,\"(目標年次)\",\"\")","v":""},{"$f":"IF(配列シート!$B$9=S3,\"(目標年次)\",\"\")","v":""},{"$f":"IF(配列シート!$B$9=T3,\"(目標年次)\",\"\")","v":""},{"$f":"IF(配列シート!$B$9=U3,\"(目標年次)\",\"\")","v":""},{"$f":"IF(配列シート!$B$9=V3,\"(目標年次)\",\"\")","v":""},{"$f":"IF(配列シート!$B$9=W3,\"(目標年次)\",\"\")","v":""},{"$f":"IF(配列シート!$B$9=X3,\"(目標年次)\",\"\")","v":""},"算　出　基　礎"]
[null,null,null,null,null,null,"実　績","実　績","計　画","実  績","計　画","計　画","計　画","計　画","計　画","計　画","計　画","計　画","計　画","計　画","計　画","計　画","計　画","計　画"]
[null,"売上高"," 畜　産　部　門",null,null,null,null,null,null,null,null,null,null,null,null,null,null,null,null,null,null,null,null,null,null,"　"]
[null,null," そ　の　他　部　門",null,null,null,null,null,null,null,null,null,null,null,null,null,null,null,null,null,null,null,null,null,null,"　"]
[null,null," 　　　　計",null,null,"(1)",{"$f":"G6+G7","v":0},{"$f":"H6+H7","v":0},{"$f":"I6+I7","v":0},{"$f":"J6+J7","v":0},{"$f":"K6+K7","v":0},{"$f":"L6+L7","v":0},{"$f":"M6+M7","v":0},{"$f":"N6+N7","v":0},{"$f":"O6+O7","v":0},{"$f":"P6+P7","v":0},{"$f":"Q6+Q7","v":0},{"$f":"R6+R7","v":0},{"$f":"S6+S7","v":0},{"$f":"T6+T7","v":0},{"$f":"U6+U7","v":0},{"$f":"V6+V7","v":0},{"$f":"W6+W7","v":0},{"$f":"X6+X7","v":0},null,"　"]
[null,null," 期　首　棚　卸　高",null,null,"(2)",null,null,null,null,null,null,null,null,null,null,null,null,null,null,null,null,null,null,null,"　"]
[null,null," 当　期　製　造　原　価 ",null,null,"(3)",null,null,null,null,null,null,null,null,null,null,null,null,null,null,null,null,null,null,null,"　"]
[null,"売上原価",null,"うち家畜購入費",null,null,null,null,null,null,null,null,null,null,null,null,null,null,null,null,null,null,null,null,null,"　"]
[null,null,null,"うち飼料購入費",null,null,null,null,null,null,null,null,null,null,null,null,null,null,null,null,null,null,null,null,null,"　"]
[null,null,null,"うち減価償却費 ",null,"(4)",null,null,null,null,null,null,null,null,null,null,null,null,null,null,null,null,null,null,null,"　"]
[null,null," 期中成豚振替額 ",null,null,"(5)",null,null,null,null,null,null,null,null,null,null,null,null,null,null,null,null,null,null,null,"　"]
[null,null," 期末棚卸高 ",null,null,"(6)",null,null,null,null,null,null,null,null,null,null,null,null,null,null,null,null,null,null,null,"　"]
[null,null," 　　計",null,"(2)+(3)-(5)-(6)","(7)",{"$f":"G9+G10-G14-G15","v":0},{"$f":"H9+H10-H14-H15","v":0},{"$f":"I9+I10-I14-I15","v":0},{"$f":"J9+J10-J14-J15","v":0},{"$f":"K9+K10-K14-K15","v":0},{"$f":"L9+L10-L14-L15","v":0},{"$f":"M9+M10-M14-M15","v":0},{"$f":"N9+N10-N14-N15","v":0},{"$f":"O9+O10-O14-O15","v":0},{"$f":"P9+P10-P14-P15","v":0},{"$f":"Q9+Q10-Q14-Q15","v":0},{"$f":"R9+R10-R14-R15","v":0},{"$f":"S9+S10-S14-S15","v":0},{"$f":"T9+T10-T14-T15","v":0},{"$f":"U9+U10-U14-U15","v":0},{"$f":"V9+V10-V14-V15","v":0},{"$f":"W9+W10-W14-W15","v":0},{"$f":"X9+X10-X14-X15","v":0},null,"　"]
[null," 売　上　利　益",null,null,"(1)-(7)","(8)",{"$f":"G8-G16","v":0},{"$f":"H8-H16","v":0},{"$f":"I8-I16","v":0},{"$f":"J8-J16","v":0},{"$f":"K8-K16","v":0},{"$f":"L8-L16","v":0},{"$f":"M8-M16","v":0},{"$f":"N8-N16","v":0},{"$f":"O8-O16","v":0},{"$f":"P8-P16","v":0},{"$f":"Q8-Q16","v":0},{"$f":"R8-R16","v":0},{"$f":"S8-S16","v":0},{"$f":"T8-T16","v":0},{"$f":"U8-U16","v":0},{"$f":"V8-V16","v":0},{"$f":"W8-W16","v":0},{"$f":"X8-X16","v":0},null,"　"]
[null," 販売費及び一般管理費",null,null,null,"(9)",null,null,null,null,null,null,null,null,null,null,null,null,null,null,null,null,null,null,null,"　"]
[null,null,"うち役員報酬",null,null,null,null,null,null,null,null,null,null,null,null,null,null,null,null,null,null,null,null,null,null,"　"]
[null," 事　業　利　益",null,null,"(8)-(9)","(10)",{"$f":"G17-G18","v":0},{"$f":"H17-H18","v":0},{"$f":"I17-I18","v":0},{"$f":"J17-J18","v":0},{"$f":"K17-K18","v":0},{"$f":"L17-L18","v":0},{"$f":"M17-M18","v":0},{"$f":"N17-N18","v":0},{"$f":"O17-O18","v":0},{"$f":"P17-P18","v":0},{"$f":"Q17-Q18","v":0},{"$f":"R17-R18","v":0},{"$f":"S17-S18","v":0},{"$f":"T17-T18","v":0},{"$f":"U17-U18","v":0},{"$f":"V17-V18","v":0},{"$f":"W17-W18","v":0},{"$f":"X17-X18","v":0},null,"　"]
[null," 事 業 外 収 入       ",null,null,null,"(11)",null,null,null,null,null,null,null,null,null,null,null,null,null,null,null,null,null,null,null,"　"]
[null,null,"うち国の奨励金",null,null,null,null,null,null,null,null,null,null,null,null,null,null,null,null,null,null,null,null,null,null,"　"]
[null," 事 業 外 費 用           ",null,null,null,"(12)",null,null,null,null,null,null,null,null,null,null,null,null,null,null,null,null,null,null,null,"　"]
[null,null,"うち支払利息      ",null,null,"(13)",null,null,null,null,null,null,null,null,null,null,null,null,null,null,null,null,null,null,null,"　"]
[null," 経　常　利　益",null,null,"(10)+(11)-(12)","(14)",{"$f":"G20+G21-G23","v":0},{"$f":"H20+H21-H23","v":0},{"$f":"I20+I21-I23","v":0},{"$f":"J20+J21-J23","v":0},{"$f":"K20+K21-K23","v":0},{"$f":"L20+L21-L23","v":0},{"$f":"M20+M21-M23","v":0},{"$f":"N20+N21-N23","v":0},{"$f":"O20+O21-O23","v":0},{"$f":"P20+P21-P23","v":0},{"$f":"Q20+Q21-Q23","v":0},{"$f":"R20+R21-R23","v":0},{"$f":"S20+S21-S23","v":0},{"$f":"T20+T21-T23","v":0},{"$f":"U20+U21-U23","v":0},{"$f":"V20+V21-V23","v":0},{"$f":"W20+W21-W23","v":0},{"$f":"X20+X21-X23","v":0},null,"　"]
[null," 資産処分・預貯金充当  ",null,null,null,"(15)",null,null,null,null,null,null,null,null,null,null,null,null,null,null,null,null,null,null,null,"　"]
[null," 償　還　財　源",null,null,"(14)+(15)","(16)",{"$f":"G25+G26","v":0},{"$f":"H25+H26","v":0},{"$f":"I25+I26","v":0},{"$f":"J25+J26","v":0},{"$f":"K25+K26","v":0},{"$f":"L25+L26","v":0},{"$f":"M25+M26","v":0},{"$f":"N25+N26","v":0},{"$f":"O25+O26","v":0},{"$f":"P25+P26","v":0},{"$f":"Q25+Q26","v":0},{"$f":"R25+R26","v":0},{"$f":"S25+S26","v":0},{"$f":"T25+T26","v":0},{"$f":"U25+U26","v":0},{"$f":"V25+V26","v":0},{"$f":"W25+W26","v":0},{"$f":"X25+X26","v":0},null,"　"]
[null," (修正)償還財源",null,null,"計　　算","(T)",{"$f":"G8-G10+G13-G18+G21-G23+G24+G26","v":0},{"$f":"H8-H10+H13-H18+H21-H23+H24+H26","v":0},{"$f":"I8-I10+I13-I18+I21-I23+I24+I26","v":0},{"$f":"J8-J10+J13-J18+J21-J23+J24+J26","v":0},{"$f":"K8-K10+K13-K18+K21-K23+K24+K26","v":0},{"$f":"L8-L10+L13-L18+L21-L23+L24+L26","v":0},{"$f":"M8-M10+M13-M18+M21-M23+M24+M26","v":0},{"$f":"N8-N10+N13-N18+N21-N23+N24+N26","v":0},{"$f":"O8-O10+O13-O18+O21-O23+O24+O26","v":0},{"$f":"P8-P10+P13-P18+P21-P23+P24+P26","v":0},{"$f":"Q8-Q10+Q13-Q18+Q21-Q23+Q24+Q26","v":0},{"$f":"R8-R10+R13-R18+R21-R23+R24+R26","v":0},{"$f":"S8-S10+S13-S18+S21-S23+S24+S26","v":0},{"$f":"T8-T10+T13-T18+T21-T23+T24+T26","v":0},{"$f":"U8-U10+U13-U18+U21-U23+U24+U26","v":0},{"$f":"V8-V10+V13-V18+V21-V23+V24+V26","v":0},{"$f":"W8-W10+W13-W18+W21-W23+W24+W26","v":0},{"$f":"X8-X10+X13-X18+X21-X23+X24+X26","v":0},null,"　"]
[null,null,null,null,"修正入力","(T)"]
[null,"(注)１ 法人経営は、法人決算書の損益計算書より転記すること。",null,null,null,null,null,null,null,null,null,null,null,null,null,null,null,null,null,null,null,null,null,null,null,"　"]
[null,"  　２ 負債整理計画へは（修正）償還財源を転記すること。",null,null,null,null,null,null,null,null,null,null,null,null,null,null,null,null,null,null,null,null,null,null,null,"　"]
[null,"  　３（修正）償還財源(T)=(1)-(3)+(4)-(9)+(11)-(12)+(13)+(15)で算出した額を記入すること。",null,null,null,null,null,null,null,null,null,null,null,null,null,null,null,null,null,null,null,null,null,null,null,"　"]
[null,"  　４「前年度計画」は、前年度に作成した経営改善計画の当初計画若しくは見直し計画の数値を記入すること。",null,null,null,null,null,null,null,null,null,null,null,null,null,null,null,null,null,null,null,null,null,null,null,"　"]
[null,null,null,null,null,null,null,null,null,null,null,null,null,null,null,null,null,null,null,null,null,null,null,null,null,"　"]
[null,null,null,null,null,null,null,null,null,null,null,null,null,null,null,null,null,null,null,null,null,null,null,null,null,"　"]
[]
[null,"(修正)償還財源",null,null,null,null,{"$f":"IF(G29=\"\",G28,G29)","v":0},{"$f":"IF(H29=\"\",H28,H29)","v":0},{"$f":"IF(I29=\"\",I28,I29)","v":0},{"$f":"IF(J29=\"\",J28,J29)","v":0},{"$f":"IF(K29=\"\",K28,K29)","v":0},{"$f":"IF(L29=\"\",L28,L29)","v":0},{"$f":"IF(M29=\"\",M28,M29)","v":0},{"$f":"IF(N29=\"\",N28,N29)","v":0},{"$f":"IF(O29=\"\",O28,O29)","v":0},{"$f":"IF(P29=\"\",P28,P29)","v":0},{"$f":"IF(Q29=\"\",Q28,Q29)","v":0},{"$f":"IF(R29=\"\",R28,R29)","v":0},{"$f":"IF(S29=\"\",S28,S29)","v":0},{"$f":"IF(T29=\"\",T28,T29)","v":0},{"$f":"IF(U29=\"\",U28,U29)","v":0},{"$f":"IF(V29=\"\",V28,V29)","v":0},{"$f":"IF(W29=\"\",W28,W29)","v":0},{"$f":"IF(X29=\"\",X28,X29)","v":0}]
[]
[null,"修正経常利益",null,null,null,null,{"$f":"G8-G10+G13-G18+G21-G23+G24","v":0},{"$f":"H8-H10+H13-H18+H21-H23+H24","v":0},{"$f":"I8-I10+I13-I18+I21-I23+I24","v":0},{"$f":"J8-J10+J13-J18+J21-J23+J24","v":0},{"$f":"K8-K10+K13-K18+K21-K23+K24","v":0},{"$f":"L8-L10+L13-L18+L21-L23+L24","v":0},{"$f":"M8-M10+M13-M18+M21-M23+M24","v":0},{"$f":"N8-N10+N13-N18+N21-N23+N24","v":0},{"$f":"O8-O10+O13-O18+O21-O23+O24","v":0},{"$f":"P8-P10+P13-P18+P21-P23+P24","v":0},{"$f":"Q8-Q10+Q13-Q18+Q21-Q23+Q24","v":0},{"$f":"R8-R10+R13-R18+R21-R23+R24","v":0},{"$f":"S8-S10+S13-S18+S21-S23+S24","v":0},{"$f":"T8-T10+T13-T18+T21-T23+T24","v":0},{"$f":"U8-U10+U13-U18+U21-U23+U24","v":0},{"$f":"V8-V10+V13-V18+V21-V23+V24","v":0},{"$f":"W8-W10+W13-W18+W21-W23+W24","v":0},{"$f":"X8-X10+X13-X18+X21-X23+X24","v":0}]

{"sheet":"3-1借換後の計画","index":10,"n_rows":92,"n_cols":31,"rows_kept":92,"cut":false,"hidden":false,"merged":[[32,7,33,7],[28,7,29,7],[14,7,15,7],[12,7,13,7],[5,1,11,1],[5,2,11,2],[5,3,6,7],[7,3,8,7],[9,3,10,7],[49,1,49,30],[66,1,73,1],[16,1,37,1],[43,1,44,2],[42,3,43,6],[38,7,39,7],[34,7,35,7],[30,7,31,7],[36,7,37,7],[15,2,32,2],[16,7,17,7],[20,7,21,7],[24,7,25,7],[22,7,23,7],[18,7,19,7],[26,7,27,7]]}
[]
[null,"3.負債整理計画･(1)借換後の計画",null,null,null,null,null,null,null,null,null,null,null,null,null,null,null,null,null,null,null,null,null,null,null,null,null,null,null,null,"（単位：千円）"]
[null,null,null,null,null,null,null,null,null,{"$f":"配列シート!$B$8-3","v":-3},{"$f":"J3+1","v":-2},{"$f":"K3+1","v":-1},null,{"$f":"L3+1","v":0},null,{"$f":"N3+1","v":1},null,{"$f":"P3+1","v":2},null,{"$f":"R3+1","v":3},{"$f":"T3+1","v":4},5,6,7,8,9,10,"償還期間"]
[null,"区          分",null,null,null,null,null,null,null,null,null,"前年度",null,{"$f":"IF(配列シート!$B$9=N3,\"(目標年次)\",\"\")","v":"(目標年次)"},"前年度",{"$f":"IF(配列シート!$B$9=P3,\"(目標年次)\",\"\")","v":""},"前年度",{"$f":"IF(配列シート!$B$9=R3,\"(目標年次)\",\"\")","v":""},"前年度",{"$f":"IF(配列シート!$B$9=T3,\"(目標年次)\",\"\")","v":""},{"$f":"IF(配列シート!$B$9=U3,\"(目標年次)\",\"\")","v":""},{"$f":"IF(配列シート!$B$9=V3,\"(目標年次)\",\"\")","v":""},{"$f":"IF(配列シート!$B$9=W3,\"(目標年次)\",\"\")","v":""},{"$f":"IF(配列シート!$B$9=X3,\"(目標年次)\",\"\")","v":""},{"$f":"IF(配列シート!$B$9=Y3,\"(目標年次)\",\"\")","v":""},{"$f":"IF(配列シート!$B$9=Z3,\"(目標年次)\",\"\")","v":""},{"$f":"IF(配列シート!$B$9=AA3,\"(目標年次)\",\"\")","v":""},null,null,"うち"]
[null,null,null,null,null,null,null,null,null,"実　績","実　績","計　画","実　績","計　画","計　画","計　画","計　画","計　画","計　画","計　画","計　画","計　画","計　画","計　画","計　画","計　画","計　画",null,null,"据置"]
[null,"条件緩和後","約定償還額","制度資金(除く畜特)",null,null,null,null,"計　算",{"$f":"CELL(\"CONTENTS\",'6償還表(条件緩和後)'!M18)+CELL(\"contents\",'6償還表(条件緩和後)'!M30)+CELL(\"contents\",'6償還表(条件緩和後)'!M46)","v":0},{"$f":"CELL(\"CONTENTS\",'6償還表(条件緩和後)'!N18)+CELL(\"contents\",'6償還表(条件緩和後)'!N30)+CELL(\"contents\",'6償還表(条件緩和後)'!N46)","v":0},null,{"$f":"CELL(\"CONTENTS\",'6償還表(条件緩和後)'!O18)+CELL(\"contents\",'6償還表(条件緩和後)'!O30)+CELL(\"contents\",'6償還表(条件緩和後)'!O46)","v":0},{"$f":"CELL(\"CONTENTS\",'6償還表(条件緩和後)'!P18)+CELL(\"contents\",'6償還表(条件緩和後)'!P30)+CELL(\"contents\",'6償還表(条件緩和後)'!P46)","v":0},null,{"$f":"CELL(\"CONTENTS\",'6償還表(条件緩和後)'!Q18)+CELL(\"contents\",'6償還表(条件緩和後)'!Q30)+CELL(\"contents\",'6償還表(条件緩和後)'!Q46)","v":0},null,{"$f":"CELL(\"CONTENTS\",'6償還表(条件緩和後)'!R18)+CELL(\"contents\",'6償還表(条件緩和後)'!R30)+CELL(\"contents\",'6償還表(条件緩和後)'!R46)","v":0},null,{"$f":"CELL(\"CONTENTS\",'6償還表(条件緩和後)'!S18)+CELL(\"contents\",'6償還表(条件緩和後)'!S30)+CELL(\"contents\",'6償還表(条件緩和後)'!S46)","v":0},{"$f":"CELL(\"CONTENTS\",'6償還表(条件緩和後)'!T18)+CELL(\"contents\",'6償還表(条件緩和後)'!T30)+CELL(\"contents\",'6償還表(条件緩和後)'!T46)","v":0},{"$f":"CELL(\"CONTENTS\",'6償還表(条件緩和後)'!U18)+CELL(\"contents\",'6償還表(条件緩和後)'!U30)+CELL(\"contents\",'6償還表(条件緩和後)'!U46)","v":0},{"$f":"CELL(\"CONTENTS\",'6償還表(条件緩和後)'!V18)+CELL(\"contents\",'6償還表(条件緩和後)'!V30)+CELL(\"contents\",'6償還表(条件緩和後)'!V46)","v":0},{"$f":"CELL(\"CONTENTS\",'6償還表(条件緩和後)'!W18)+CELL(\"contents\",'6償還表(条件緩和後)'!W30)+CELL(\"contents\",'6償還表(条件緩和後)'!W46)","v":0},{"$f":"CELL(\"CONTENTS\",'6償還表(条件緩和後)'!X18)+CELL(\"contents\",'6償還表(条件緩和後)'!X30)+CELL(\"contents\",'6償還表(条件緩和後)'!X46)","v":0},{"$f":"CELL(\"CONTENTS\",'6償還表(条件緩和後)'!Y18)+CELL(\"contents\",'6償還表(条件緩和後)'!Y30)+CELL(\"contents\",'6償還表(条件緩和後)'!Y46)","v":0},{"$f":"CELL(\"CONTENTS\",'6償還表(条件緩和後)'!Z18)+CELL(\"contents\",'6償還表(条件緩和後)'!Z30)+CELL(\"contents\",'6償還表(条件緩和後)'!Z46)","v":0}]
[null,null,null,null,null,null,null,null,"修正入力"]
[null,null,null,"畜 産 特 別 資 金",null,null,null,null,"計　算",{"$f":"CELL(\"CONTENTS\",'6償還表(条件緩和後)'!M62)","v":0},{"$f":"CELL(\"CONTENTS\",'6償還表(条件緩和後)'!N62)","v":0},null,{"$f":"CELL(\"CONTENTS\",'6償還表(条件緩和後)'!O62)","v":0},{"$f":"CELL(\"CONTENTS\",'6償還表(条件緩和後)'!P62)","v":0},null,{"$f":"CELL(\"CONTENTS\",'6償還表(条件緩和後)'!Q62)","v":0},null,{"$f":"CELL(\"CONTENTS\",'6償還表(条件緩和後)'!R62)","v":0},null,{"$f":"CELL(\"CONTENTS\",'6償還表(条件緩和後)'!S62)","v":0},{"$f":"CELL(\"CONTENTS\",'6償還表(条件緩和後)'!T62)","v":0},{"$f":"CELL(\"CONTENTS\",'6償還表(条件緩和後)'!U62)","v":0},{"$f":"CELL(\"CONTENTS\",'6償還表(条件緩和後)'!V62)","v":0},{"$f":"CELL(\"CONTENTS\",'6償還表(条件緩和後)'!W62)","v":0},{"$f":"CELL(\"CONTENTS\",'6償還表(条件緩和後)'!X62)","v":0},{"$f":"CELL(\"CONTENTS\",'6償還表(条件緩和後)'!Y62)","v":0},{"$f":"CELL(\"CONTENTS\",'6償還表(条件緩和後)'!Z62)","v":0}]
[null,null,null,null,null,null,null,null,"修正入力"]
[null,null,null,"系統 ・ その他資金",null,null,null,null,"計　算",{"$f":"CELL(\"CONTENTS\",'6償還表(条件緩和後)'!M92)+CELL(\"contents\",'6償還表(条件緩和後)'!M106)","v":0},{"$f":"CELL(\"CONTENTS\",'6償還表(条件緩和後)'!N92)+CELL(\"contents\",'6償還表(条件緩和後)'!N106)","v":0},null,{"$f":"CELL(\"CONTENTS\",'6償還表(条件緩和後)'!O92)+CELL(\"contents\",'6償還表(条件緩和後)'!O106)","v":0},{"$f":"CELL(\"CONTENTS\",'6償還表(条件緩和後)'!P92)+CELL(\"contents\",'6償還表(条件緩和後)'!P106)","v":0},null,{"$f":"CELL(\"CONTENTS\",'6償還表(条件緩和後)'!Q92)+CELL(\"contents\",'6償還表(条件緩和後)'!Q106)","v":0},null,{"$f":"CELL(\"CONTENTS\",'6償還表(条件緩和後)'!R92)+CELL(\"contents\",'6償還表(条件緩和後)'!R106)","v":0},null,{"$f":"CELL(\"CONTENTS\",'6償還表(条件緩和後)'!S92)+CELL(\"contents\",'6償還表(条件緩和後)'!S106)","v":0},{"$f":"CELL(\"CONTENTS\",'6償還表(条件緩和後)'!T92)+CELL(\"contents\",'6償還表(条件緩和後)'!T106)","v":0},{"$f":"CELL(\"CONTENTS\",'6償還表(条件緩和後)'!U92)+CELL(\"contents\",'6償還表(条件緩和後)'!U106)","v":0},{"$f":"CELL(\"CONTENTS\",'6償還表(条件緩和後)'!V92)+CELL(\"contents\",'6償還表(条件緩和後)'!V106)","v":0},{"$f":"CELL(\"CONTENTS\",'6償還表(条件緩和後)'!W92)+CELL(\"contents\",'6償還表(条件緩和後)'!W106)","v":0},{"$f":"CELL(\"CONTENTS\",'6償還表(条件緩和後)'!X92)+CELL(\"contents\",'6償還表(条件緩和後)'!X106)","v":0},{"$f":"CELL(\"CONTENTS\",'6償還表(条件緩和後)'!Y92)+CELL(\"contents\",'6償還表(条件緩和後)'!Y106)","v":0},{"$f":"CELL(\"CONTENTS\",'6償還表(条件緩和後)'!Z92)+CELL(\"contents\",'6償還表(条件緩和後)'!Z106)","v":0}]
[null,null,null,null,null,null,null,null,"修正入力"]
[null,null,null,"        計",null,null,null,null,"(A)",{"$f":"J64","v":0},0,0,0,0,0,0,0,0,0,0,0,0,0,0,0,0,0]
[null,null,null,null,25,null,null,"計　算","元利金",{"$f":"D_Ganrikin3(E13,J3,AB13,AD13,G16,E16)","v":0},{"$f":"D_Ganrikin3(E13,K3,AB13,AD13,G16,E16)","v":0},{"$f":"D_Ganrikin3(E13,L3,AB13,AD13,G15,E15)","v":0},{"$f":"D_Ganrikin3(E13,L3,AB13,AD13,G16,E16)","v":0},{"$f":"D_Ganrikin3(E13,N3,AB13,AD13,G16,E16)","v":0},{"$f":"D_Ganrikin3(E13,N3,AB13,AD13,G15,E15)","v":0},{"$f":"D_Ganrikin3(E13,P3,AB13,AD13,G16,E16)","v":0},{"$f":"D_Ganrikin3(E13,P3,AB13,AD13,G15,E15)","v":0},{"$f":"D_Ganrikin3(E13,R3,AB13,AD13,G16,E16)","v":0},{"$f":"D_Ganrikin3(E13,R3,AB13,AD13,G15,E15)","v":0},{"$f":"D_Ganrikin3(E13,T$3,AB13,AD13,G16,E16)","v":0},{"$f":"D_Ganrikin3($E$13,U3,$AB$13,$AD$13,$G$16,$E$16)","v":0},0,0,0,0,0,0,null,"年",null,"年"]
[null,null,null,"上段 前年度計画",null,null,"借換額",null,"(元金)",{"$f":"D_Gankin3(E13,J3,AB13,AD13,G16)","v":0},{"$f":"D_Gankin3(E13,K3,AB13,AD13,G16)","v":0},{"$f":"D_Gankin3(E13,L3,AB13,AD13,G15)","v":0},{"$f":"D_Gankin3(E13,L3,AB13,AD13,G16)","v":0},{"$f":"D_Gankin3(E13,N3,AB13,AD13,G16)","v":0},{"$f":"D_Gankin3(E13,N3,AB13,AD13,G15)","v":0},{"$f":"D_Gankin3(E13,P3,AB13,AD13,G16)","v":0},{"$f":"D_Gankin3(E13,P3,AB13,AD13,G15)","v":0},{"$f":"D_Gankin3(E13,R3,AB13,AD13,G16)","v":0},{"$f":"D_Gankin3(E13,R3,AB13,AD13,G15)","v":0},{"$f":"D_Gankin3(E13,T$3,AB13,AD13,G16)","v":0},{"$f":"D_Gankin3($E$13,U$3,$AB$13,$AD$13,$G$16)","v":0},0,0,0,0,0,0]
[null,null,null,"(",null,"％)",null,"修正入力","元利金"]
[null,null,"経営改善資金","(",null,"％)",null,null,"(元金)"]
[null,"借換額",null,null,{"$f":"E13+1","v":26},null,null,"計　算","元利金",{"$f":"D_Ganrikin3(E17,J3,AB17,AD17,G20,E20)","v":0},{"$f":"D_Ganrikin3(E17,K3,AB17,AD17,G20,E20)","v":0},{"$f":"D_Ganrikin3(E17,L3,AB17,AD17,G19,E19)","v":0},{"$f":"D_Ganrikin3(E17,L3,AB17,AD17,G20,E20)","v":0},{"$f":"D_Ganrikin3(E17,N3,AB17,AD17,G20,E20)","v":0},{"$f":"D_Ganrikin3(E17,N3,AB17,AD17,G19,E19)","v":0},{"$f":"D_Ganrikin3(E17,P3,AB17,AD17,G20,E20)","v":0},{"$f":"D_Ganrikin3(E17,P3,AB17,AD17,G19,E19)","v":0},{"$f":"D_Ganrikin3(E17,R3,AB17,AD17,G20,E20)","v":0},{"$f":"D_Ganrikin3(E17,R3,AB17,AD17,G19,E19)","v":0},{"$f":"D_Ganrikin3(E17,T3,AB17,AD17,G20,E20)","v":0},{"$f":"D_Ganrikin3($E$17,U3,$AB$17,$AD$17,$G$20,$E$20)","v":0},0,0,0,0,0,0,null,"年",null,"年"]
[null,null,null,"上段 前年度計画",null,null,"借換額",null,"(元金)",{"$f":"D_Gankin3(E17,J3,AB17,AD17,G20)","v":0},{"$f":"D_Gankin3(E17,K3,AB17,AD17,G20)","v":0},{"$f":"D_Gankin3(E17,L3,AB17,AD17,G19)","v":0},{"$f":"D_Gankin3(E17,L3,AB17,AD17,G20)","v":0},{"$f":"D_Gankin3(E17,N3,AB17,AD17,G20)","v":0},{"$f":"D_Gankin3(E17,N3,AB17,AD17,G19)","v":0},{"$f":"D_Gankin3(E17,P3,AB17,AD17,G20)","v":0},{"$f":"D_Gankin3(E17,P3,AB17,AD17,G19)","v":0},{"$f":"D_Gankin3(E17,R3,AB17,AD17,G20)","v":0},{"$f":"D_Gankin3(E17,R3,AB17,AD17,G19)","v":0},{"$f":"D_Gankin3(E17,T3,AB17,AD17,G20)","v":0},{"$f":"D_Gankin3($E$17,U3,$AB$17,$AD$17,$G$20)","v":0},0,0,0,0,0,0]
[null,null,null,"(",null,"％)",null,"修正入力","元利金"]
[null,null,null,"(",null,"％)",null,null,"(元金)"]
[null,null,null,null,{"$f":"E17+1","v":27},null,null,"計　算","元利金",{"$f":"D_Ganrikin3(E21,J3,AB21,AD21,G24,E24)","v":0},{"$f":"D_Ganrikin3(E21,K3,AB21,AD21,G24,E24)","v":0},{"$f":"D_Ganrikin3(E21,L3,AB21,AD21,G23,E23)","v":0},{"$f":"D_Ganrikin3(E21,L3,AB21,AD21,G24,E24)","v":0},{"$f":"D_Ganrikin3(E21,N3,AB21,AD21,G24,E24)","v":0},{"$f":"D_Ganrikin3(E21,N3,AB21,AD21,G23,E23)","v":0},{"$f":"D_Ganrikin3(E21,P3,AB21,AD21,G24,E24)","v":0},{"$f":"D_Ganrikin3(E21,P3,AB21,AD21,G23,E23)","v":0},{"$f":"D_Ganrikin3(E21,R3,AB21,AD21,G24,E24)","v":0},{"$f":"D_Ganrikin3(E21,R3,AB21,AD21,G23,E23)","v":0},{"$f":"D_Ganrikin3(E21,T3,AB21,AD21,G24,E24)","v":0},{"$f":"D_Ganrikin3($E$21,U3,$AB$21,$AD$21,$G$24,$E$24)","v":0},0,0,0,0,0,0,null,"年",null,"年"]
[null,null,null,"上段 前年度計画",null,null,"借換額",null,"(元金)",{"$f":"D_Gankin3(E21,J3,AB21,AD21,G24)","v":0},{"$f":"D_Gankin3(E21,K3,AB21,AD21,G24)","v":0},{"$f":"D_Gankin3(E21,L3,AB21,AD21,G23)","v":0},{"$f":"D_Gankin3(E21,L3,AB21,AD21,G24)","v":0},{"$f":"D_Gankin3(E21,N3,AB21,AD21,G24)","v":0},{"$f":"D_Gankin3(E21,N3,AB21,AD21,G23)","v":0},{"$f":"D_Gankin3(E21,P3,AB21,AD21,G24)","v":0},{"$f":"D_Gankin3(E21,P3,AB21,AD21,G23)","v":0},{"$f":"D_Gankin3(E21,R3,AB21,AD21,G24)","v":0},{"$f":"D_Gankin3(E21,R3,AB21,AD21,G23)","v":0},{"$f":"D_Gankin3(E21,T3,AB21,AD21,G24)","v":0},{"$f":"D_Gankin3($E$21,U3,$AB$21,$AD$21,$G$24)","v":0},0,0,0,0,0,0]
[null,null,null,"(",null,"％)",null,"修正入力","元利金"]
[null,null,null,"(",null,"％)",null,null,"(元金)"]
[null,null,null,null,{"$f":"E21+1","v":28},null,null,"計　算","元利金",{"$f":"D_Ganrikin3(E25,J3,AB25,AD25,G28,E28)","v":0},{"$f":"D_Ganrikin3(E25,K3,AB25,AD25,G28,E28)","v":0},{"$f":"D_Ganrikin3(E25,L3,AB25,AD25,G27,E27)","v":0},{"$f":"D_Ganrikin3(E25,L3,AB25,AD25,G28,E28)","v":0},{"$f":"D_Ganrikin3(E25,N3,AB25,AD25,G28,E28)","v":0},{"$f":"D_Ganrikin3(E25,N3,AB25,AD25,G27,E27)","v":0},{"$f":"D_Ganrikin3(E25,P3,AB25,AD25,G28,E28)","v":0},{"$f":"D_Ganrikin3(E25,P3,AB25,AD25,G27,E27)","v":0},{"$f":"D_Ganrikin3(E25,R3,AB25,AD25,G28,E28)","v":0},{"$f":"D_Ganrikin3(E25,R3,AB25,AD25,G27,E27)","v":0},{"$f":"D_Ganrikin3(E25,T3,AB25,AD25,G28,E28)","v":0},{"$f":"D_Ganrikin3($E$25,U3,$AB$25,$AD$25,$G$28,$E$28)","v":0},0,0,0,0,0,0,null,"年",null,"年"]
[null,null,null,"上段 前年度計画",null,null,"借換額",null,"(元金)",{"$f":"D_Gankin3(E25,J3,AB25,AD25,G28)","v":0},{"$f":"D_Gankin3(E25,K3,AB25,AD25,G28)","v":0},{"$f":"D_Gankin3(E25,L3,AB25,AD25,G27)","v":0},{"$f":"D_Gankin3(E25,L3,AB25,AD25,G28)","v":0},{"$f":"D_Gankin3(E25,N3,AB25,AD25,G28)","v":0},{"$f":"D_Gankin3(E25,N3,AB25,AD25,G27)","v":0},{"$f":"D_Gankin3(E25,P3,AB25,AD25,G28)","v":0},{"$f":"D_Gankin3(E25,P3,AB25,AD25,G27)","v":0},{"$f":"D_Gankin3(E25,R3,AB25,AD25,G28)","v":0},{"$f":"D_Gankin3(E25,R3,AB25,AD25,G27)","v":0},{"$f":"D_Gankin3(E25,T3,AB25,AD25,G28)","v":0},{"$f":"D_Gankin3($E$25,U3,$AB$25,$AD$25,$G$28)","v":0},0,0,0,0,0,0]
[null,null,null,"(",null,"％)",null,"修正入力","元利金"]
[null,null,null,"(",null,"％)",null,null,"(元金)"]
[null,null,null,null,{"$f":"E25+1","v":29},null,null,"計　算","元利金",{"$f":"D_Ganrikin3(E29,J3,AB29,AD29,G32,E32)","v":0},{"$f":"D_Ganrikin3(E29,K3,AB29,AD29,G32,E32)","v":0},{"$f":"D_Ganrikin3(E29,L3,AB29,AD29,G32,E31)","v":0},{"$f":"D_Ganrikin3(E29,L3,AB29,AD29,G32,E32)","v":0},{"$f":"D_Ganrikin3(E29,N3,AB29,AD29,G32,E32)","v":0},{"$f":"D_Ganrikin3(E29,N3,AB29,AD29,G31,E31)","v":0},{"$f":"D_Ganrikin3(E29,P3,AB29,AD29,G32,E32)","v":0},{"$f":"D_Ganrikin3(E29,P3,AB29,AD29,G31,E31)","v":0},{"$f":"D_Ganrikin3(E29,R3,AB29,AD29,G32,E32)","v":0},{"$f":"D_Ganrikin3(E29,R3,AB29,AD29,G31,E31)","v":0},{"$f":"D_Ganrikin3(E29,T3,AB29,AD29,G32,E32)","v":0},{"$f":"D_Ganrikin3($E$29,U3,$AB$29,$AD$29,$G$32,$E$32)","v":0},0,0,0,0,0,0,null,"年",null,"年"]
[null,null,null,"上段 前年度計画",null,null,"借換額",null,"(元金)",{"$f":"D_Gankin3(E29,J3,AB29,AD29,G32)","v":0},{"$f":"D_Gankin3(E29,K3,AB29,AD29,G32)","v":0},{"$f":"D_Gankin3(E29,L3,AB29,AD29,G31)","v":0},{"$f":"D_Gankin3(E29,L3,AB29,AD29,G32)","v":0},{"$f":"D_Gankin3(E29,N3,AB29,AD29,G32)","v":0},{"$f":"D_Gankin3(E29,N3,AB29,AD29,G31)","v":0},{"$f":"D_Gankin3(E29,P3,AB29,AD29,G32)","v":0},{"$f":"D_Gankin3(E29,P3,AB29,AD29,G31)","v":0},{"$f":"D_Gankin3(E29,R3,AB29,AD29,G32)","v":0},{"$f":"D_Gankin3(E29,R3,AB29,AD29,G31)","v":0},{"$f":"D_Gankin3(E29,T3,AB29,AD29,G32)","v":0},{"$f":"D_Gankin3($E$29,U3,$AB$29,$AD$29,$G$32)","v":0},0,0,0,0,0,0]
[null,null,null,"(",null,"％)",null,"修正入力","元利金"]
[null,null,null,"(",null,"％)",null,null,"(元金)"]
[null,null,null,null,null,null,"年 残高一括借換","計　算","元利金",{"$f":"D_Ganrikin3(E33,J3,AB33,AD33,G36,E36)","v":0},{"$f":"D_Ganrikin3(E33,K3,AB33,AD33,G36,E36)","v":0},{"$f":"D_Ganrikin3(E33,L3,AB33,AD33,G36,E35)","v":0},{"$f":"D_Ganrikin3(E33,L3,AB33,AD33,G36,E36)","v":0},{"$f":"D_Ganrikin3(E33,N3,AB33,AD33,G36,E36)","v":0},{"$f":"D_Ganrikin3(E33,N3,AB33,AD33,G35,E35)","v":0},{"$f":"D_Ganrikin3(E33,P3,AB33,AD33,G36,E36)","v":0},{"$f":"D_Ganrikin3(E33,P3,AB33,AD33,G35,E35)","v":0},{"$f":"D_Ganrikin3(E33,R3,AB33,AD33,G36,E36)","v":0},{"$f":"D_Ganrikin3(E33,R3,AB33,AD33,G35,E35)","v":0},{"$f":"D_Ganrikin3(E33,T3,AB33,AD33,G36,E36)","v":0},{"$f":"D_Ganrikin3($E$33,U3,$AB$33,$AD$33,$G$36,$E$36)","v":0},0,0,0,0,0,0,null,"年",null,"年"]
[null,null,null,"上段 前年度計画",null,null,"借換額",null,"(元金)",{"$f":"D_Gankin3(E33,J3,AB33,AD33,G36)","v":0},{"$f":"D_Gankin3(E33,K3,AB33,AD33,G36)","v":0},{"$f":"D_Gankin3(E33,L3,AB33,AD33,G35)","v":0},{"$f":"D_Gankin3(E33,L3,AB33,AD33,G36)","v":0},{"$f":"D_Gankin3(E33,N3,AB33,AD33,G36)","v":0},{"$f":"D_Gankin3(E33,N3,AB33,AD33,G35)","v":0},{"$f":"D_Gankin3(E33,P3,AB33,AD33,G36)","v":0},{"$f":"D_Gankin3(E33,P3,AB33,AD33,G35)","v":0},{"$f":"D_Gankin3(E33,R3,AB33,AD33,G36)","v":0},{"$f":"D_Gankin3(E33,R3,AB33,AD33,G35)","v":0},{"$f":"D_Gankin3(E33,T3,AB33,AD33,G36)","v":0},{"$f":"D_Gankin3($E$33,U3,$AB$33,$AD$33,$G$36)","v":0},0,0,0,0,0,0]
[null,null,null,"(",null,"％)",null,"修正入力","元利金"]
[null,null,null,"(",null,"％)",null,null,"(元金)"]
[null,null,null,null,null,null,"年 経営継承資金","計　算","元利金",{"$f":"D_Ganrikin3(E37,J3,AB37,AD37,G40,E40)","v":0},{"$f":"D_Ganrikin3(E37,K3,AB37,AD37,G40,E40)","v":0},{"$f":"D_Ganrikin3(E37,L3,AB37,AD37,G39,E39)","v":0},{"$f":"D_Ganrikin3(E37,L3,AB37,AD37,G40,E40)","v":0},{"$f":"D_Ganrikin3(E37,N3,AB37,AD37,G40,E40)","v":0},{"$f":"D_Ganrikin3(E37,N3,AB37,AD37,G39,E39)","v":0},{"$f":"D_Ganrikin3(E37,P3,AB37,AD37,G40,E40)","v":0},{"$f":"D_Ganrikin3(E37,P3,AB37,AD37,G39,E39)","v":0},{"$f":"D_Ganrikin3(E37,R3,AB37,AD37,G40,E40)","v":0},{"$f":"D_Ganrikin3(E37,R3,AB37,AD37,G39,E39)","v":0},{"$f":"D_Ganrikin3(E37,T$3,AB37,AD37,G40,E40)","v":0},{"$f":"D_Ganrikin3($E$37,U$3,$AB$37,$AD$37,$G$40,$E$40)","v":0},0,0,0,0,0,0,null,"年",null,"年"]
[null,null,null,"上段 前年度計画",null,null,"借換額",null,"(元金)",{"$f":"D_Gankin3(E37,J3,AB37,AD37,G40)","v":0},{"$f":"D_Gankin3(E37,K3,AB37,AD37,G40)","v":0},{"$f":"D_Gankin3(E37,L3,AB37,AD37,G39)","v":0},{"$f":"D_Gankin3(E37,L3,AB37,AD37,G40)","v":0},{"$f":"D_Gankin3(E37,N3,AB37,AD37,G40)","v":0},{"$f":"D_Gankin3(E37,N3,AB37,AD37,G39)","v":0},{"$f":"D_Gankin3(E37,P3,AB37,AD37,G40)","v":0},{"$f":"D_Gankin3(E37,P3,AB37,AD37,G39)","v":0},{"$f":"D_Gankin3(E37,R3,AB37,AD37,G40)","v":0},{"$f":"D_Gankin3(E37,R3,AB37,AD37,G39)","v":0},{"$f":"D_Gankin3(E37,T$3,AB37,AD37,G40)","v":0},{"$f":"D_Gankin3($E$37,U$3,$AB$37,$AD$37,$G$40)","v":0},0,0,0,0,0,0]
[null,null,null,"(",null,"％)",null,"修正入力","元利金"]
[null,null,null,"(",null,"％)",null,null,"(元金)"]
[null,null,null," 計",null,null,{"$f":"G16+G20+G24+G28+G32+G36+G40","v":0},null,"(B)",{"$f":"J65+J67+J69+J71+J73+J76+J79","v":0},{"$f":"K65+K67+K69+K71+K73+K76+K79","v":0},{"$f":"L65+L67+L69+L71+L73+L76+L79","v":0},{"$f":"M65+M67+M69+M71+M73+M76+M79","v":0},0,0,0,0,0,0,0,0,0,0,0,0,0,0]
[null,"　償 還 額 計",null,null,null,null,null,null,"(C)=(A)+(B)",{"$f":"J12+J41","v":0},0,0,0,0,0,0,0,0,0,0,0,0,0,0,0,0,0]
[null,null,null," 前  期  繰  越",null,null,null,"計　算","(a)",null,{"$f":"J49","v":0},{"$f":"K49","v":0},{"$f":"L49","v":0},{"$f":"M49","v":0},{"$f":"N49","v":0},{"$f":"N49","v":0},0,0,0,0,{"$f":"T49","v":0},{"$f":"U49","v":0},0,0,0,0,0]
[null,"償還財源",null,null,null,null,null,"修正入力","(a)"]
[null,null,null," 償  還  財  源",null,null,null,null,"(T)",{"$f":"IF(VALUE(配列シート!I3)=2,'2-1経営収支計画・法人'!G37,'2-1経営収支計画・個人'!I49)","v":0},{"$f":"IF(VALUE(配列シート!I3)=2,'2-1経営収支計画・法人'!H37,'2-1経営収支計画・個人'!J49)","v":0},{"$f":"IF(VALUE(配列シート!I3)=2,'2-1経営収支計画・法人'!I37,'2-1経営収支計画・個人'!K49)","v":0},{"$f":"IF(VALUE(配列シート!I3)=2,'2-1経営収支計画・法人'!J37,'2-1経営収支計画・個人'!L49)","v":0},{"$f":"IF(VALUE(配列シート!I3)=2,'2-1経営収支計画・法人'!K37,'2-1経営収支計画・個人'!M49)","v":0},{"$f":"IF(VALUE(配列シート!I3)=2,'2-1経営収支計画・法人'!L37,'2-1経営収支計画・個人'!N49)","v":0},{"$f":"IF(VALUE(配列シート!I3)=2,'2-1経営収支計画・法人'!M37,'2-1経営収支計画・個人'!O49)","v":0},{"$f":"IF(VALUE(配列シート!I3)=2,'2-1経営収支計画・法人'!N37,'2-1経営収支計画・個人'!P49)","v":0},{"$f":"IF(VALUE(配列シート!I3)=2,'2-1経営収支計画・法人'!O37,'2-1経営収支計画・個人'!Q49)","v":0},{"$f":"IF(VALUE(配列シート!I3)=2,'2-1経営収支計画・法人'!P37,'2-1経営収支計画・個人'!R49)","v":0},{"$f":"IF(VALUE(配列シート!I3)=2,'2-1経営収支計画・法人'!Q37,'2-1経営収支計画・個人'!S49)","v":0},{"$f":"IF(VALUE(配列シート!I3)=2,'2-1経営収支計画・法人'!R37,'2-1経営収支計画・個人'!T49)","v":0},{"$f":"IF(VALUE(配列シート!I3)=2,'2-1経営収支計画・法人'!S37,'2-1経営収支計画・個人'!U49)","v":0},{"$f":"IF(VALUE(配列シート!I3)=2,'2-1経営収支計画・法人'!T37,'2-1経営収支計画・個人'!V49)","v":0},{"$f":"IF(VALUE(配列シート!I3)=2,'2-1経営収支計画・法人'!U37,'2-1経営収支計画・個人'!W49)","v":0},{"$f":"IF(VALUE(配列シート!I3)=2,'2-1経営収支計画・法人'!V37,'2-1経営収支計画・個人'!X49)","v":0},{"$f":"IF(VALUE(配列シート!I3)=2,'2-1経営収支計画・法人'!W37,'2-1経営収支計画・個人'!Y49)","v":0},{"$f":"IF(VALUE(配列シート!I3)=2,'2-1経営収支計画・法人'!X37,'2-1経営収支計画・個人'!Z49)","v":0}]
[null,null,null,"   　　計",null,null,null,null,"(D)=(a)+(T)",{"$f":"J82+J45","v":0},0,0,0,0,0,0,0,0,0,0,0,0,0,0,0,0,0]
[null,"  差      引",null,null,null,null,null,null,"(E)=(D)-(C)",{"$f":"J46-J42","v":0},0,0,0,0,0,0,0,0,0,0,0,0,0,0,0,0,0]
[null,"  対   策   額",null,null,null,null,null,null,"(F)"]
[null,"  実 質 過 不 足",null,null,null,null,null,null,"(G)=(E)+(F)",{"$f":"J47+J48","v":0},0,0,0,0,0,0,0,0,0,0,0,0,0,0,0,0,0]
[null,"(注)１ 「前年度計画」は、前年度に作成した経営改善計画の当初計画若しくは見直し計画の数値を記入すること。"]
[]
[]
[]
[null,"ワーク",null,"元金の合計",null,null,null,null,null,{"$f":"J66+J68+J70+J72+J74+J77+J80","v":0},0,0,0,0,0,0,0,0,0,0,0,0,0,0,0,0,0]
[null,null,null,"元金の合計",null,null,null,null,null,{"$f":"J54","v":0},{"$f":"K54","v":0},null,{"$f":"M54","v":0},{"$f":"N54","v":0},null,{"$f":"P54","v":0},null,{"$f":"R54","v":0},null,{"$f":"T54","v":0},{"$f":"U54","v":0},0,0,0,0,0,0]
[null,null,null,"元利金の合計",null,null,null,null,null,{"$f":"J41","v":0},{"$f":"K41","v":0},null,{"$f":"M41","v":0},{"$f":"N41","v":0},null,{"$f":"P41","v":0},null,{"$f":"R41","v":0},null,{"$f":"T41","v":0},{"$f":"U41","v":0},0,0,0,0,0,0]
[]
[null,"修正入力欄に入力があれば、修正入力の値を優先します。"]
[null,"    区          分",null,null,null,null,null,null,null,{"$f":"J3","v":-3},{"$f":"J59+1","v":-2},{"$f":"K59+1","v":-1},null,{"$f":"L59+1","v":0},null,{"$f":"N59+1","v":1},null,{"$f":"P59+1","v":2},null,{"$f":"R59+1","v":3},{"$f":"T59+1","v":4},5,6,7,8,9,10,"償還期間"]
[null,null,null,null,null,null,null,null,null,"実績","実績","前年度計画","実績","計　画","前年度計画","計　画","前年度計画","計　画","前年度計画","計　画","計　画","計　画","計　画","計　画","計　画","計　画","計　画",null,null,"うち据置"]
[null,"条後還","制度資金(除く畜特)",null,null,":　計算",null,null,null,{"$f":"IF(J7=\"\",J6,J7)","v":0},0,0,0,0,0,0,0,0,0,0,{"$f":"IF(U7=\"\",U6,U7)","v":0},0,0,0,0,0,0]
[null,"件約額","畜 産 特 別 資 金",null,null,":　計算",null,null,null,{"$f":"IF(J9=\"\",J8,J9)","v":0},0,0,0,0,0,0,0,0,0,0,{"$f":"IF(U9=\"\",U8,U9)","v":0},0,0,0,0,0,0]
[null,"緩定","系統・その他資金",null,null,":　計算",null,null,null,{"$f":"IF(J11=\"\",J10,J11)","v":0},0,0,0,0,0,0,0,0,0,0,{"$f":"IF(U11=\"\",U10,U11)","v":0},0,0,0,0,0,0]
[null,"和償","計",null,null,":　計算",null,null,null,{"$f":"SUM(J61:J63)","v":0},0,0,0,0,0,0,0,0,0,0,{"$f":"SUM(U61:U63)","v":0},0,0,0,0,0,0]
[null,null,null,null,{"$f":"E13","v":25},null,null,null,"元利金",{"$f":"IF(J15=\"\",J13,J15)","v":0},0,0,0,0,0,0,0,0,0,0,{"$f":"IF(U15=\"\",U13,U15)","v":0},0,0,0,0,0,0,{"$f":"AB13","v":0},"年",{"$f":"IF(AD13=\"\",\"\",AD13)","v":""},"年"]
[null,null,null,"(",{"$f":"IF(E16=\"\",\" ％)\",E16)","v":" ％)"},{"$f":"IF(G16=\"\",\"\",G16)","v":""},null,null,"元　金",{"$f":"IF(J16=\"\",J14,J16)","v":0},0,0,0,0,0,0,0,0,0,0,{"$f":"IF(U16=\"\",U14,U16)","v":0},0,0,0,0,0,0]
[null,"借換額",null,null,{"$f":"E65+1","v":26},null,null,null,"元利金",{"$f":"IF(J19=\"\",J17,J19)","v":0},0,0,0,0,0,0,0,0,0,0,{"$f":"IF(U19=\"\",U17,U19)","v":0},0,0,0,0,0,0,{"$f":"AB17","v":0},"年",{"$f":"IF(AD17=\"\",\"\",AD17)","v":""},"年"]
[null,null,null,"(",{"$f":"IF(E20=\"\",\" ％)\",E20)","v":" ％)"},{"$f":"IF(G20=\"\",\"\",G20)","v":""},null,null,"元　金",{"$f":"IF(J20=\"\",J18,J20)","v":0},0,0,0,0,0,0,0,0,0,0,{"$f":"IF(U20=\"\",U18,U20)","v":0},0,0,0,0,0,0]
[null,null,null,null,{"$f":"E67+1","v":27},null,null,null,"元利金",{"$f":"IF(J23=\"\",J21,J23)","v":0},0,0,0,0,0,0,0,0,0,0,{"$f":"IF(U23=\"\",U21,U23)","v":0},0,0,0,0,0,0,{"$f":"AB21","v":0},"年",{"$f":"IF(AD21=\"\",\"\",AD21)","v":""},"年"]
[null,null,null,"(",{"$f":"IF(E24=\"\",\" ％)\",E24)","v":" ％)"},{"$f":"IF(G24=\"\",\"\",G24)","v":""},null,null,"元　金",{"$f":"IF(J24=\"\",J22,J24)","v":0},0,0,0,0,0,0,0,0,0,0,{"$f":"IF(U24=\"\",U22,U24)","v":0},0,0,0,0,0,0]
[null,null,null,null,{"$f":"E69+1","v":28},null,null,null,"元利金",{"$f":"IF(J27=\"\",J25,J27)","v":0},0,0,0,0,0,0,0,0,0,0,{"$f":"IF(U27=\"\",U25,U27)","v":0},0,0,0,0,0,0,{"$f":"AB25","v":0},"年",{"$f":"IF(AD25=\"\",\"\",AD25)","v":""},"年"]
[null,null,null,"(",{"$f":"IF(E28=\"\",\" ％)\",E28)","v":" ％)"},{"$f":"IF(G28=\"\",\"\",G28)","v":""},null,null,"元　金",{"$f":"IF(J28=\"\",J26,J28)","v":0},0,0,0,0,0,0,0,0,0,0,{"$f":"IF(U28=\"\",U26,U28)","v":0},0,0,0,0,0,0]
[null,null,null,null,{"$f":"E71+1","v":29},null,null,null,"元利金",{"$f":"IF(J31=\"\",J29,J31)","v":0},0,0,0,0,0,0,0,0,0,0,{"$f":"IF(U31=\"\",U29,U31)","v":0},0,0,0,0,0,0,{"$f":"AB29","v":0},"年",{"$f":"IF(AD29=\"\",\"\",AD29)","v":""},"年"]
[null,null,null,"(",{"$f":"IF(E32=\"\",\" ％)\",E32)","v":" ％)"},{"$f":"IF(G32=\"\",\"\",G32)","v":""},null,null,"元　金",{"$f":"IF(J32=\"\",J30,J32)","v":0},0,0,0,0,0,0,0,0,0,0,{"$f":"IF(U32=\"\",U30,U32)","v":0},0,0,0,0,0,0]
[null,null,null,"残高一括借換",null,null,null,null,null,null,null,null,null,null,null,null,null,null,null,null,null,null,null,null,null,null,null,{"$f":"AB33","v":0},"年",{"$f":"IF(AD33=\"\",\"\",AD33)","v":""},"年"]
[null,null,null,null,{"$f":"IF(E33=\"\",\"\",E33)","v":""},null,null,null,"元利金",{"$f":"IF(J59>E76,IF(J35=\"\",J33,J35),0)","v":0},{"$f":"IF(K59>E76,IF(K35=\"\",K33,K35),0)","v":0},{"$f":"IF(L59>E76,IF(L35=\"\",L33,L35),0)","v":0},{"$f":"IF(L59>E76,IF(M35=\"\",M33,M35),0)","v":0},{"$f":"IF(N59>E76,IF(N35=\"\",N33,N35),0)","v":0},{"$f":"IF(N59>E76,IF(O35=\"\",O33,O35),0)","v":0},{"$f":"IF(P59>E76,IF(P35=\"\",P33,P35),0)","v":0},{"$f":"IF(P59>E76,IF(Q35=\"\",Q33,Q35),0)","v":0},{"$f":"IF(R59>E76,IF(R35=\"\",R33,R35),0)","v":0},{"$f":"IF(R59>E76,IF(S35=\"\",S33,S35),0)","v":0},{"$f":"IF(T59>E76,IF(T35=\"\",T33,T35),0)","v":0},{"$f":"IF(U59>E76,IF(U35=\"\",U33,U35),0)","v":0},{"$f":"IF(V59>E76,IF(V35=\"\",V33,V35),0)","v":0},{"$f":"IF(W59>E76,IF(W35=\"\",W33,W35),0)","v":0},{"$f":"IF(X59>E76,IF(X35=\"\",X33,X35),0)","v":0},{"$f":"IF(Y59>E76,IF(Y35=\"\",Y33,Y35),0)","v":0},{"$f":"IF(Z59>E76,IF(Z35=\"\",Z33,Z35),0)","v":0},{"$f":"IF(AA59>E76,IF(AA35=\"\",AA33,AA35),0)","v":0}]
[null,null,null,"(",{"$f":"IF(E36=\"\",\" ％)\",E36)","v":" ％)"},{"$f":"IF(G36=\"\",\"\",G36)","v":""},null,null,"元　金",{"$f":"IF(J59>E76,IF(J36=\"\",J34,J36),0)","v":0},{"$f":"IF(K59>E76,IF(K36=\"\",K34,K36),0)","v":0},{"$f":"IF(L59>E76,IF(L36=\"\",L34,L36),0)","v":0},{"$f":"IF(L59>E76,IF(M36=\"\",M34,M36),0)","v":0},{"$f":"IF(N59>E76,IF(N36=\"\",N34,N36),0)","v":0},{"$f":"IF(N59>E76,IF(O36=\"\",O34,O36),0)","v":0},{"$f":"IF(P59>E76,IF(P36=\"\",P34,P36),0)","v":0},{"$f":"IF(P59>E76,IF(Q36=\"\",Q34,Q36),0)","v":0},{"$f":"IF(R59>E76,IF(R36=\"\",R34,R36),0)","v":0},{"$f":"IF(R59>E76,IF(S36=\"\",S34,S36),0)","v":0},{"$f":"IF(T59>$E76,IF(T36=\"\",T34,T36),0)","v":0},0,0,0,0,0,0,0]
[null,null,null,"経営継承資金",null,null,null,null,null,null,null,null,null,null,null,null,null,null,null,null,null,null,null,null,null,null,null,{"$f":"AB37","v":0},"年",{"$f":"IF(AD37=\"\",\"\",AD37)","v":""},"年"]
[null,null,null,null,{"$f":"IF(E37=\"\",\"\",E37)","v":""},null,null,null,"元利金",{"$f":"IF(J59>E79,IF(J39=\"\",J37,J39),0)","v":0},{"$f":"IF(K59>E79,IF(K39=\"\",K37,K39),0)","v":0},{"$f":"IF(L59>E79,IF(L39=\"\",L37,L39),0)","v":0},{"$f":"IF(L59>E79,IF(M39=\"\",M37,M39),0)","v":0},{"$f":"IF(N59>E79,IF(N39=\"\",N37,N39),0)","v":0},{"$f":"IF(N59>E79,IF(O39=\"\",O37,O39),0)","v":0},{"$f":"IF(P59>E79,IF(P39=\"\",P37,P39),0)","v":0},{"$f":"IF(P59>E79,IF(Q39=\"\",Q37,Q39),0)","v":0},{"$f":"IF(R59>E79,IF(R39=\"\",R37,R39),0)","v":0},{"$f":"IF(R59>E79,IF(S39=\"\",S37,S39),0)","v":0},{"$f":"IF(T59>$E79,IF(T39=\"\",T37,T39),0)","v":0},{"$f":"IF(U59>$E79,IF(U39=\"\",U37,U39),0)","v":0},{"$f":"IF(V59>$E79,IF(V39=\"\",V37,V39),0)","v":0},{"$f":"IF(W59>$E79,IF(W39=\"\",W37,W39),0)","v":0},0,0,0,0]
[null,null,null,"(",{"$f":"IF(E40=\"\",\" ％)\",E40)","v":" ％)"},{"$f":"IF(G40=\"\",\"\",G40)","v":""},null,null,"元　金",{"$f":"IF(J59>E79,IF(J40=\"\",J38,J40),0)","v":0},{"$f":"IF(K59>E79,IF(K40=\"\",K38,K40),0)","v":0},{"$f":"IF(L59>E79,IF(L40=\"\",L38,L40),0)","v":0},{"$f":"IF(L59>E79,IF(M40=\"\",M38,M40),0)","v":0},{"$f":"IF(N59>E79,IF(N40=\"\",N38,N40),0)","v":0},{"$f":"IF(N59>E79,IF(O40=\"\",O38,O40),0)","v":0},{"$f":"IF(P59>E79,IF(P40=\"\",P38,P40),0)","v":0},{"$f":"IF(P59>E79,IF(Q40=\"\",Q38,Q40),0)","v":0},{"$f":"IF(R59>E79,IF(R40=\"\",R38,R40),0)","v":0},{"$f":"IF(R59>E79,IF(S40=\"\",S38,S40),0)","v":0},{"$f":"IF(T59>$E79,IF(T40=\"\",T38,T40),0)","v":0},0,0,0,0,0,{"$f":"IF(Z59>$E79,IF(Z40=\"\",Z38,Z40),0)","v":0},0]
[]
[null,null,null," 前  期  繰  越",null,null,null,null,"(a)",{"$f":"IF(J44=\"\",J43,J44)","v":0},{"$f":"IF(K44=\"\",K43,K44)","v":0},{"$f":"IF(L44=\"\",L43,L44)","v":0},0,0,0,0,0,0,0,0,0,0,0,0,0,0,0]
[null,null,null,null,null,null,null,null,null,null,"経営継承元金→",null,{"$f":"M80","v":0},{"$f":"N80","v":0}]
[null,"一括借換、経営継承を除いた計",null,null,null,null,null,null,null,null,"経営継承元利金→",null,{"$f":"M79","v":0},{"$f":"N79","v":0}]
[null,"ワーク２",null,"元金の合計（一括借換、経営継承除く）",null,null,null,null,"元金",{"$f":"SUM(J66,J68,J70,J72,J74)","v":0},{"$f":"SUM(K66,K68,K70,K72,K74)","v":0},{"$f":"SUM(L66,L68,L70,L72,L74)","v":0},{"$f":"SUM(M66,M68,M70,M72,M74)","v":0},{"$f":"SUM(N66,N68,N70,N72,N74)","v":0},{"$f":"SUM(O66,O68,O70,O72,O74)","v":0},0,0,0,0,0,0,0,0,0,0,0,0]
[null,null,null,"元利金の合計（一括借換、経営継承除く）",null,null,null,null,"元利金",{"$f":"SUM(J65,J67,J69,J71,J73)","v":0},{"$f":"SUM(K65,K67,K69,K71,K73)","v":0},{"$f":"SUM(L65,L67,L69,L71,L73)","v":0},{"$f":"SUM(M65,M67,M69,M71,M73)","v":0},{"$f":"SUM(N65,N67,N69,N71,N73)","v":0},{"$f":"SUM(O65,O67,O69,O71,O73)","v":0},0,0,0,0,0,0,0,0,0,0,0,0]
[null,"V540で追加"]
[]
[null,"入力票経済階層利用参照（227,228,229,230)"]
[null,"ワーク３",null,"元金の合計（一括借換、経営継承除く）",null,null,null,null,null,null,null,null,{"$f":"IF(OR(CELL(\"contents\",'3-1借換後の計画'!M77)>0,CELL(\"contents\",'3-1借換後の計画'!M80)>0),CELL(\"contents\",'5償還表(条件緩和前)'!O109)+CELL(\"contents\",M85),CELL(\"contents\",'6償還表(条件緩和後)'!O113))","v":0},{"$f":"IF(OR(CELL(\"contents\",'3-1借換後の計画'!N77)>0,CELL(\"contents\",'3-1借換後の計画'!N80)>0),CELL(\"contents\",'5償還表(条件緩和前)'!P109)+CELL(\"contents\",N85),CELL(\"contents\",'6償還表(条件緩和後)'!P113))","v":0}]
[null,null,null,"元利金の合計（一括借換、経営継承除く）",null,null,null,null,null,null,null,null,{"$f":"IF(OR(CELL(\"contents\",'3-1借換後の計画'!M76)>0,CELL(\"contents\",'3-1借換後の計画'!M79)>0),CELL(\"contents\",'5償還表(条件緩和前)'!O108)+CELL(\"contents\",M86),CELL(\"contents\",'6償還表(条件緩和後)'!O112))","v":0},{"$f":"IF(OR(CELL(\"contents\",'3-1借換後の計画'!N76)>0,CELL(\"contents\",'3-1借換後の計画'!N79)>0),CELL(\"contents\",'5償還表(条件緩和前)'!P108)+CELL(\"contents\",N86),CELL(\"contents\",'6償還表(条件緩和後)'!P112))","v":0}]
[null,"V540で追加"]

{"sheet":"3-2借換額内訳","index":11,"n_rows":14,"n_cols":14,"rows_kept":14,"cut":false,"hidden":false,"merged":[[3,13,5,13],[3,1,4,1],[2,7,3,7],[4,7,5,7],[3,8,4,8],[3,11,3,12],[3,9,3,10],[2,4,3,4],[4,4,5,4],[3,5,4,5],[2,6,3,6],[4,6,5,6],[2,2,3,2],[4,2,5,2],[2,3,3,3],[4,3,5,3]]}
[""]
[null,"3.負債整理計画・(2)養豚特別支援(新)資金借換額の内訳",null,null,null,null,null,null,null,null,null,null,null,"(単位：千円)"]
[null,null,"農協系統","畜産特別","農業近代",null,"その他","一般金融"]
[null,"区      分",null,null,null,"公庫資金",null,null,"計","経営改善資金（一般）",null,"経営改善資金（特認）",null,"経営継承"]
[null,null,"一般資金","資   金","化 資 金",null,"制度資金","機関資金",null,null,"う　ち",null,"う　ち"]
[null,null,null,null,null,null,null,null,null,null,"残高借換",null,"残高借換"]
[null,25,null,null,null,null,null,null,{"$f":"SUM(C7:H7)","v":0}]
[null,{"$f":"B7+1","v":26},null,null,null,null,null,null,{"$f":"SUM(C8:H8)","v":0}]
[null,{"$f":"B8+1","v":27},null,null,null,null,null,null,{"$f":"SUM(C9:H9)","v":0}]
[null,{"$f":"B9+1","v":28},null,null,null,null,null,null,{"$f":"SUM(C10:H10)","v":0}]
[null,{"$f":"B10+1","v":29},null,null,null,null,null,null,{"$f":"SUM(C11:H11)","v":0}]
[null,"合      計",{"$f":"SUM(C7:C11)","v":0},0,0,0,0,0,0,0,0,0,0,0]
[null,"(注)１ 借換額を資金別に記入すること。"]
[null,"　　２「６．既往借入金年次別約定償還表（条件緩和後）」の資金使途欄をチェックし、養豚に係る資金であることを確認すること。"]

{"sheet":"4条件緩和総括表","index":12,"n_rows":24,"n_cols":12,"rows_kept":24,"cut":false,"hidden":false,"merged":[[2,4,3,4],[2,9,3,9],[2,1,3,2],[2,10,3,10]]}
[""]
[null," 4.条件緩和総括表",null,null,null,null,null,null,null,null,"(単位：千円)"]
[null,"区   分",null,"農業近代化","公庫資金","その他","系統一般","買掛未払金","一般金融機関","計","その他の条件緩和の内容"]
[null,null,null,"資     金",null,"制度資金","資   金","残     高","資　　　金"]
[null,null,"条件緩和前",null,null,null,null,null,null,{"$f":"SUM(D5:I5)","v":0},null," "]
[null,25,"条件緩和後",null,null,null,null,null,null,0,null," "]
[null,null,"差引",{"$f":"D5-D6","v":0},0,0,0,0,0,0,null," "]
[null,null,"条件緩和前",null,null,null,null,null,null,0,null," "]
[null,{"$f":"B6+1","v":26},"条件緩和後",null,null,null,null,null,null,0,null," "]
[null,null,"差引",{"$f":"D8-D9","v":0},0,0,0,0,0,0,null," "]
[null,null,"条件緩和前",null,null,null,null,null,null,0,null," "]
[null,{"$f":"B9+1","v":27},"条件緩和後",null,null,null,null,null,null,0,null," "]
[null,null,"差引",{"$f":"D11-D12","v":0},0,0,0,0,0,0,null," "]
[null,null,"条件緩和前",null,null,null,null,null,null,0,null," "]
[null,{"$f":"B12+1","v":28},"条件緩和後",null,null,null,null,null,null,0,null," "]
[null,null,"差引",{"$f":"D14-D15","v":0},0,0,0,0,0,0,null," "]
[null,null,"条件緩和前",null,null,null,null,null,null,0,null," "]
[null,{"$f":"B15+1","v":29},"条件緩和後",null,null,null,null,null,null,0,null," "]
[null,null,"差引",{"$f":"D17-D18","v":0},0,0,0,0,0,0,null," "]
[null,null,"条件緩和前",{"$f":"D5+D8+D11+D14+D17","v":0},0,0,0,0,0,{"$f":"SUM(D20:I20)","v":0},null," "]
[null,"合計","条件緩和後",0,0,0,0,0,0,{"$f":"SUM(D21:I21)","v":0},null," "]
[null,null,"差引",{"$f":"D20-D21","v":0},0,0,0,0,0,{"$f":"SUM(D22:I22)","v":0},null," "]
[null,"(注)　各年の条件緩和前の約定償還額を条件緩和前欄に、各年の条件緩和後の約定償還額を条件緩和後欄に記入し、"]
[null,"　　　その差（差引）を条件緩和額とすること。"]

{"sheet":"5償還表(条件緩和前)","index":13,"n_rows":113,"n_cols":43,"rows_kept":113,"cut":false,"hidden":false,"merged":[[112,2,112,42],[66,2,77,2],[69,1,88,1],[79,2,89,2],[95,1,104,2],[110,2,110,42],[111,2,111,42],[2,4,4,4],[2,12,2,25],[2,26,2,39],[2,40,3,41],[3,1,3,3],[7,2,16,2],[15,1,53,1],[20,2,29,2],[32,2,45,2],[48,2,61,2]]}
[""]
[null," 5.既往借入金年次別約定償還表(条件緩和前)",null,null,null,null,null,null,null,null,null,null,null,null,null,null,null,null,null,null,null,null,null,null,null,null,null,null,null,null,null,null,null,null,null,null,null,null,null,null,null,null,"(単位：千円)"]
[null,null,null,null,"番号",null,null,null,null,"(うち",null,null,"年　　次　　別　　約　　定　　償　　還　　額",null,null,null,null,null,null,null,null,null,null,null,null,null,"借　　　　入　　　　金　　　　残　　　　高",null,null,null,null,null,null,null,null,null,null,null,null,null,"資 金 充 当"]
[null,"資      金      名",null,null,null,"借入額","借 入 期 限",null,null,"据置期間","利　率",null,{"$f":"IF(配列シート!$B$9=M5,\"(目標年次)\",\"\")","v":""},{"$f":"IF(配列シート!$B$9=N5,\"(目標年次)\",\"\")","v":""},{"$f":"IF(配列シート!$B$9=O5,\"(目標年次)\",\"\")","v":""},{"$f":"IF(配列シート!$B$9=P5,\"(目標年次)\",\"\")","v":"(目標年次)"},{"$f":"IF(配列シート!$B$9=Q5,\"(目標年次)\",\"\")","v":""},{"$f":"IF(配列シート!$B$9=R5,\"(目標年次)\",\"\")","v":""},{"$f":"IF(配列シート!$B$9=S5,\"(目標年次)\",\"\")","v":""},{"$f":"IF(配列シート!$B$9=T5,\"(目標年次)\",\"\")","v":""},{"$f":"IF(配列シート!$B$9=U5,\"(目標年次)\",\"\")","v":""},{"$f":"IF(配列シート!$B$9=V5,\"(目標年次)\",\"\")","v":""},{"$f":"IF(配列シート!$B$9=W5,\"(目標年次)\",\"\")","v":""},{"$f":"IF(配列シート!$B$9=X5,\"(目標年次)\",\"\")","v":""},{"$f":"IF(配列シート!$B$9=Y5,\"(目標年次)\",\"\")","v":""},{"$f":"IF(配列シート!$B$9=Z5,\"(目標年次)\",\"\")","v":""},{"$f":"IF(配列シート!$B$9=AA5,\"(目標年次)\",\"\")","v":""},{"$f":"IF(配列シート!$B$9=AB5,\"(目標年次)\",\"\")","v":""},{"$f":"IF(配列シート!$B$9=AC5,\"(目標年次)\",\"\")","v":""},{"$f":"IF(配列シート!$B$9=AD5,\"(目標年次)\",\"\")","v":"(目標年次)"},{"$f":"IF(配列シート!$B$9=AE5,\"(目標年次)\",\"\")","v":""},{"$f":"IF(配列シート!$B$9=AF5,\"(目標年次)\",\"\")","v":""},{"$f":"IF(配列シート!$B$9=AG5,\"(目標年次)\",\"\")","v":""},{"$f":"IF(配列シート!$B$9=AH5,\"(目標年次)\",\"\")","v":""},{"$f":"IF(配列シート!$B$9=AI5,\"(目標年次)\",\"\")","v":""},{"$f":"IF(配列シート!$B$9=AJ5,\"(目標年次)\",\"\")","v":""},{"$f":"IF(配列シート!$B$9=AK5,\"(目標年次)\",\"\")","v":""},{"$f":"IF(配列シート!$B$9=AL5,\"(目標年次)\",\"\")","v":""},{"$f":"IF(配列シート!$B$9=AM5,\"(目標年次)\",\"\")","v":""},{"$f":"IF(配列シート!$B$9=AN5,\"(目標年次)\",\"\")","v":""},null,null,"資 金 の 使 途"]
[null,null,null,null,null,null,"(○年","～","○年)","○年)",null,null,{"$f":"配列シート!B8-3","v":-3},{"$f":"M5+1","v":-2},{"$f":"N5+1","v":-1},{"$f":"O5+1","v":0},{"$f":"P5+1","v":1},{"$f":"Q5+1","v":2},{"$f":"R5+1","v":3},{"$f":"S5+1","v":4},{"$f":"T5+1","v":5},{"$f":"U5+1","v":6},{"$f":"V5+1","v":7},{"$f":"W5+1","v":8},{"$f":"X5+1","v":9},{"$f":"Y5+1","v":10},{"$f":"配列シート!B8-3","v":-3},{"$f":"AA5+1","v":-2},{"$f":"AB5+1","v":-1},{"$f":"AC5+1","v":0},{"$f":"AD5+1","v":1},{"$f":"AE5+1","v":2},{"$f":"AF5+1","v":3},{"$f":"AG5+1","v":4},{"$f":"AH5+1","v":5},{"$f":"AI5+1","v":6},{"$f":"AJ5+1","v":7},{"$f":"AK5+1","v":8},{"$f":"AL5+1","v":9},{"$f":"AM5+1","v":10},"部門","比率"]
[null,null,null,null,null,null,null,"～",null,null,null,"元利金"]
[null,null,null,null,null,null,null,null,null,null,null,"元  金"]
[null,null,"農業近代化資金",null,null,null,null,"～",null,null,null,"元利金"]
[null,null,null,null,null,null,null,null,null,null,null,"元  金"]
[null,null,null,null,null,null,null,"～",null,null,null,"元利金"]
[null,null,null,null,null,null,null,null,null,null,null,"元  金"]
[null,null,null,null,null,null,null,"～",null,null,null,"元利金"]
[null,null,null,null,null,null,null,null,null,null,null,"元  金"]
[null,null,null,null,null,null,null,"～",null,null,null,"元利金"]
[null,null,null,null,null,null,null,null,null,null,null,"元  金"]
[null,"制度資金",null,"その他計",null,{"$f":"SUMIF('5-1既住借入金の償還計画'!C6:C45,2,'5-1既住借入金の償還計画'!F6:F45)","v":0},null,null,null,null,null,"元利金",{"$f":"SUMIF('5-1既住借入金の償還計画'!C6:C45,2,'5-1既住借入金の償還計画'!M6:M45)","v":0},{"$f":"SUMIF('5-1既住借入金の償還計画'!C6:C45,2,'5-1既住借入金の償還計画'!N6:N45)","v":0},{"$f":"SUMIF('5-1既住借入金の償還計画'!C6:C45,2,'5-1既住借入金の償還計画'!O6:O45)","v":0},{"$f":"SUMIF('5-1既住借入金の償還計画'!C6:C45,2,'5-1既住借入金の償還計画'!P6:P45)","v":0},{"$f":"SUMIF('5-1既住借入金の償還計画'!C6:C45,2,'5-1既住借入金の償還計画'!Q6:Q45)","v":0},{"$f":"SUMIF('5-1既住借入金の償還計画'!C6:C45,2,'5-1既住借入金の償還計画'!R6:R45)","v":0},{"$f":"SUMIF('5-1既住借入金の償還計画'!C6:C45,2,'5-1既住借入金の償還計画'!S6:S45)","v":0},{"$f":"SUMIF('5-1既住借入金の償還計画'!C6:C45,2,'5-1既住借入金の償還計画'!T6:T45)","v":0},{"$f":"SUMIF('5-1既住借入金の償還計画'!C6:C45,2,'5-1既住借入金の償還計画'!U6:U45)","v":0},{"$f":"SUMIF('5-1既住借入金の償還計画'!C6:C45,2,'5-1既住借入金の償還計画'!V6:V45)","v":0},{"$f":"SUMIF('5-1既住借入金の償還計画'!C6:C45,2,'5-1既住借入金の償還計画'!W6:W45)","v":0},{"$f":"SUMIF('5-1既住借入金の償還計画'!C6:C45,2,'5-1既住借入金の償還計画'!X6:X45)","v":0},{"$f":"SUMIF('5-1既住借入金の償還計画'!C6:C45,2,'5-1既住借入金の償還計画'!Y6:Y45)","v":0},{"$f":"SUMIF('5-1既住借入金の償還計画'!C6:C45,2,'5-1既住借入金の償還計画'!Z6:Z45)","v":0}]
[null,null,null,null,null,null,null,null,null,null,null,"元  金",{"$f":"SUMIF('5-1既住借入金の償還計画'!C6:C45,12,'5-1既住借入金の償還計画'!M6:M45)","v":0},{"$f":"SUMIF('5-1既住借入金の償還計画'!C6:C45,12,'5-1既住借入金の償還計画'!N6:N45)","v":0},{"$f":"SUMIF('5-1既住借入金の償還計画'!C6:C45,12,'5-1既住借入金の償還計画'!O6:O45)","v":0},{"$f":"SUMIF('5-1既住借入金の償還計画'!C6:C45,12,'5-1既住借入金の償還計画'!P6:P45)","v":0},{"$f":"SUMIF('5-1既住借入金の償還計画'!C6:C45,12,'5-1既住借入金の償還計画'!Q6:Q45)","v":0},{"$f":"SUMIF('5-1既住借入金の償還計画'!C6:C45,12,'5-1既住借入金の償還計画'!R6:R45)","v":0},{"$f":"SUMIF('5-1既住借入金の償還計画'!C6:C45,12,'5-1既住借入金の償還計画'!S6:S45)","v":0},{"$f":"SUMIF('5-1既住借入金の償還計画'!C6:C45,12,'5-1既住借入金の償還計画'!T6:T45)","v":0},{"$f":"SUMIF('5-1既住借入金の償還計画'!C6:C45,12,'5-1既住借入金の償還計画'!U6:U45)","v":0},{"$f":"SUMIF('5-1既住借入金の償還計画'!C6:C45,12,'5-1既住借入金の償還計画'!V6:V45)","v":0},{"$f":"SUMIF('5-1既住借入金の償還計画'!C6:C45,12,'5-1既住借入金の償還計画'!W6:W45)","v":0},{"$f":"SUMIF('5-1既住借入金の償還計画'!C6:C45,12,'5-1既住借入金の償還計画'!X6:X45)","v":0},{"$f":"SUMIF('5-1既住借入金の償還計画'!C6:C45,12,'5-1既住借入金の償還計画'!Y6:Y45)","v":0},{"$f":"SUMIF('5-1既住借入金の償還計画'!C6:C45,12,'5-1既住借入金の償還計画'!Z6:Z45)","v":0},{"$f":"SUMIF('5-1既住借入金の償還計画'!C6:C45,12,'5-1既住借入金の償還計画'!AA6:AA45)","v":0},{"$f":"SUMIF('5-1既住借入金の償還計画'!C6:C45,12,'5-1既住借入金の償還計画'!AB6:AB45)","v":0},{"$f":"SUMIF('5-1既住借入金の償還計画'!C6:C45,12,'5-1既住借入金の償還計画'!AC6:AC45)","v":0},{"$f":"SUMIF('5-1既住借入金の償還計画'!C6:C45,12,'5-1既住借入金の償還計画'!AD6:AD45)","v":0},{"$f":"SUMIF('5-1既住借入金の償還計画'!C6:C45,12,'5-1既住借入金の償還計画'!AE6:AE45)","v":0},{"$f":"SUMIF('5-1既住借入金の償還計画'!C6:C45,12,'5-1既住借入金の償還計画'!AF6:AF45)","v":0},{"$f":"SUMIF('5-1既住借入金の償還計画'!C6:C45,12,'5-1既住借入金の償還計画'!AG6:AG45)","v":0},{"$f":"SUMIF('5-1既住借入金の償還計画'!C6:C45,12,'5-1既住借入金の償還計画'!AH6:AH45)","v":0},{"$f":"SUMIF('5-1既住借入金の償還計画'!C6:C45,12,'5-1既住借入金の償還計画'!AI6:AI45)","v":0},{"$f":"SUMIF('5-1既住借入金の償還計画'!C6:C45,12,'5-1既住借入金の償還計画'!AJ6:AJ45)","v":0},{"$f":"SUMIF('5-1既住借入金の償還計画'!C6:C45,12,'5-1既住借入金の償還計画'!AK6:AK45)","v":0},{"$f":"SUMIF('5-1既住借入金の償還計画'!C6:C45,12,'5-1既住借入金の償還計画'!AL6:AL45)","v":0},{"$f":"SUMIF('5-1既住借入金の償還計画'!C6:C45,12,'5-1既住借入金の償還計画'!AM6:AM45)","v":0},{"$f":"SUMIF('5-1既住借入金の償還計画'!C6:C45,12,'5-1既住借入金の償還計画'!AN6:AN45)","v":0}]
[null,null,null,null,null,null,null,null,null,null,null,"元利金",{"$f":"M6+M8+M10+M12+M14+M16","v":0},{"$f":"N6+N8+N10+N12+N14+N16","v":0},{"$f":"O6+O8+O10+O12+O14+O16","v":0},{"$f":"P6+P8+P10+P12+P14+P16","v":0},{"$f":"Q6+Q8+Q10+Q12+Q14+Q16","v":0},{"$f":"R6+R8+R10+R12+R14+R16","v":0},{"$f":"S6+S8+S10+S12+S14+S16","v":0},{"$f":"T6+T8+T10+T12+T14+T16","v":0},{"$f":"U6+U8+U10+U12+U14+U16","v":0},{"$f":"V6+V8+V10+V12+V14+V16","v":0},{"$f":"W6+W8+W10+W12+W14+W16","v":0},{"$f":"X6+X8+X10+X12+X14+X16","v":0},{"$f":"Y6+Y8+Y10+Y12+Y14+Y16","v":0},{"$f":"Z6+Z8+Z10+Z12+Z14+Z16","v":0}]
[null,null,null,"小            計",null,{"$f":"F6+F8+F10+F12+F14+F16","v":0},null,null,null,null,null,"元  金",{"$f":"+M7+M9+M11+M13+M15+M17","v":0},{"$f":"+N7+N9+N11+N13+N15+N17","v":0},{"$f":"+O7+O9+O11+O13+O15+O17","v":0},{"$f":"+P7+P9+P11+P13+P15+P17","v":0},{"$f":"+Q7+Q9+Q11+Q13+Q15+Q17","v":0},{"$f":"+R7+R9+R11+R13+R15+R17","v":0},{"$f":"+S7+S9+S11+S13+S15+S17","v":0},{"$f":"+T7+T9+T11+T13+T15+T17","v":0},{"$f":"+U7+U9+U11+U13+U15+U17","v":0},{"$f":"+V7+V9+V11+V13+V15+V17","v":0},{"$f":"+W7+W9+W11+W13+W15+W17","v":0},{"$f":"+X7+X9+X11+X13+X15+X17","v":0},{"$f":"+Y7+Y9+Y11+Y13+Y15+Y17","v":0},{"$f":"+Z7+Z9+Z11+Z13+Z15+Z17","v":0},{"$f":"AA7+AA9+AA11+AA13+AA15+AA17","v":0},{"$f":"AB7+AB9+AB11+AB13+AB15+AB17","v":0},{"$f":"AC7+AC9+AC11+AC13+AC15+AC17","v":0},{"$f":"AD7+AD9+AD11+AD13+AD15+AD17","v":0},{"$f":"AE7+AE9+AE11+AE13+AE15+AE17","v":0},{"$f":"AF7+AF9+AF11+AF13+AF15+AF17","v":0},{"$f":"AG7+AG9+AG11+AG13+AG15+AG17","v":0},{"$f":"AH7+AH9+AH11+AH13+AH15+AH17","v":0},{"$f":"AI7+AI9+AI11+AI13+AI15+AI17","v":0},{"$f":"AJ7+AJ9+AJ11+AJ13+AJ15+AJ17","v":0},{"$f":"AK7+AK9+AK11+AK13+AK15+AK17","v":0},{"$f":"AL7+AL9+AL11+AL13+AL15+AL17","v":0},{"$f":"AM7+AM9+AM11+AM13+AM15+AM17","v":0},{"$f":"AN7+AN9+AN11+AN13+AN15+AN17","v":0}]
[null,null,null,null,null,null,null,"～",null,null,null,"元利金"]
[null,null,"公庫資金",null,null,null,null,null,null,null,null,"元  金"]
[null,null,null,null,null,null,null,"～",null,null,null,"元利金"]
[null,null,null,null,null,null,null,null,null,null,null,"元  金"]
[null,null,null,null,null,null,null,"～",null,null,null,"元利金"]
[null,null,null,null,null,null,null,null,null,null,null,"元  金"]
[null,null,null,null,null,null,null,"～",null,null,null,"元利金"]
[null,null,null,null,null,null,null,null,null,null,null,"元  金"]
[null,null,null,"その他計",null,{"$f":"SUMIF('5-1既住借入金の償還計画'!C6:C45,3,'5-1既住借入金の償還計画'!F6:F45)","v":0},null,null,null,null,null,"元利金",{"$f":"SUMIF('5-1既住借入金の償還計画'!C6:C45,3,'5-1既住借入金の償還計画'!M6:M45)","v":0},{"$f":"SUMIF('5-1既住借入金の償還計画'!C6:C45,3,'5-1既住借入金の償還計画'!N6:N45)","v":0},{"$f":"SUMIF('5-1既住借入金の償還計画'!C6:C45,3,'5-1既住借入金の償還計画'!O6:O45)","v":0},{"$f":"SUMIF('5-1既住借入金の償還計画'!C6:C45,3,'5-1既住借入金の償還計画'!P6:P45)","v":0},{"$f":"SUMIF('5-1既住借入金の償還計画'!C6:C45,3,'5-1既住借入金の償還計画'!Q6:Q45)","v":0},{"$f":"SUMIF('5-1既住借入金の償還計画'!C6:C45,3,'5-1既住借入金の償還計画'!R6:R45)","v":0},{"$f":"SUMIF('5-1既住借入金の償還計画'!C6:C45,3,'5-1既住借入金の償還計画'!S6:S45)","v":0},{"$f":"SUMIF('5-1既住借入金の償還計画'!C6:C45,3,'5-1既住借入金の償還計画'!T6:T45)","v":0},{"$f":"SUMIF('5-1既住借入金の償還計画'!C6:C45,3,'5-1既住借入金の償還計画'!U6:U45)","v":0},{"$f":"SUMIF('5-1既住借入金の償還計画'!C6:C45,3,'5-1既住借入金の償還計画'!V6:V45)","v":0},{"$f":"SUMIF('5-1既住借入金の償還計画'!C6:C45,3,'5-1既住借入金の償還計画'!W6:W45)","v":0},{"$f":"SUMIF('5-1既住借入金の償還計画'!C6:C45,3,'5-1既住借入金の償還計画'!X6:X45)","v":0},{"$f":"SUMIF('5-1既住借入金の償還計画'!C6:C45,3,'5-1既住借入金の償還計画'!Y6:Y45)","v":0},{"$f":"SUMIF('5-1既住借入金の償還計画'!C6:C45,3,'5-1既住借入金の償還計画'!Z6:Z45)","v":0}]
[null,null,null,null,null,null,null,null,null,null,null,"元  金",{"$f":"SUMIF('5-1既住借入金の償還計画'!C6:C45,13,'5-1既住借入金の償還計画'!M6:M45)","v":0},{"$f":"SUMIF('5-1既住借入金の償還計画'!C6:C45,13,'5-1既住借入金の償還計画'!N6:N45)","v":0},{"$f":"SUMIF('5-1既住借入金の償還計画'!C6:C45,13,'5-1既住借入金の償還計画'!O6:O45)","v":0},{"$f":"SUMIF('5-1既住借入金の償還計画'!C6:C45,13,'5-1既住借入金の償還計画'!P6:P45)","v":0},{"$f":"SUMIF('5-1既住借入金の償還計画'!C6:C45,13,'5-1既住借入金の償還計画'!Q6:Q45)","v":0},{"$f":"SUMIF('5-1既住借入金の償還計画'!C6:C45,13,'5-1既住借入金の償還計画'!R6:R45)","v":0},{"$f":"SUMIF('5-1既住借入金の償還計画'!C6:C45,13,'5-1既住借入金の償還計画'!S6:S45)","v":0},{"$f":"SUMIF('5-1既住借入金の償還計画'!C6:C45,13,'5-1既住借入金の償還計画'!T6:T45)","v":0},{"$f":"SUMIF('5-1既住借入金の償還計画'!C6:C45,13,'5-1既住借入金の償還計画'!U6:U45)","v":0},{"$f":"SUMIF('5-1既住借入金の償還計画'!C6:C45,13,'5-1既住借入金の償還計画'!V6:V45)","v":0},{"$f":"SUMIF('5-1既住借入金の償還計画'!C6:C45,13,'5-1既住借入金の償還計画'!W6:W45)","v":0},{"$f":"SUMIF('5-1既住借入金の償還計画'!C6:C45,13,'5-1既住借入金の償還計画'!X6:X45)","v":0},{"$f":"SUMIF('5-1既住借入金の償還計画'!C6:C45,13,'5-1既住借入金の償還計画'!Y6:Y45)","v":0},{"$f":"SUMIF('5-1既住借入金の償還計画'!C6:C45,13,'5-1既住借入金の償還計画'!Z6:Z45)","v":0},{"$f":"SUMIF('5-1既住借入金の償還計画'!C6:C45,13,'5-1既住借入金の償還計画'!AA6:AA45)","v":0},{"$f":"SUMIF('5-1既住借入金の償還計画'!C6:C45,13,'5-1既住借入金の償還計画'!AB6:AB45)","v":0},{"$f":"SUMIF('5-1既住借入金の償還計画'!C6:C45,13,'5-1既住借入金の償還計画'!AC6:AC45)","v":0},{"$f":"SUMIF('5-1既住借入金の償還計画'!C6:C45,13,'5-1既住借入金の償還計画'!AD6:AD45)","v":0},{"$f":"SUMIF('5-1既住借入金の償還計画'!C6:C45,13,'5-1既住借入金の償還計画'!AE6:AE45)","v":0},{"$f":"SUMIF('5-1既住借入金の償還計画'!C6:C45,13,'5-1既住借入金の償還計画'!AF6:AF45)","v":0},{"$f":"SUMIF('5-1既住借入金の償還計画'!C6:C45,13,'5-1既住借入金の償還計画'!AG6:AG45)","v":0},{"$f":"SUMIF('5-1既住借入金の償還計画'!C6:C45,13,'5-1既住借入金の償還計画'!AH6:AH45)","v":0},{"$f":"SUMIF('5-1既住借入金の償還計画'!C6:C45,13,'5-1既住借入金の償還計画'!AI6:AI45)","v":0},{"$f":"SUMIF('5-1既住借入金の償還計画'!C6:C45,13,'5-1既住借入金の償還計画'!AJ6:AJ45)","v":0},{"$f":"SUMIF('5-1既住借入金の償還計画'!C6:C45,13,'5-1既住借入金の償還計画'!AK6:AK45)","v":0},{"$f":"SUMIF('5-1既住借入金の償還計画'!C6:C45,13,'5-1既住借入金の償還計画'!AL6:AL45)","v":0},{"$f":"SUMIF('5-1既住借入金の償還計画'!C6:C45,13,'5-1既住借入金の償還計画'!AM6:AM45)","v":0},{"$f":"SUMIF('5-1既住借入金の償還計画'!C6:C45,13,'5-1既住借入金の償還計画'!AN6:AN45)","v":0}]
[null,null,null,null,null,null,null,null,null,null,null,"元利金",{"$f":"M20+M22+M24+M26+M28","v":0},{"$f":"N20+N22+N24+N26+N28","v":0},{"$f":"O20+O22+O24+O26+O28","v":0},{"$f":"P20+P22+P24+P26+P28","v":0},{"$f":"Q20+Q22+Q24+Q26+Q28","v":0},{"$f":"R20+R22+R24+R26+R28","v":0},{"$f":"S20+S22+S24+S26+S28","v":0},{"$f":"T20+T22+T24+T26+T28","v":0},{"$f":"U20+U22+U24+U26+U28","v":0},{"$f":"V20+V22+V24+V26+V28","v":0},{"$f":"W20+W22+W24+W26+W28","v":0},{"$f":"X20+X22+X24+X26+X28","v":0},{"$f":"Y20+Y22+Y24+Y26+Y28","v":0},{"$f":"Z20+Z22+Z24+Z26+Z28","v":0}]
[null,null,null,"小            計",null,{"$f":"F20+F22+F24+F26+F28","v":0},null,null,null,null,null,"元  金",{"$f":"M21+M23+M25+M27+M29","v":0},{"$f":"N21+N23+N25+N27+N29","v":0},{"$f":"O21+O23+O25+O27+O29","v":0},{"$f":"P21+P23+P25+P27+P29","v":0},{"$f":"Q21+Q23+Q25+Q27+Q29","v":0},{"$f":"R21+R23+R25+R27+R29","v":0},{"$f":"S21+S23+S25+S27+S29","v":0},{"$f":"T21+T23+T25+T27+T29","v":0},{"$f":"U21+U23+U25+U27+U29","v":0},{"$f":"V21+V23+V25+V27+V29","v":0},{"$f":"W21+W23+W25+W27+W29","v":0},{"$f":"X21+X23+X25+X27+X29","v":0},{"$f":"Y21+Y23+Y25+Y27+Y29","v":0},{"$f":"Z21+Z23+Z25+Z27+Z29","v":0},{"$f":"AA21+AA23+AA25+AA27+AA29","v":0},{"$f":"AB21+AB23+AB25+AB27+AB29","v":0},{"$f":"AC21+AC23+AC25+AC27+AC29","v":0},{"$f":"AD21+AD23+AD25+AD27+AD29","v":0},{"$f":"AE21+AE23+AE25+AE27+AE29","v":0},{"$f":"AF21+AF23+AF25+AF27+AF29","v":0},{"$f":"AG21+AG23+AG25+AG27+AG29","v":0},{"$f":"AH21+AH23+AH25+AH27+AH29","v":0},{"$f":"AI21+AI23+AI25+AI27+AI29","v":0},{"$f":"AJ21+AJ23+AJ25+AJ27+AJ29","v":0},{"$f":"AK21+AK23+AK25+AK27+AK29","v":0},{"$f":"AL21+AL23+AL25+AL27+AL29","v":0},{"$f":"AM21+AM23+AM25+AM27+AM29","v":0},{"$f":"AN21+AN23+AN25+AN27+AN29","v":0}]
[null,null,null,null,null,null,null,"～",null,null,null,"元利金"]
[null,null,"その他制度資金※除く畜特",null,null,null,null,{"$f":"IF(AND(G33<>0,I33<>0),\"～\",\"\")","v":""},null,null,null,"元  金"]
[null,null,null,null,null,null,null,"～",null,null,null,"元利金"]
[null,null,null,null,null,null,null,null,null,null,null,"元  金"]
[null,null,null,null,null,null,null,"～",null,null,null,"元利金"]
[null,null,null,null,null,null,null,null,null,null,null,"元  金"]
[null,null,null,null,null,null,null,"～",null,null,null,"元利金"]
[null,null,null,null,null,null,null,null,null,null,null,"元  金"]
[null,null,null,null,null,null,null,"～",null,null,null,"元利金"]
[null,null,null,null,null,null,null,null,null,null,null,"元  金"]
[null,null,null,null,null,null,null,"～",null,null,null,"元利金"]
[null,null,null,null,null,null,null,null,null,null,null,"元  金"]
[null,null,null,"その他計",null,{"$f":"SUMIF('5-1既住借入金の償還計画'!C6:C45,4,'5-1既住借入金の償還計画'!F6:F45)","v":0},null,null,null,null,null,"元利金",{"$f":"SUMIF('5-1既住借入金の償還計画'!C6:C45,4,'5-1既住借入金の償還計画'!M6:M45)","v":0},{"$f":"SUMIF('5-1既住借入金の償還計画'!C6:C45,4,'5-1既住借入金の償還計画'!N6:N45)","v":0},{"$f":"SUMIF('5-1既住借入金の償還計画'!C6:C45,4,'5-1既住借入金の償還計画'!O6:O45)","v":0},{"$f":"SUMIF('5-1既住借入金の償還計画'!C6:C45,4,'5-1既住借入金の償還計画'!P6:P45)","v":0},{"$f":"SUMIF('5-1既住借入金の償還計画'!C6:C45,4,'5-1既住借入金の償還計画'!Q6:Q45)","v":0},{"$f":"SUMIF('5-1既住借入金の償還計画'!C6:C45,4,'5-1既住借入金の償還計画'!R6:R45)","v":0},{"$f":"SUMIF('5-1既住借入金の償還計画'!C6:C45,4,'5-1既住借入金の償還計画'!S6:S45)","v":0},{"$f":"SUMIF('5-1既住借入金の償還計画'!C6:C45,4,'5-1既住借入金の償還計画'!T6:T45)","v":0},{"$f":"SUMIF('5-1既住借入金の償還計画'!C6:C45,4,'5-1既住借入金の償還計画'!U6:U45)","v":0},{"$f":"SUMIF('5-1既住借入金の償還計画'!C6:C45,4,'5-1既住借入金の償還計画'!V6:V45)","v":0},{"$f":"SUMIF('5-1既住借入金の償還計画'!C6:C45,4,'5-1既住借入金の償還計画'!W6:W45)","v":0},{"$f":"SUMIF('5-1既住借入金の償還計画'!C6:C45,4,'5-1既住借入金の償還計画'!X6:X45)","v":0},{"$f":"SUMIF('5-1既住借入金の償還計画'!C6:C45,4,'5-1既住借入金の償還計画'!Y6:Y45)","v":0},{"$f":"SUMIF('5-1既住借入金の償還計画'!C6:C45,4,'5-1既住借入金の償還計画'!Z6:Z45)","v":0}]
[null,null,null,null,null,null,null,null,null,null,null,"元  金",{"$f":"SUMIF('5-1既住借入金の償還計画'!C6:C45,14,'5-1既住借入金の償還計画'!M6:M45)","v":0},{"$f":"SUMIF('5-1既住借入金の償還計画'!C6:C45,14,'5-1既住借入金の償還計画'!N6:N45)","v":0},{"$f":"SUMIF('5-1既住借入金の償還計画'!C6:C45,14,'5-1既住借入金の償還計画'!O6:O45)","v":0},{"$f":"SUMIF('5-1既住借入金の償還計画'!C6:C45,14,'5-1既住借入金の償還計画'!P6:P45)","v":0},{"$f":"SUMIF('5-1既住借入金の償還計画'!C6:C45,14,'5-1既住借入金の償還計画'!Q6:Q45)","v":0},{"$f":"SUMIF('5-1既住借入金の償還計画'!C6:C45,14,'5-1既住借入金の償還計画'!R6:R45)","v":0},{"$f":"SUMIF('5-1既住借入金の償還計画'!C6:C45,14,'5-1既住借入金の償還計画'!S6:S45)","v":0},{"$f":"SUMIF('5-1既住借入金の償還計画'!C6:C45,14,'5-1既住借入金の償還計画'!T6:T45)","v":0},{"$f":"SUMIF('5-1既住借入金の償還計画'!C6:C45,14,'5-1既住借入金の償還計画'!U6:U45)","v":0},{"$f":"SUMIF('5-1既住借入金の償還計画'!C6:C45,14,'5-1既住借入金の償還計画'!V6:V45)","v":0},{"$f":"SUMIF('5-1既住借入金の償還計画'!C6:C45,14,'5-1既住借入金の償還計画'!W6:W45)","v":0},{"$f":"SUMIF('5-1既住借入金の償還計画'!C6:C45,14,'5-1既住借入金の償還計画'!X6:X45)","v":0},{"$f":"SUMIF('5-1既住借入金の償還計画'!C6:C45,14,'5-1既住借入金の償還計画'!Y6:Y45)","v":0},{"$f":"SUMIF('5-1既住借入金の償還計画'!C6:C45,14,'5-1既住借入金の償還計画'!Z6:Z45)","v":0},{"$f":"SUMIF('5-1既住借入金の償還計画'!C6:C45,14,'5-1既住借入金の償還計画'!AA6:AA45)","v":0},{"$f":"SUMIF('5-1既住借入金の償還計画'!C6:C45,14,'5-1既住借入金の償還計画'!AB6:AB45)","v":0},{"$f":"SUMIF('5-1既住借入金の償還計画'!C6:C45,14,'5-1既住借入金の償還計画'!AC6:AC45)","v":0},{"$f":"SUMIF('5-1既住借入金の償還計画'!C6:C45,14,'5-1既住借入金の償還計画'!AD6:AD45)","v":0},{"$f":"SUMIF('5-1既住借入金の償還計画'!C6:C45,14,'5-1既住借入金の償還計画'!AE6:AE45)","v":0},{"$f":"SUMIF('5-1既住借入金の償還計画'!C6:C45,14,'5-1既住借入金の償還計画'!AF6:AF45)","v":0},{"$f":"SUMIF('5-1既住借入金の償還計画'!C6:C45,14,'5-1既住借入金の償還計画'!AG6:AG45)","v":0},{"$f":"SUMIF('5-1既住借入金の償還計画'!C6:C45,14,'5-1既住借入金の償還計画'!AH6:AH45)","v":0},{"$f":"SUMIF('5-1既住借入金の償還計画'!C6:C45,14,'5-1既住借入金の償還計画'!AI6:AI45)","v":0},{"$f":"SUMIF('5-1既住借入金の償還計画'!C6:C45,14,'5-1既住借入金の償還計画'!AJ6:AJ45)","v":0},{"$f":"SUMIF('5-1既住借入金の償還計画'!C6:C45,14,'5-1既住借入金の償還計画'!AK6:AK45)","v":0},{"$f":"SUMIF('5-1既住借入金の償還計画'!C6:C45,14,'5-1既住借入金の償還計画'!AL6:AL45)","v":0},{"$f":"SUMIF('5-1既住借入金の償還計画'!C6:C45,14,'5-1既住借入金の償還計画'!AM6:AM45)","v":0},{"$f":"SUMIF('5-1既住借入金の償還計画'!C6:C45,14,'5-1既住借入金の償還計画'!AN6:AN45)","v":0}]
[null,null,null,null,null,null,null,null,null,null,null,"元利金",{"$f":"M32+M34+M36+M38+M40+M42+M44","v":0},{"$f":"N32+N34+N36+N38+N40+N42+N44","v":0},{"$f":"O32+O34+O36+O38+O40+O42+O44","v":0},{"$f":"P32+P34+P36+P38+P40+P42+P44","v":0},{"$f":"Q32+Q34+Q36+Q38+Q40+Q42+Q44","v":0},{"$f":"R32+R34+R36+R38+R40+R42+R44","v":0},{"$f":"S32+S34+S36+S38+S40+S42+S44","v":0},{"$f":"T32+T34+T36+T38+T40+T42+T44","v":0},{"$f":"U32+U34+U36+U38+U40+U42+U44","v":0},{"$f":"V32+V34+V36+V38+V40+V42+V44","v":0},{"$f":"W32+W34+W36+W38+W40+W42+W44","v":0},{"$f":"X32+X34+X36+X38+X40+X42+X44","v":0},{"$f":"Y32+Y34+Y36+Y38+Y40+Y42+Y44","v":0},{"$f":"Z32+Z34+Z36+Z38+Z40+Z42+Z44","v":0}]
[null,null,null,"小            計",null,{"$f":"F32+F34+F36+F38+F40+F42+F44","v":0},null,null,null,null,null,"元  金",{"$f":"M33+M35+M37+M39+M41+M43+M45","v":0},{"$f":"N33+N35+N37+N39+N41+N43+N45","v":0},{"$f":"O33+O35+O37+O39+O41+O43+O45","v":0},{"$f":"P33+P35+P37+P39+P41+P43+P45","v":0},{"$f":"Q33+Q35+Q37+Q39+Q41+Q43+Q45","v":0},{"$f":"R33+R35+R37+R39+R41+R43+R45","v":0},{"$f":"S33+S35+S37+S39+S41+S43+S45","v":0},{"$f":"T33+T35+T37+T39+T41+T43+T45","v":0},{"$f":"U33+U35+U37+U39+U41+U43+U45","v":0},{"$f":"V33+V35+V37+V39+V41+V43+V45","v":0},{"$f":"W33+W35+W37+W39+W41+W43+W45","v":0},{"$f":"X33+X35+X37+X39+X41+X43+X45","v":0},{"$f":"Y33+Y35+Y37+Y39+Y41+Y43+Y45","v":0},{"$f":"Z33+Z35+Z37+Z39+Z41+Z43+Z45","v":0},{"$f":"AA33+AA35+AA37+AA39+AA41+AA43+AA45","v":0},{"$f":"AB33+AB35+AB37+AB39+AB41+AB43+AB45","v":0},{"$f":"AC33+AC35+AC37+AC39+AC41+AC43+AC45","v":0},{"$f":"AD33+AD35+AD37+AD39+AD41+AD43+AD45","v":0},{"$f":"AE33+AE35+AE37+AE39+AE41+AE43+AE45","v":0},{"$f":"AF33+AF35+AF37+AF39+AF41+AF43+AF45","v":0},{"$f":"AG33+AG35+AG37+AG39+AG41+AG43+AG45","v":0},{"$f":"AH33+AH35+AH37+AH39+AH41+AH43+AH45","v":0},{"$f":"AI33+AI35+AI37+AI39+AI41+AI43+AI45","v":0},{"$f":"AJ33+AJ35+AJ37+AJ39+AJ41+AJ43+AJ45","v":0},{"$f":"AK33+AK35+AK37+AK39+AK41+AK43+AK45","v":0},{"$f":"AL33+AL35+AL37+AL39+AL41+AL43+AL45","v":0},{"$f":"AM33+AM35+AM37+AM39+AM41+AM43+AM45","v":0},{"$f":"AN33+AN35+AN37+AN39+AN41+AN43+AN45","v":0}]
[null,null,null,null,null,null,null,"～",null,null,null,"元利金"]
[null,null,"畜産特別資金",null,null,null,null,null,null,null,null,"元  金"]
[null,null,null,null,null,null,null,"～",null,null,null,"元利金"]
[null,null,null,null,null,null,null,null,null,null,null,"元  金"]
[null,null,null,null,null,null,null,"～",null,null,null,"元利金"]
[null,null,null,null,null,null,null,null,null,null,null,"元  金"]
[null,null,null,null,null,null,null,"～",null,null,null,"元利金"]
[null,null,null,null,null,null,null,null,null,null,null,"元  金"]
[null,null,null,null,null,null,null,"～",null,null,null,"元利金"]
[null,null,null,null,null,null,null,null,null,null,null,"元  金"]
[null,null,null,null,null,null,null,"～",null,null,null,"元利金"]
[null,null,null,null,null,null,null,null,null,null,null,"元  金"]
[null,null,null,"その他計",null,{"$f":"SUMIF('5-1既住借入金の償還計画'!C6:C45,5,'5-1既住借入金の償還計画'!F6:F45)","v":0},null,null,null,null,null,"元利金",{"$f":"SUMIF('5-1既住借入金の償還計画'!C6:C45,5,'5-1既住借入金の償還計画'!M6:M45)","v":0},{"$f":"SUMIF('5-1既住借入金の償還計画'!C6:C45,5,'5-1既住借入金の償還計画'!N6:N45)","v":0},{"$f":"SUMIF('5-1既住借入金の償還計画'!C6:C45,5,'5-1既住借入金の償還計画'!O6:O45)","v":0},{"$f":"SUMIF('5-1既住借入金の償還計画'!C6:C45,5,'5-1既住借入金の償還計画'!P6:P45)","v":0},{"$f":"SUMIF('5-1既住借入金の償還計画'!C6:C45,5,'5-1既住借入金の償還計画'!Q6:Q45)","v":0},{"$f":"SUMIF('5-1既住借入金の償還計画'!C6:C45,5,'5-1既住借入金の償還計画'!R6:R45)","v":0},{"$f":"SUMIF('5-1既住借入金の償還計画'!C6:C45,5,'5-1既住借入金の償還計画'!S6:S45)","v":0},{"$f":"SUMIF('5-1既住借入金の償還計画'!C6:C45,5,'5-1既住借入金の償還計画'!T6:T45)","v":0},{"$f":"SUMIF('5-1既住借入金の償還計画'!C6:C45,5,'5-1既住借入金の償還計画'!U6:U45)","v":0},{"$f":"SUMIF('5-1既住借入金の償還計画'!C6:C45,5,'5-1既住借入金の償還計画'!V6:V45)","v":0},{"$f":"SUMIF('5-1既住借入金の償還計画'!C6:C45,5,'5-1既住借入金の償還計画'!W6:W45)","v":0},{"$f":"SUMIF('5-1既住借入金の償還計画'!C6:C45,5,'5-1既住借入金の償還計画'!X6:X45)","v":0},{"$f":"SUMIF('5-1既住借入金の償還計画'!C6:C45,5,'5-1既住借入金の償還計画'!Y6:Y45)","v":0},{"$f":"SUMIF('5-1既住借入金の償還計画'!C6:C45,5,'5-1既住借入金の償還計画'!Z6:Z45)","v":0}]
[null,null,null,null,null,null,null,null,null,null,null,"元  金",{"$f":"SUMIF('5-1既住借入金の償還計画'!C6:C45,15,'5-1既住借入金の償還計画'!M6:M45)","v":0},{"$f":"SUMIF('5-1既住借入金の償還計画'!C6:C45,15,'5-1既住借入金の償還計画'!N6:N45)","v":0},{"$f":"SUMIF('5-1既住借入金の償還計画'!C6:C45,15,'5-1既住借入金の償還計画'!O6:O45)","v":0},{"$f":"SUMIF('5-1既住借入金の償還計画'!C6:C45,15,'5-1既住借入金の償還計画'!P6:P45)","v":0},{"$f":"SUMIF('5-1既住借入金の償還計画'!C6:C45,15,'5-1既住借入金の償還計画'!Q6:Q45)","v":0},{"$f":"SUMIF('5-1既住借入金の償還計画'!C6:C45,15,'5-1既住借入金の償還計画'!R6:R45)","v":0},{"$f":"SUMIF('5-1既住借入金の償還計画'!C6:C45,15,'5-1既住借入金の償還計画'!S6:S45)","v":0},{"$f":"SUMIF('5-1既住借入金の償還計画'!C6:C45,15,'5-1既住借入金の償還計画'!T6:T45)","v":0},{"$f":"SUMIF('5-1既住借入金の償還計画'!C6:C45,15,'5-1既住借入金の償還計画'!U6:U45)","v":0},{"$f":"SUMIF('5-1既住借入金の償還計画'!C6:C45,15,'5-1既住借入金の償還計画'!V6:V45)","v":0},{"$f":"SUMIF('5-1既住借入金の償還計画'!C6:C45,15,'5-1既住借入金の償還計画'!W6:W45)","v":0},{"$f":"SUMIF('5-1既住借入金の償還計画'!C6:C45,15,'5-1既住借入金の償還計画'!X6:X45)","v":0},{"$f":"SUMIF('5-1既住借入金の償還計画'!C6:C45,15,'5-1既住借入金の償還計画'!Y6:Y45)","v":0},{"$f":"SUMIF('5-1既住借入金の償還計画'!C6:C45,15,'5-1既住借入金の償還計画'!Z6:Z45)","v":0},{"$f":"SUMIF('5-1既住借入金の償還計画'!C6:C45,15,'5-1既住借入金の償還計画'!AA6:AA45)","v":0},{"$f":"SUMIF('5-1既住借入金の償還計画'!C6:C45,15,'5-1既住借入金の償還計画'!AB6:AB45)","v":0},{"$f":"SUMIF('5-1既住借入金の償還計画'!C6:C45,15,'5-1既住借入金の償還計画'!AC6:AC45)","v":0},{"$f":"SUMIF('5-1既住借入金の償還計画'!C6:C45,15,'5-1既住借入金の償還計画'!AD6:AD45)","v":0},{"$f":"SUMIF('5-1既住借入金の償還計画'!C6:C45,15,'5-1既住借入金の償還計画'!AE6:AE45)","v":0},{"$f":"SUMIF('5-1既住借入金の償還計画'!C6:C45,15,'5-1既住借入金の償還計画'!AF6:AF45)","v":0},{"$f":"SUMIF('5-1既住借入金の償還計画'!C6:C45,15,'5-1既住借入金の償還計画'!AG6:AG45)","v":0},{"$f":"SUMIF('5-1既住借入金の償還計画'!C6:C45,15,'5-1既住借入金の償還計画'!AH6:AH45)","v":0},{"$f":"SUMIF('5-1既住借入金の償還計画'!C6:C45,15,'5-1既住借入金の償還計画'!AI6:AI45)","v":0},{"$f":"SUMIF('5-1既住借入金の償還計画'!C6:C45,15,'5-1既住借入金の償還計画'!AJ6:AJ45)","v":0},{"$f":"SUMIF('5-1既住借入金の償還計画'!C6:C45,15,'5-1既住借入金の償還計画'!AK6:AK45)","v":0},{"$f":"SUMIF('5-1既住借入金の償還計画'!C6:C45,15,'5-1既住借入金の償還計画'!AL6:AL45)","v":0},{"$f":"SUMIF('5-1既住借入金の償還計画'!C6:C45,15,'5-1既住借入金の償還計画'!AM6:AM45)","v":0},{"$f":"SUMIF('5-1既住借入金の償還計画'!C6:C45,15,'5-1既住借入金の償還計画'!AN6:AN45)","v":0}]
[null,null,null,null,null,null,null,null,null,null,null,"元利金",{"$f":"M48+M50+M52+M54+M56+M58+M60","v":0},{"$f":"N48+N50+N52+N54+N56+N58+N60","v":0},{"$f":"O48+O50+O52+O54+O56+O58+O60","v":0},{"$f":"P48+P50+P52+P54+P56+P58+P60","v":0},{"$f":"Q48+Q50+Q52+Q54+Q56+Q58+Q60","v":0},{"$f":"R48+R50+R52+R54+R56+R58+R60","v":0},{"$f":"S48+S50+S52+S54+S56+S58+S60","v":0},{"$f":"T48+T50+T52+T54+T56+T58+T60","v":0},{"$f":"U48+U50+U52+U54+U56+U58+U60","v":0},{"$f":"V48+V50+V52+V54+V56+V58+V60","v":0},{"$f":"W48+W50+W52+W54+W56+W58+W60","v":0},{"$f":"X48+X50+X52+X54+X56+X58+X60","v":0},{"$f":"Y48+Y50+Y52+Y54+Y56+Y58+Y60","v":0},{"$f":"Z48+Z50+Z52+Z54+Z56+Z58+Z60","v":0}]
[null,null,null,"小            計",null,{"$f":"F48+F50+F52+F54+F56+F58+F60","v":0},null,null,null,null,null,"元  金",{"$f":"M49+M51+M53+M55+M57+M59+M61","v":0},{"$f":"N49+N51+N53+N55+N57+N59+N61","v":0},{"$f":"O49+O51+O53+O55+O57+O59+O61","v":0},{"$f":"P49+P51+P53+P55+P57+P59+P61","v":0},{"$f":"Q49+Q51+Q53+Q55+Q57+Q59+Q61","v":0},{"$f":"R49+R51+R53+R55+R57+R59+R61","v":0},{"$f":"S49+S51+S53+S55+S57+S59+S61","v":0},{"$f":"T49+T51+T53+T55+T57+T59+T61","v":0},{"$f":"U49+U51+U53+U55+U57+U59+U61","v":0},{"$f":"V49+V51+V53+V55+V57+V59+V61","v":0},{"$f":"W49+W51+W53+W55+W57+W59+W61","v":0},{"$f":"X49+X51+X53+X55+X57+X59+X61","v":0},{"$f":"Y49+Y51+Y53+Y55+Y57+Y59+Y61","v":0},{"$f":"Z49+Z51+Z53+Z55+Z57+Z59+Z61","v":0},{"$f":"AA49+AA51+AA53+AA55+AA57+AA59+AA61","v":0},{"$f":"AB49+AB51+AB53+AB55+AB57+AB59+AB61","v":0},{"$f":"AC49+AC51+AC53+AC55+AC57+AC59+AC61","v":0},{"$f":"AD49+AD51+AD53+AD55+AD57+AD59+AD61","v":0},{"$f":"AE49+AE51+AE53+AE55+AE57+AE59+AE61","v":0},{"$f":"AF49+AF51+AF53+AF55+AF57+AF59+AF61","v":0},{"$f":"AG49+AG51+AG53+AG55+AG57+AG59+AG61","v":0},{"$f":"AH49+AH51+AH53+AH55+AH57+AH59+AH61","v":0},{"$f":"AI49+AI51+AI53+AI55+AI57+AI59+AI61","v":0},{"$f":"AJ49+AJ51+AJ53+AJ55+AJ57+AJ59+AJ61","v":0},{"$f":"AK49+AK51+AK53+AK55+AK57+AK59+AK61","v":0},{"$f":"AL49+AL51+AL53+AL55+AL57+AL59+AL61","v":0},{"$f":"AM49+AM51+AM53+AM55+AM57+AM59+AM61","v":0},{"$f":"AN49+AN51+AN53+AN55+AN57+AN59+AN61","v":0}]
[null,null,null,null,null,null,null,null,null,null,null,"元利金",{"$f":"M18+M30+M46+M62","v":0},{"$f":"N18+N30+N46+N62","v":0},{"$f":"O18+O30+O46+O62","v":0},{"$f":"P18+P30+P46+P62","v":0},{"$f":"Q18+Q30+Q46+Q62","v":0},{"$f":"R18+R30+R46+R62","v":0},{"$f":"S18+S30+S46+S62","v":0},{"$f":"T18+T30+T46+T62","v":0},{"$f":"U18+U30+U46+U62","v":0},{"$f":"V18+V30+V46+V62","v":0},{"$f":"W18+W30+W46+W62","v":0},{"$f":"X18+X30+X46+X62","v":0},{"$f":"Y18+Y30+Y46+Y62","v":0},{"$f":"Z18+Z30+Z46+Z62","v":0}]
[null,null,"計",null,null,{"$f":"F19+F31+F47+F63","v":0},null,null,null,null,null,"元  金",{"$f":"M19+M31+M47+M63","v":0},{"$f":"N19+N31+N47+N63","v":0},{"$f":"O19+O31+O47+O63","v":0},{"$f":"P19+P31+P47+P63","v":0},{"$f":"Q19+Q31+Q47+Q63","v":0},{"$f":"R19+R31+R47+R63","v":0},{"$f":"S19+S31+S47+S63","v":0},{"$f":"T19+T31+T47+T63","v":0},{"$f":"U19+U31+U47+U63","v":0},{"$f":"V19+V31+V47+V63","v":0},{"$f":"W19+W31+W47+W63","v":0},{"$f":"X19+X31+X47+X63","v":0},{"$f":"Y19+Y31+Y47+Y63","v":0},{"$f":"Z19+Z31+Z47+Z63","v":0},{"$f":"AA19+AA31+AA47+AA63","v":0},{"$f":"AB19+AB31+AB47+AB63","v":0},{"$f":"AC19+AC31+AC47+AC63","v":0},{"$f":"AD19+AD31+AD47+AD63","v":0},{"$f":"AE19+AE31+AE47+AE63","v":0},{"$f":"AF19+AF31+AF47+AF63","v":0},{"$f":"AG19+AG31+AG47+AG63","v":0},{"$f":"AH19+AH31+AH47+AH63","v":0},{"$f":"AI19+AI31+AI47+AI63","v":0},{"$f":"AJ19+AJ31+AJ47+AJ63","v":0},{"$f":"AK19+AK31+AK47+AK63","v":0},{"$f":"AL19+AL31+AL47+AL63","v":0},{"$f":"AM19+AM31+AM47+AM63","v":0},{"$f":"AN19+AN31+AN47+AN63","v":0}]
[null,null,null,null,null,null,null,"～",null,null,null,"元利金"]
[null,null,"長期一年を超えるもの",null,null,null,null,null,null,null,null,"元  金"]
[null,null,null,null,null,null,null,"～",null,null,null,"元利金"]
[null,null,null,null,null,null,null,null,null,null,null,"元  金"]
[null,"農協系統資金",null,null,null,null,null,"～",null,null,null,"元利金"]
[null,null,null,null,null,null,null,null,null,null,null,"元  金"]
[null,null,null,null,null,null,null,"～",null,null,null,"元利金"]
[null,null,null,null,null,null,null,null,null,null,null,"元  金"]
[null,null,null,null,null,null,null,"～",null,null,null,"元利金"]
[null,null,null,null,null,null,null,null,null,null,null,"元  金"]
[null,null,null,"その他計",null,{"$f":"SUMIF('5-1既住借入金の償還計画'!C6:C45,6,'5-1既住借入金の償還計画'!F6:F45)","v":0},null,null,null,null,null,"元利金",{"$f":"SUMIF('5-1既住借入金の償還計画'!C6:C45,6,'5-1既住借入金の償還計画'!M6:M45)","v":0},{"$f":"SUMIF('5-1既住借入金の償還計画'!C6:C45,6,'5-1既住借入金の償還計画'!N6:N45)","v":0},{"$f":"SUMIF('5-1既住借入金の償還計画'!C6:C45,6,'5-1既住借入金の償還計画'!O6:O45)","v":0},{"$f":"SUMIF('5-1既住借入金の償還計画'!C6:C45,6,'5-1既住借入金の償還計画'!P6:P45)","v":0},{"$f":"SUMIF('5-1既住借入金の償還計画'!C6:C45,6,'5-1既住借入金の償還計画'!Q6:Q45)","v":0},{"$f":"SUMIF('5-1既住借入金の償還計画'!C6:C45,6,'5-1既住借入金の償還計画'!R6:R45)","v":0},{"$f":"SUMIF('5-1既住借入金の償還計画'!C6:C45,6,'5-1既住借入金の償還計画'!S6:S45)","v":0},{"$f":"SUMIF('5-1既住借入金の償還計画'!C6:C45,6,'5-1既住借入金の償還計画'!T6:T45)","v":0},{"$f":"SUMIF('5-1既住借入金の償還計画'!C6:C45,6,'5-1既住借入金の償還計画'!U6:U45)","v":0},{"$f":"SUMIF('5-1既住借入金の償還計画'!C6:C45,6,'5-1既住借入金の償還計画'!V6:V45)","v":0},{"$f":"SUMIF('5-1既住借入金の償還計画'!C6:C45,6,'5-1既住借入金の償還計画'!W6:W45)","v":0},{"$f":"SUMIF('5-1既住借入金の償還計画'!C6:C45,6,'5-1既住借入金の償還計画'!X6:X45)","v":0},{"$f":"SUMIF('5-1既住借入金の償還計画'!C6:C45,6,'5-1既住借入金の償還計画'!Y6:Y45)","v":0},{"$f":"SUMIF('5-1既住借入金の償還計画'!C6:C45,6,'5-1既住借入金の償還計画'!Z6:Z45)","v":0}]
[null,null,null,null,null,null,null,null,null,null,null,"元  金",{"$f":"SUMIF('5-1既住借入金の償還計画'!C6:C45,16,'5-1既住借入金の償還計画'!M6:M45)","v":0},{"$f":"SUMIF('5-1既住借入金の償還計画'!C6:C45,16,'5-1既住借入金の償還計画'!N6:N45)","v":0},{"$f":"SUMIF('5-1既住借入金の償還計画'!C6:C45,16,'5-1既住借入金の償還計画'!O6:O45)","v":0},{"$f":"SUMIF('5-1既住借入金の償還計画'!C6:C45,16,'5-1既住借入金の償還計画'!P6:P45)","v":0},{"$f":"SUMIF('5-1既住借入金の償還計画'!C6:C45,16,'5-1既住借入金の償還計画'!Q6:Q45)","v":0},{"$f":"SUMIF('5-1既住借入金の償還計画'!C6:C45,16,'5-1既住借入金の償還計画'!R6:R45)","v":0},{"$f":"SUMIF('5-1既住借入金の償還計画'!C6:C45,16,'5-1既住借入金の償還計画'!S6:S45)","v":0},{"$f":"SUMIF('5-1既住借入金の償還計画'!C6:C45,16,'5-1既住借入金の償還計画'!T6:T45)","v":0},{"$f":"SUMIF('5-1既住借入金の償還計画'!C6:C45,16,'5-1既住借入金の償還計画'!U6:U45)","v":0},{"$f":"SUMIF('5-1既住借入金の償還計画'!C6:C45,16,'5-1既住借入金の償還計画'!V6:V45)","v":0},{"$f":"SUMIF('5-1既住借入金の償還計画'!C6:C45,16,'5-1既住借入金の償還計画'!W6:W45)","v":0},{"$f":"SUMIF('5-1既住借入金の償還計画'!C6:C45,16,'5-1既住借入金の償還計画'!X6:X45)","v":0},{"$f":"SUMIF('5-1既住借入金の償還計画'!C6:C45,16,'5-1既住借入金の償還計画'!Y6:Y45)","v":0},{"$f":"SUMIF('5-1既住借入金の償還計画'!C6:C45,16,'5-1既住借入金の償還計画'!Z6:Z45)","v":0},{"$f":"SUMIF('5-1既住借入金の償還計画'!C6:C45,16,'5-1既住借入金の償還計画'!AA6:AA45)","v":0},{"$f":"SUMIF('5-1既住借入金の償還計画'!C6:C45,16,'5-1既住借入金の償還計画'!AB6:AB45)","v":0},{"$f":"SUMIF('5-1既住借入金の償還計画'!C6:C45,16,'5-1既住借入金の償還計画'!AC6:AC45)","v":0},{"$f":"SUMIF('5-1既住借入金の償還計画'!C6:C45,16,'5-1既住借入金の償還計画'!AD6:AD45)","v":0},{"$f":"SUMIF('5-1既住借入金の償還計画'!C6:C45,16,'5-1既住借入金の償還計画'!AE6:AE45)","v":0},{"$f":"SUMIF('5-1既住借入金の償還計画'!C6:C45,16,'5-1既住借入金の償還計画'!AF6:AF45)","v":0},{"$f":"SUMIF('5-1既住借入金の償還計画'!C6:C45,16,'5-1既住借入金の償還計画'!AG6:AG45)","v":0},{"$f":"SUMIF('5-1既住借入金の償還計画'!C6:C45,16,'5-1既住借入金の償還計画'!AH6:AH45)","v":0},{"$f":"SUMIF('5-1既住借入金の償還計画'!C6:C45,16,'5-1既住借入金の償還計画'!AI6:AI45)","v":0},{"$f":"SUMIF('5-1既住借入金の償還計画'!C6:C45,16,'5-1既住借入金の償還計画'!AJ6:AJ45)","v":0},{"$f":"SUMIF('5-1既住借入金の償還計画'!C6:C45,16,'5-1既住借入金の償還計画'!AK6:AK45)","v":0},{"$f":"SUMIF('5-1既住借入金の償還計画'!C6:C45,16,'5-1既住借入金の償還計画'!AL6:AL45)","v":0},{"$f":"SUMIF('5-1既住借入金の償還計画'!C6:C45,16,'5-1既住借入金の償還計画'!AM6:AM45)","v":0},{"$f":"SUMIF('5-1既住借入金の償還計画'!C6:C45,16,'5-1既住借入金の償還計画'!AN6:AN45)","v":0}]
[null,null,null,null,null,null,null,null,null,null,null,"元利金",{"$f":"M66+M68+M70+M72+M74+M76","v":0},{"$f":"N66+N68+N70+N72+N74+N76","v":0},{"$f":"O66+O68+O70+O72+O74+O76","v":0},{"$f":"P66+P68+P70+P72+P74+P76","v":0},{"$f":"Q66+Q68+Q70+Q72+Q74+Q76","v":0},{"$f":"R66+R68+R70+R72+R74+R76","v":0},{"$f":"S66+S68+S70+S72+S74+S76","v":0},{"$f":"T66+T68+T70+T72+T74+T76","v":0},{"$f":"U66+U68+U70+U72+U74+U76","v":0},{"$f":"V66+V68+V70+V72+V74+V76","v":0},{"$f":"W66+W68+W70+W72+W74+W76","v":0},{"$f":"X66+X68+X70+X72+X74+X76","v":0},{"$f":"Y66+Y68+Y70+Y72+Y74+Y76","v":0},{"$f":"Z66+Z68+Z70+Z72+Z74+Z76","v":0}]
[null,null,null,"小            計",null,{"$f":"F66+F68+F70+F72+F74+F76","v":0},null,null,null,null,null,"元  金",{"$f":"M67+M69+M71+M73+M75+M77","v":0},{"$f":"N67+N69+N71+N73+N75+N77","v":0},{"$f":"O67+O69+O71+O73+O75+O77","v":0},{"$f":"P67+P69+P71+P73+P75+P77","v":0},{"$f":"Q67+Q69+Q71+Q73+Q75+Q77","v":0},{"$f":"R67+R69+R71+R73+R75+R77","v":0},{"$f":"S67+S69+S71+S73+S75+S77","v":0},{"$f":"T67+T69+T71+T73+T75+T77","v":0},{"$f":"U67+U69+U71+U73+U75+U77","v":0},{"$f":"V67+V69+V71+V73+V75+V77","v":0},{"$f":"W67+W69+W71+W73+W75+W77","v":0},{"$f":"X67+X69+X71+X73+X75+X77","v":0},{"$f":"Y67+Y69+Y71+Y73+Y75+Y77","v":0},{"$f":"Z67+Z69+Z71+Z73+Z75+Z77","v":0},{"$f":"AA67+AA69+AA71+AA73+AA75+AA77","v":0},{"$f":"AB67+AB69+AB71+AB73+AB75+AB77","v":0},{"$f":"AC67+AC69+AC71+AC73+AC75+AC77","v":0},{"$f":"AD67+AD69+AD71+AD73+AD75+AD77","v":0},{"$f":"AE67+AE69+AE71+AE73+AE75+AE77","v":0},{"$f":"AF67+AF69+AF71+AF73+AF75+AF77","v":0},{"$f":"AG67+AG69+AG71+AG73+AG75+AG77","v":0},{"$f":"AH67+AH69+AH71+AH73+AH75+AH77","v":0},{"$f":"AI67+AI69+AI71+AI73+AI75+AI77","v":0},{"$f":"AJ67+AJ69+AJ71+AJ73+AJ75+AJ77","v":0},{"$f":"AK67+AK69+AK71+AK73+AK75+AK77","v":0},{"$f":"AL67+AL69+AL71+AL73+AL75+AL77","v":0},{"$f":"AM67+AM69+AM71+AM73+AM75+AM77","v":0},{"$f":"AN67+AN69+AN71+AN73+AN75+AN77","v":0}]
[null,null,"短期一年以内のもの",null,null,null,null,"～",null,null,null,"元利金"]
[null,null,null,null,null,null,null,null,null,null,null,"元  金"]
[null,null,null,null,null,null,null,"～",null,null,null,"元利金"]
[null,null,null,null,null,null,null,null,null,null,null,"元  金"]
[null,null,null,null,null,null,null,"～",null,null,null,"元利金"]
[null,null,null,null,null,null,null,null,null,null,null,"元  金"]
[null,null,null,null,null,null,null,"～",null,null,null,"元利金"]
[null,null,null,null,null,null,null,null,null,null,null,"元  金"]
[null,null,null,"その他計",null,{"$f":"SUMIF('5-1既住借入金の償還計画'!C6:C45,7,'5-1既住借入金の償還計画'!F6:F45)","v":0},null,null,null,null,null,"元利金",{"$f":"SUMIF('5-1既住借入金の償還計画'!C6:C45,7,'5-1既住借入金の償還計画'!M6:M45)","v":0},{"$f":"SUMIF('5-1既住借入金の償還計画'!C6:C45,7,'5-1既住借入金の償還計画'!N6:N45)","v":0},{"$f":"SUMIF('5-1既住借入金の償還計画'!C6:C45,7,'5-1既住借入金の償還計画'!O6:O45)","v":0},{"$f":"SUMIF('5-1既住借入金の償還計画'!C6:C45,7,'5-1既住借入金の償還計画'!P6:P45)","v":0},{"$f":"SUMIF('5-1既住借入金の償還計画'!C6:C45,7,'5-1既住借入金の償還計画'!Q6:Q45)","v":0},{"$f":"SUMIF('5-1既住借入金の償還計画'!C6:C45,7,'5-1既住借入金の償還計画'!R6:R45)","v":0},{"$f":"SUMIF('5-1既住借入金の償還計画'!C6:C45,7,'5-1既住借入金の償還計画'!S6:S45)","v":0},{"$f":"SUMIF('5-1既住借入金の償還計画'!C6:C45,7,'5-1既住借入金の償還計画'!T6:T45)","v":0},{"$f":"SUMIF('5-1既住借入金の償還計画'!C6:C45,7,'5-1既住借入金の償還計画'!U6:U45)","v":0},{"$f":"SUMIF('5-1既住借入金の償還計画'!C6:C45,7,'5-1既住借入金の償還計画'!V6:V45)","v":0},{"$f":"SUMIF('5-1既住借入金の償還計画'!C6:C45,7,'5-1既住借入金の償還計画'!W6:W45)","v":0},{"$f":"SUMIF('5-1既住借入金の償還計画'!C6:C45,7,'5-1既住借入金の償還計画'!X6:X45)","v":0},{"$f":"SUMIF('5-1既住借入金の償還計画'!C6:C45,7,'5-1既住借入金の償還計画'!Y6:Y45)","v":0},{"$f":"SUMIF('5-1既住借入金の償還計画'!C6:C45,7,'5-1既住借入金の償還計画'!Z6:Z45)","v":0}]
[null,null,null,null,null,null,null,null,null,null,null,"元  金",{"$f":"SUMIF('5-1既住借入金の償還計画'!C6:C45,17,'5-1既住借入金の償還計画'!M6:M45)","v":0},{"$f":"SUMIF('5-1既住借入金の償還計画'!C6:C45,17,'5-1既住借入金の償還計画'!N6:N45)","v":0},{"$f":"SUMIF('5-1既住借入金の償還計画'!C6:C45,17,'5-1既住借入金の償還計画'!O6:O45)","v":0},{"$f":"SUMIF('5-1既住借入金の償還計画'!C6:C45,17,'5-1既住借入金の償還計画'!P6:P45)","v":0},{"$f":"SUMIF('5-1既住借入金の償還計画'!C6:C45,17,'5-1既住借入金の償還計画'!Q6:Q45)","v":0},{"$f":"SUMIF('5-1既住借入金の償還計画'!C6:C45,17,'5-1既住借入金の償還計画'!R6:R45)","v":0},{"$f":"SUMIF('5-1既住借入金の償還計画'!C6:C45,17,'5-1既住借入金の償還計画'!S6:S45)","v":0},{"$f":"SUMIF('5-1既住借入金の償還計画'!C6:C45,17,'5-1既住借入金の償還計画'!T6:T45)","v":0},{"$f":"SUMIF('5-1既住借入金の償還計画'!C6:C45,17,'5-1既住借入金の償還計画'!U6:U45)","v":0},{"$f":"SUMIF('5-1既住借入金の償還計画'!C6:C45,17,'5-1既住借入金の償還計画'!V6:V45)","v":0},{"$f":"SUMIF('5-1既住借入金の償還計画'!C6:C45,17,'5-1既住借入金の償還計画'!W6:W45)","v":0},{"$f":"SUMIF('5-1既住借入金の償還計画'!C6:C45,17,'5-1既住借入金の償還計画'!X6:X45)","v":0},{"$f":"SUMIF('5-1既住借入金の償還計画'!C6:C45,17,'5-1既住借入金の償還計画'!Y6:Y45)","v":0},{"$f":"SUMIF('5-1既住借入金の償還計画'!C6:C45,17,'5-1既住借入金の償還計画'!Z6:Z45)","v":0},{"$f":"SUMIF('5-1既住借入金の償還計画'!C6:C45,17,'5-1既住借入金の償還計画'!AA6:AA45)","v":0},{"$f":"SUMIF('5-1既住借入金の償還計画'!C6:C45,17,'5-1既住借入金の償還計画'!AB6:AB45)","v":0},{"$f":"SUMIF('5-1既住借入金の償還計画'!C6:C45,17,'5-1既住借入金の償還計画'!AC6:AC45)","v":0},{"$f":"SUMIF('5-1既住借入金の償還計画'!C6:C45,17,'5-1既住借入金の償還計画'!AD6:AD45)","v":0},{"$f":"SUMIF('5-1既住借入金の償還計画'!C6:C45,17,'5-1既住借入金の償還計画'!AE6:AE45)","v":0},{"$f":"SUMIF('5-1既住借入金の償還計画'!C6:C45,17,'5-1既住借入金の償還計画'!AF6:AF45)","v":0},{"$f":"SUMIF('5-1既住借入金の償還計画'!C6:C45,17,'5-1既住借入金の償還計画'!AG6:AG45)","v":0},{"$f":"SUMIF('5-1既住借入金の償還計画'!C6:C45,17,'5-1既住借入金の償還計画'!AH6:AH45)","v":0},{"$f":"SUMIF('5-1既住借入金の償還計画'!C6:C45,17,'5-1既住借入金の償還計画'!AI6:AI45)","v":0},{"$f":"SUMIF('5-1既住借入金の償還計画'!C6:C45,17,'5-1既住借入金の償還計画'!AJ6:AJ45)","v":0},{"$f":"SUMIF('5-1既住借入金の償還計画'!C6:C45,17,'5-1既住借入金の償還計画'!AK6:AK45)","v":0},{"$f":"SUMIF('5-1既住借入金の償還計画'!C6:C45,17,'5-1既住借入金の償還計画'!AL6:AL45)","v":0},{"$f":"SUMIF('5-1既住借入金の償還計画'!C6:C45,17,'5-1既住借入金の償還計画'!AM6:AM45)","v":0},{"$f":"SUMIF('5-1既住借入金の償還計画'!C6:C45,17,'5-1既住借入金の償還計画'!AN6:AN45)","v":0}]
[null,null,null,null,null,null,null,null,null,null,null,"元利金",{"$f":"M80+M82+M84+M86+M88","v":0},{"$f":"N80+N82+N84+N86+N88","v":0},{"$f":"O80+O82+O84+O86+O88","v":0},{"$f":"P80+P82+P84+P86+P88","v":0},{"$f":"Q80+Q82+Q84+Q86+Q88","v":0},{"$f":"R80+R82+R84+R86+R88","v":0},{"$f":"S80+S82+S84+S86+S88","v":0},{"$f":"T80+T82+T84+T86+T88","v":0},{"$f":"U80+U82+U84+U86+U88","v":0},{"$f":"V80+V82+V84+V86+V88","v":0},{"$f":"W80+W82+W84+W86+W88","v":0},{"$f":"X80+X82+X84+X86+X88","v":0},{"$f":"Y80+Y82+Y84+Y86+Y88","v":0},{"$f":"Z80+Z82+Z84+Z86+Z88","v":0}]
[null,null,null,"小            計",null,{"$f":"F80+F82+F84+F86+F88","v":0},null,null,null,null,null,"元  金",{"$f":"M81+M83+M85+M87+M89","v":0},{"$f":"N81+N83+N85+N87+N89","v":0},{"$f":"O81+O83+O85+O87+O89","v":0},{"$f":"P81+P83+P85+P87+P89","v":0},{"$f":"Q81+Q83+Q85+Q87+Q89","v":0},{"$f":"R81+R83+R85+R87+R89","v":0},{"$f":"S81+S83+S85+S87+S89","v":0},{"$f":"T81+T83+T85+T87+T89","v":0},{"$f":"U81+U83+U85+U87+U89","v":0},{"$f":"V81+V83+V85+V87+V89","v":0},{"$f":"W81+W83+W85+W87+W89","v":0},{"$f":"X81+X83+X85+X87+X89","v":0},{"$f":"Y81+Y83+Y85+Y87+Y89","v":0},{"$f":"Z81+Z83+Z85+Z87+Z89","v":0},{"$f":"AA81+AA83+AA85+AA87+AA89","v":0},{"$f":"AB81+AB83+AB85+AB87+AB89","v":0},{"$f":"AC81+AC83+AC85+AC87+AC89","v":0},{"$f":"AD81+AD83+AD85+AD87+AD89","v":0},{"$f":"AE81+AE83+AE85+AE87+AE89","v":0},{"$f":"AF81+AF83+AF85+AF87+AF89","v":0},{"$f":"AG81+AG83+AG85+AG87+AG89","v":0},{"$f":"AH81+AH83+AH85+AH87+AH89","v":0},{"$f":"AI81+AI83+AI85+AI87+AI89","v":0},{"$f":"AJ81+AJ83+AJ85+AJ87+AJ89","v":0},{"$f":"AK81+AK83+AK85+AK87+AK89","v":0},{"$f":"AL81+AL83+AL85+AL87+AL89","v":0},{"$f":"AM81+AM83+AM85+AM87+AM89","v":0},{"$f":"AN81+AN83+AN85+AN87+AN89","v":0}]
[null,null,null,null,null,null,null,null,null,null,null,"元利金",{"$f":"M78+M90","v":0},{"$f":"N78+N90","v":0},{"$f":"O78+O90","v":0},{"$f":"P78+P90","v":0},{"$f":"Q78+Q90","v":0},{"$f":"R78+R90","v":0},{"$f":"S78+S90","v":0},{"$f":"T78+T90","v":0},{"$f":"U78+U90","v":0},{"$f":"V78+V90","v":0},{"$f":"W78+W90","v":0},{"$f":"X78+X90","v":0},{"$f":"Y78+Y90","v":0},{"$f":"Z78+Z90","v":0}]
[null,null,"              計",null,null,{"$f":"F79+F91","v":0},null,null,null,null,null,"元  金",{"$f":"M79+M91","v":0},{"$f":"N79+N91","v":0},{"$f":"O79+O91","v":0},{"$f":"P79+P91","v":0},{"$f":"Q79+Q91","v":0},{"$f":"R79+R91","v":0},{"$f":"S79+S91","v":0},{"$f":"T79+T91","v":0},{"$f":"U79+U91","v":0},{"$f":"V79+V91","v":0},{"$f":"W79+W91","v":0},{"$f":"X79+X91","v":0},{"$f":"Y79+Y91","v":0},{"$f":"Z79+Z91","v":0},{"$f":"AA79+AA91","v":0},{"$f":"AB79+AB91","v":0},{"$f":"AC79+AC91","v":0},{"$f":"AD79+AD91","v":0},{"$f":"AE79+AE91","v":0},{"$f":"AF79+AF91","v":0},{"$f":"AG79+AG91","v":0},{"$f":"AH79+AH91","v":0},{"$f":"AI79+AI91","v":0},{"$f":"AJ79+AJ91","v":0},{"$f":"AK79+AK91","v":0},{"$f":"AL79+AL91","v":0},{"$f":"AM79+AM91","v":0},{"$f":"AN79+AN91","v":0}]
[null,null,null,null,null,null,null,"～",null,null,null,"元利金"]
[null,null,null,null,null,null,null,null,null,null,null,"元  金"]
[null,"一般金融機関資金",null,null,null,null,null,"～",null,null,null,"元利金"]
[null,null,null,null,null,null,null,null,null,null,null,"元  金"]
[null,null,null,null,null,null,null,"～",null,null,null,"元利金"]
[null,null,null,null,null,null,null,null,null,null,null,"元  金"]
[null,null,null,null,null,null,null,"～",null,null,null,"元利金"]
[null,null,null,null,null,null,null,null,null,null,null,"元  金"]
[null,null,null,null,null,null,null,"～",null,null,null,"元利金"]
[null,null,null,null,null,null,null,null,null,null,null,"元  金"]
[null,null,null,"その他計",null,{"$f":"SUMIF('5-1既住借入金の償還計画'!C6:C45,8,'5-1既住借入金の償還計画'!F6:F45)","v":0},null,null,null,null,null,"元利金",{"$f":"SUMIF('5-1既住借入金の償還計画'!C6:C45,8,'5-1既住借入金の償還計画'!M6:M45)","v":0},{"$f":"SUMIF('5-1既住借入金の償還計画'!C6:C45,8,'5-1既住借入金の償還計画'!N6:N45)","v":0},{"$f":"SUMIF('5-1既住借入金の償還計画'!C6:C45,8,'5-1既住借入金の償還計画'!O6:O45)","v":0},{"$f":"SUMIF('5-1既住借入金の償還計画'!C6:C45,8,'5-1既住借入金の償還計画'!P6:P45)","v":0},{"$f":"SUMIF('5-1既住借入金の償還計画'!C6:C45,8,'5-1既住借入金の償還計画'!Q6:Q45)","v":0},{"$f":"SUMIF('5-1既住借入金の償還計画'!C6:C45,8,'5-1既住借入金の償還計画'!R6:R45)","v":0},{"$f":"SUMIF('5-1既住借入金の償還計画'!C6:C45,8,'5-1既住借入金の償還計画'!S6:S45)","v":0},{"$f":"SUMIF('5-1既住借入金の償還計画'!C6:C45,8,'5-1既住借入金の償還計画'!T6:T45)","v":0},{"$f":"SUMIF('5-1既住借入金の償還計画'!C6:C45,8,'5-1既住借入金の償還計画'!U6:U45)","v":0},{"$f":"SUMIF('5-1既住借入金の償還計画'!C6:C45,8,'5-1既住借入金の償還計画'!V6:V45)","v":0},{"$f":"SUMIF('5-1既住借入金の償還計画'!C6:C45,8,'5-1既住借入金の償還計画'!W6:W45)","v":0},{"$f":"SUMIF('5-1既住借入金の償還計画'!C6:C45,8,'5-1既住借入金の償還計画'!X6:X45)","v":0},{"$f":"SUMIF('5-1既住借入金の償還計画'!C6:C45,8,'5-1既住借入金の償還計画'!Y6:Y45)","v":0},{"$f":"SUMIF('5-1既住借入金の償還計画'!C6:C45,8,'5-1既住借入金の償還計画'!Z6:Z45)","v":0}]
[null,null,null,null,null,null,null,null,null,null,null,"元  金",{"$f":"SUMIF('5-1既住借入金の償還計画'!C6:C45,18,'5-1既住借入金の償還計画'!M6:M45)","v":0},{"$f":"SUMIF('5-1既住借入金の償還計画'!C6:C45,18,'5-1既住借入金の償還計画'!N6:N45)","v":0},{"$f":"SUMIF('5-1既住借入金の償還計画'!C6:C45,18,'5-1既住借入金の償還計画'!O6:O45)","v":0},{"$f":"SUMIF('5-1既住借入金の償還計画'!C6:C45,18,'5-1既住借入金の償還計画'!P6:P45)","v":0},{"$f":"SUMIF('5-1既住借入金の償還計画'!C6:C45,18,'5-1既住借入金の償還計画'!Q6:Q45)","v":0},{"$f":"SUMIF('5-1既住借入金の償還計画'!C6:C45,18,'5-1既住借入金の償還計画'!R6:R45)","v":0},{"$f":"SUMIF('5-1既住借入金の償還計画'!C6:C45,18,'5-1既住借入金の償還計画'!S6:S45)","v":0},{"$f":"SUMIF('5-1既住借入金の償還計画'!C6:C45,18,'5-1既住借入金の償還計画'!T6:T45)","v":0},{"$f":"SUMIF('5-1既住借入金の償還計画'!C6:C45,18,'5-1既住借入金の償還計画'!U6:U45)","v":0},{"$f":"SUMIF('5-1既住借入金の償還計画'!C6:C45,18,'5-1既住借入金の償還計画'!V6:V45)","v":0},{"$f":"SUMIF('5-1既住借入金の償還計画'!C6:C45,18,'5-1既住借入金の償還計画'!W6:W45)","v":0},{"$f":"SUMIF('5-1既住借入金の償還計画'!C6:C45,18,'5-1既住借入金の償還計画'!X6:X45)","v":0},{"$f":"SUMIF('5-1既住借入金の償還計画'!C6:C45,18,'5-1既住借入金の償還計画'!Y6:Y45)","v":0},{"$f":"SUMIF('5-1既住借入金の償還計画'!C6:C45,18,'5-1既住借入金の償還計画'!Z6:Z45)","v":0},{"$f":"SUMIF('5-1既住借入金の償還計画'!C6:C45,18,'5-1既住借入金の償還計画'!AA6:AA45)","v":0},{"$f":"SUMIF('5-1既住借入金の償還計画'!C6:C45,18,'5-1既住借入金の償還計画'!AB6:AB45)","v":0},{"$f":"SUMIF('5-1既住借入金の償還計画'!C6:C45,18,'5-1既住借入金の償還計画'!AC6:AC45)","v":0},{"$f":"SUMIF('5-1既住借入金の償還計画'!C6:C45,18,'5-1既住借入金の償還計画'!AD6:AD45)","v":0},{"$f":"SUMIF('5-1既住借入金の償還計画'!C6:C45,18,'5-1既住借入金の償還計画'!AE6:AE45)","v":0},{"$f":"SUMIF('5-1既住借入金の償還計画'!C6:C45,18,'5-1既住借入金の償還計画'!AF6:AF45)","v":0},{"$f":"SUMIF('5-1既住借入金の償還計画'!C6:C45,18,'5-1既住借入金の償還計画'!AG6:AG45)","v":0},{"$f":"SUMIF('5-1既住借入金の償還計画'!C6:C45,18,'5-1既住借入金の償還計画'!AH6:AH45)","v":0},{"$f":"SUMIF('5-1既住借入金の償還計画'!C6:C45,18,'5-1既住借入金の償還計画'!AI6:AI45)","v":0},{"$f":"SUMIF('5-1既住借入金の償還計画'!C6:C45,18,'5-1既住借入金の償還計画'!AJ6:AJ45)","v":0},{"$f":"SUMIF('5-1既住借入金の償還計画'!C6:C45,18,'5-1既住借入金の償還計画'!AK6:AK45)","v":0},{"$f":"SUMIF('5-1既住借入金の償還計画'!C6:C45,18,'5-1既住借入金の償還計画'!AL6:AL45)","v":0},{"$f":"SUMIF('5-1既住借入金の償還計画'!C6:C45,18,'5-1既住借入金の償還計画'!AM6:AM45)","v":0},{"$f":"SUMIF('5-1既住借入金の償還計画'!C6:C45,18,'5-1既住借入金の償還計画'!AN6:AN45)","v":0}]
[null,null,null,null,null,null,null,null,null,null,null,"元利金",{"$f":"M94+M96+M98+M100+M102+M104","v":0},{"$f":"N94+N96+N98+N100+N102+N104","v":0},{"$f":"O94+O96+O98+O100+O102+O104","v":0},{"$f":"P94+P96+P98+P100+P102+P104","v":0},{"$f":"Q94+Q96+Q98+Q100+Q102+Q104","v":0},{"$f":"R94+R96+R98+R100+R102+R104","v":0},{"$f":"S94+S96+S98+S100+S102+S104","v":0},{"$f":"T94+T96+T98+T100+T102+T104","v":0},{"$f":"U94+U96+U98+U100+U102+U104","v":0},{"$f":"V94+V96+V98+V100+V102+V104","v":0},{"$f":"W94+W96+W98+W100+W102+W104","v":0},{"$f":"X94+X96+X98+X100+X102+X104","v":0},{"$f":"Y94+Y96+Y98+Y100+Y102+Y104","v":0},{"$f":"Z94+Z96+Z98+Z100+Z102+Z104","v":0}]
[null,null,null,"小            計",null,{"$f":"F94+F96+F98+F100+F102+F104","v":0},null,null,null,null,null,"元  金",{"$f":"M95+M97+M99+M101+M103+M105","v":0},{"$f":"N95+N97+N99+N101+N103+N105","v":0},{"$f":"O95+O97+O99+O101+O103+O105","v":0},{"$f":"P95+P97+P99+P101+P103+P105","v":0},{"$f":"Q95+Q97+Q99+Q101+Q103+Q105","v":0},{"$f":"R95+R97+R99+R101+R103+R105","v":0},{"$f":"S95+S97+S99+S101+S103+S105","v":0},{"$f":"T95+T97+T99+T101+T103+T105","v":0},{"$f":"U95+U97+U99+U101+U103+U105","v":0},{"$f":"V95+V97+V99+V101+V103+V105","v":0},{"$f":"W95+W97+W99+W101+W103+W105","v":0},{"$f":"X95+X97+X99+X101+X103+X105","v":0},{"$f":"Y95+Y97+Y99+Y101+Y103+Y105","v":0},{"$f":"Z95+Z97+Z99+Z101+Z103+Z105","v":0},{"$f":"AA95+AA97+AA99+AA101+AA103+AA105","v":0},{"$f":"AB95+AB97+AB99+AB101+AB103+AB105","v":0},{"$f":"AC95+AC97+AC99+AC101+AC103+AC105","v":0},{"$f":"AD95+AD97+AD99+AD101+AD103+AD105","v":0},{"$f":"AE95+AE97+AE99+AE101+AE103+AE105","v":0},{"$f":"AF95+AF97+AF99+AF101+AF103+AF105","v":0},{"$f":"AG95+AG97+AG99+AG101+AG103+AG105","v":0},{"$f":"AH95+AH97+AH99+AH101+AH103+AH105","v":0},{"$f":"AI95+AI97+AI99+AI101+AI103+AI105","v":0},{"$f":"AJ95+AJ97+AJ99+AJ101+AJ103+AJ105","v":0},{"$f":"AK95+AK97+AK99+AK101+AK103+AK105","v":0},{"$f":"AL95+AL97+AL99+AL101+AL103+AL105","v":0},{"$f":"AM95+AM97+AM99+AM101+AM103+AM105","v":0},{"$f":"AN95+AN97+AN99+AN101+AN103+AN105","v":0}]
[null,null,null,null,null,null,null,null,null,null,null,"元利金",{"$f":"M64+M92+M106","v":0},{"$f":"N64+N92+N106","v":0},{"$f":"O64+O92+O106","v":0},{"$f":"P64+P92+P106","v":0},{"$f":"Q64+Q92+Q106","v":0},{"$f":"R64+R92+R106","v":0},{"$f":"S64+S92+S106","v":0},{"$f":"T64+T92+T106","v":0},{"$f":"U64+U92+U106","v":0},{"$f":"V64+V92+V106","v":0},{"$f":"W64+W92+W106","v":0},{"$f":"X64+X92+X106","v":0},{"$f":"Y64+Y92+Y106","v":0},{"$f":"Z64+Z92+Z106","v":0}]
[null,"合                計",null,null,null,{"$f":"F65+F93+F107","v":0},null,null,null,null,null,"元  金",{"$f":"M65+M93+M107","v":0},{"$f":"N65+N93+N107","v":0},{"$f":"O65+O93+O107","v":0},{"$f":"P65+P93+P107","v":0},{"$f":"Q65+Q93+Q107","v":0},{"$f":"R65+R93+R107","v":0},{"$f":"S65+S93+S107","v":0},{"$f":"T65+T93+T107","v":0},{"$f":"U65+U93+U107","v":0},{"$f":"V65+V93+V107","v":0},{"$f":"W65+W93+W107","v":0},{"$f":"X65+X93+X107","v":0},{"$f":"Y65+Y93+Y107","v":0},{"$f":"Z65+Z93+Z107","v":0},{"$f":"AA65+AA93+AA107","v":0},{"$f":"AB65+AB93+AB107","v":0},{"$f":"AC65+AC93+AC107","v":0},{"$f":"AD65+AD93+AD107","v":0},{"$f":"AE65+AE93+AE107","v":0},{"$f":"AF65+AF93+AF107","v":0},{"$f":"AG65+AG93+AG107","v":0},{"$f":"AH65+AH93+AH107","v":0},{"$f":"AI65+AI93+AI107","v":0},{"$f":"AJ65+AJ93+AJ107","v":0},{"$f":"AK65+AK93+AK107","v":0},{"$f":"AL65+AL93+AL107","v":0},{"$f":"AM65+AM93+AM107","v":0},{"$f":"AN65+AN93+AN107","v":0}]
[null,null,null,"買 掛 未 払 金（営 農 勘 定・預 託 勘 定 等 の 貸 越 額 を 含 む）"]
[null,null,"(注)１ 借入資金１件ごとに記入すること。"]
[null,null,"　  ２ 資金充当部門欄は、養豚部門を１、その他営農部門を２、その他を３とし、番号１、２、３で記入すること。（複数部門に充当する場合は、比率欄にその比率（％）を記入）"]
[null,null,"　　３ 新規投資所要資金等は、それぞれの資金欄に記入すること。"]

{"sheet":"5-1既住借入金の償還計画","index":14,"n_rows":107,"n_cols":44,"rows_kept":107,"cut":false,"hidden":false,"merged":[[2,4,4,4],[2,12,2,25],[2,26,2,39],[2,40,3,41]]}
[]
[null," 5.既往借入金年次別約定償還表(条件緩和前)",null,null,null,null,null,null,null,null,null,null,null,null,null,null,null,null,null,null,null,null,null,null,null,null,null,null,null,null,null,null,null,null,null,null,null,null,null,null,null,null,"(単位：千円)"]
[null,null,null,null,"番 号",null,null,null,null,"(うち",null,null,"年　　次　　別　　約　　定　　償　　還　　額",null,null,null,null,null,null,null,null,null,null,null,null,null,"借　　　　入　　　　金　　　　残　　　　高",null,null,null,null,null,null,null,null,null,null,null,null,null,"資 金 充 当"]
[null,null,"区　　　　分","資      金      名",null,"借入額"," 借 入 期 限",null,null,"据置期間","利　率",null,{"$f":"IF(配列シート!$B$9=M5,\"(目標年次)\",\"\")","v":""},{"$f":"IF(配列シート!$B$9=N5,\"(目標年次)\",\"\")","v":""},{"$f":"IF(配列シート!$B$9=O5,\"(目標年次)\",\"\")","v":""},{"$f":"IF(配列シート!$B$9=P5,\"(目標年次)\",\"\")","v":"(目標年次)"},{"$f":"IF(配列シート!$B$9=Q5,\"(目標年次)\",\"\")","v":""},{"$f":"IF(配列シート!$B$9=R5,\"(目標年次)\",\"\")","v":""},{"$f":"IF(配列シート!$B$9=S5,\"(目標年次)\",\"\")","v":""},{"$f":"IF(配列シート!$B$9=T5,\"(目標年次)\",\"\")","v":""},{"$f":"IF(配列シート!$B$9=U5,\"(目標年次)\",\"\")","v":""},{"$f":"IF(配列シート!$B$9=V5,\"(目標年次)\",\"\")","v":""},{"$f":"IF(配列シート!$B$9=W5,\"(目標年次)\",\"\")","v":""},{"$f":"IF(配列シート!$B$9=X5,\"(目標年次)\",\"\")","v":""},{"$f":"IF(配列シート!$B$9=Y5,\"(目標年次)\",\"\")","v":""},{"$f":"IF(配列シート!$B$9=Z5,\"(目標年次)\",\"\")","v":""},{"$f":"IF(配列シート!$B$9=AA5,\"(目標年次)\",\"\")","v":""},{"$f":"IF(配列シート!$B$9=AB5,\"(目標年次)\",\"\")","v":""},{"$f":"IF(配列シート!$B$9=AC5,\"(目標年次)\",\"\")","v":""},{"$f":"IF(配列シート!$B$9=AD5,\"(目標年次)\",\"\")","v":"(目標年次)"},{"$f":"IF(配列シート!$B$9=AE5,\"(目標年次)\",\"\")","v":""},{"$f":"IF(配列シート!$B$9=AF5,\"(目標年次)\",\"\")","v":""},{"$f":"IF(配列シート!$B$9=AG5,\"(目標年次)\",\"\")","v":""},{"$f":"IF(配列シート!$B$9=AH5,\"(目標年次)\",\"\")","v":""},{"$f":"IF(配列シート!$B$9=AI5,\"(目標年次)\",\"\")","v":""},{"$f":"IF(配列シート!$B$9=AJ5,\"(目標年次)\",\"\")","v":""},{"$f":"IF(配列シート!$B$9=AK5,\"(目標年次)\",\"\")","v":""},{"$f":"IF(配列シート!$B$9=AL5,\"(目標年次)\",\"\")","v":""},{"$f":"IF(配列シート!$B$9=AM5,\"(目標年次)\",\"\")","v":""},{"$f":"IF(配列シート!$B$9=AN5,\"(目標年次)\",\"\")","v":""},null,null,"資 金 の 使 途"]
[null,null,null,null,null,null,"(○年","～","○年)","○年)",null,null,{"$f":"配列シート!B8-3","v":-3},{"$f":"M5+1","v":-2},{"$f":"N5+1","v":-1},{"$f":"O5+1","v":0},{"$f":"P5+1","v":1},{"$f":"Q5+1","v":2},{"$f":"R5+1","v":3},{"$f":"S5+1","v":4},{"$f":"T5+1","v":5},{"$f":"U5+1","v":6},{"$f":"V5+1","v":7},{"$f":"W5+1","v":8},{"$f":"X5+1","v":9},{"$f":"Y5+1","v":10},{"$f":"配列シート!B8-3","v":-3},{"$f":"AA5+1","v":-2},{"$f":"AB5+1","v":-1},{"$f":"AC5+1","v":0},{"$f":"AD5+1","v":1},{"$f":"AE5+1","v":2},{"$f":"AF5+1","v":3},{"$f":"AG5+1","v":4},{"$f":"AH5+1","v":5},{"$f":"AI5+1","v":6},{"$f":"AJ5+1","v":7},{"$f":"AK5+1","v":8},{"$f":"AL5+1","v":9},{"$f":"AM5+1","v":10},"部門","比率"]
[1,null,1,null,null,null,null,"～",null,null,null,"元利金",null,null,null,null,null,null,null,null,null,null,null,null,null,null,null,null,null,null,null,null,null,null,null,null,null,null,null,null,null,null,null," "]
[null,null,{"$f":"C6+10","v":11},null,null,null,null,null,null,null,null,"元  金",null,null,null,null,null,null,null,null,null,null,null,null,null,null,null,null,null,null,null,null,null,null,null,null,null,null,null,null,null,null,null," "]
[null,null,1,null,null,null,null,"～",null,null,null,"元利金",null,null,null,null,null,null,null,null,null,null,null,null,null,null,null,null,null,null,null,null,null,null,null,null,null,null,null,null,null,null,null," "]
[null,null,{"$f":"C8+10","v":11},null,null,null,null,null,null,null,null,"元  金",null,null,null,null,null,null,null,null,null,null,null,null,null,null,null,null,null,null,null,null,null,null,null,null,null,null,null,null,null,null,null," "]
[null,null,1,null,null,null,null,"～",null,null,null,"元利金",null,null,null,null,null,null,null,null,null,null,null,null,null,null,null,null,null,null,null,null,null,null,null,null,null,null,null,null,null,null,null," "]
[null,null,{"$f":"C10+10","v":11},null,null,null,null,null,null,null,null,"元  金",null,null,null,null,null,null,null,null,null,null,null,null,null,null,null,null,null,null,null,null,null,null,null,null,null,null,null,null,null,null,null," "]
[null,null,1,null,null,null,null,"～",null,null,null,"元利金",null,null,null,null,null,null,null,null,null,null,null,null,null,null,null,null,null,null,null,null,null,null,null,null,null,null,null,null,null,null,null," "]
[null,null,{"$f":"C12+10","v":11},null,null,null,null,null,null,null,null,"元  金",null,null,null,null,null,null,null,null,null,null,null,null,null,null,null,null,null,null,null,null,null,null,null,null,null,null,null,null,null,null,null," "]
[null,null,1,null,null,null,null,"～",null,null,null,"元利金",null,null,null,null,null,null,null,null,null,null,null,null,null,null,null,null,null,null,null,null,null,null,null,null,null,null,null,null,null,null,null," "]
[null,null,{"$f":"C14+10","v":11},null,null,null,null,null,null,null,null,"元  金",null,null,null,null,null,null,null,null,null,null,null,null,null,null,null,null,null,null,null,null,null,null,null,null,null,null,null,null,null,null,null," "]
[null,null,1,null,null,null,null,"～",null,null,null,"元利金",null,null,null,null,null,null,null,null,null,null,null,null,null,null,null,null,null,null,null,null,null,null,null,null,null,null,null,null,null,null,null," "]
[null,null,{"$f":"C16+10","v":11},null,null,null,null,null,null,null,null,"元  金",null,null,null,null,null,null,null,null,null,null,null,null,null,null,null,null,null,null,null,null,null,null,null,null,null,null,null,null,null,null,null," "]
[null,null,1,null,null,null,null,"～",null,null,null,"元利金",null,null,null,null,null,null,null,null,null,null,null,null,null,null,null,null,null,null,null,null,null,null,null,null,null,null,null,null,null,null,null," "]
[null,null,{"$f":"C18+10","v":11},null,null,null,null,null,null,null,null,"元  金",null,null,null,null,null,null,null,null,null,null,null,null,null,null,null,null,null,null,null,null,null,null,null,null,null,null,null,null,null,null,null," "]
[null,"資",1,null,null,null,null,"～",null,null,null,"元利金",null,null,null,null,null,null,null,null,null,null,null,null,null,null,null,null,null,null,null,null,null,null,null,null,null,null,null,null,null,null,null," "]
[null,null,{"$f":"C20+10","v":11},null,null,null,null,null,null,null,null,"元  金",null,null,null,null,null,null,null,null,null,null,null,null,null,null,null,null,null,null,null,null,null,null,null,null,null,null,null,null,null,null,null," "]
[null,null,1,null,null,null,null,"～",null,null,null,"元利金",null,null,null,null,null,null,null,null,null,null,null,null,null,null,null,null,null,null,null,null,null,null,null,null,null,null,null,null,null,null,null," "]
[null,null,{"$f":"C22+10","v":11},null,null,null,null,null,null,null,null,"元  金",null,null,null,null,null,null,null,null,null,null,null,null,null,null,null,null,null,null,null,null,null,null,null,null,null,null,null,null,null,null,null," "]
[null,null,1,null,null,null,null,"～",null,null,null,"元利金",null,null,null,null,null,null,null,null,null,null,null,null,null,null,null,null,null,null,null,null,null,null,null,null,null,null,null,null,null,null,null," "]
[null,null,{"$f":"C24+10","v":11},null,null,null,null,null,null,null,null,"元  金",null,null,null,null,null,null,null,null,null,null,null,null,null,null,null,null,null,null,null,null,null,null,null,null,null,null,null,null,null,null,null," "]
[null,null,1,null,null,null,null,"～",null,null,null,"元利金",null,null,null,null,null,null,null,null,null,null,null,null,null,null,null,null,null,null,null,null,null,null,null,null,null,null,null,null,null,null,null," "]
[null,null,{"$f":"C26+10","v":11},null,null,null,null,null,null,null,null,"元  金",null,null,null,null,null,null,null,null,null,null,null,null,null,null,null,null,null,null,null,null,null,null,null,null,null,null,null,null,null,null,null," "]
[null,null,1,null,null,null,null,"～",null,null,null,"元利金",null,null,null,null,null,null,null,null,null,null,null,null,null,null,null,null,null,null,null,null,null,null,null,null,null,null,null,null,null,null,null," "]
[null,null,{"$f":"C28+10","v":11},null,null,null,null,null,null,null,null,"元  金",null,null,null,null,null,null,null,null,null,null,null,null,null,null,null,null,null,null,null,null,null,null,null,null,null,null,null,null,null,null,null," "]
[null,"金",1,null,null,null,null,"～",null,null,null,"元利金",null,null,null,null,null,null,null,null,null,null,null,null,null,null,null,null,null,null,null,null,null,null,null,null,null,null,null,null,null,null,null," "]
[null,null,{"$f":"C30+10","v":11},null,null,null,null,null,null,null,null,"元  金",null,null,null,null,null,null,null,null,null,null,null,null,null,null,null,null,null,null,null,null,null,null,null,null,null,null,null,null,null,null,null," "]
[null,null,1,null,null,null,null,"～",null,null,null,"元利金",null,null,null,null,null,null,null,null,null,null,null,null,null,null,null,null,null,null,null,null,null,null,null,null,null,null,null,null,null,null,null," "]
[null,null,{"$f":"C32+10","v":11},null,null,null,null,null,null,null,null,"元  金",null,null,null,null,null,null,null,null,null,null,null,null,null,null,null,null,null,null,null,null,null,null,null,null,null,null,null,null,null,null,null," "]
[null,null,1,null,null,null,null,"～",null,null,null,"元利金",null,null,null,null,null,null,null,null,null,null,null,null,null,null,null,null,null,null,null,null,null,null,null,null,null,null,null,null,null,null,null," "]
[null,null,{"$f":"C34+10","v":11},null,null,null,null,null,null,null,null,"元  金",null,null,null,null,null,null,null,null,null,null,null,null,null,null,null,null,null,null,null,null,null,null,null,null,null,null,null,null,null,null,null," "]
[null,null,1,null,null,null,null,"～",null,null,null,"元利金",null,null,null,null,null,null,null,null,null,null,null,null,null,null,null,null,null,null,null,null,null,null,null,null,null,null,null,null,null,null,null," "]
[null,null,{"$f":"C36+10","v":11},null,null,null,null,null,null,null,null,"元  金",null,null,null,null,null,null,null,null,null,null,null,null,null,null,null,null,null,null,null,null,null,null,null,null,null,null,null,null,null,null,null," "]
[null,null,1,null,null,null,null,"～",null,null,null,"元利金",null,null,null,null,null,null,null,null,null,null,null,null,null,null,null,null,null,null,null,null,null,null,null,null,null,null,null,null,null,null,null," "]
[null,null,{"$f":"C38+10","v":11},null,null,null,null,null,null,null,null,"元  金",null,null,null,null,null,null,null,null,null,null,null,null,null,null,null,null,null,null,null,null,null,null,null,null,null,null,null,null,null,null,null," "]
[null,null,1,null,null,null,null,"～",null,null,null,"元利金",null,null,null,null,null,null,null,null,null,null,null,null,null,null,null,null,null,null,null,null,null,null,null,null,null,null,null,null,null,null,null," "]
[null,null,{"$f":"C40+10","v":11},null,null,null,null,null,null,null,null,"元  金",null,null,null,null,null,null,null,null,null,null,null,null,null,null,null,null,null,null,null,null,null,null,null,null,null,null,null,null,null,null,null," "]
[null,null,1,null,null,null,null,"～",null,null,null,"元利金",null,null,null,null,null,null,null,null,null,null,null,null,null,null,null,null,null,null,null,null,null,null,null,null,null,null,null,null,null,null,null," "]
[null,null,{"$f":"C42+10","v":11},null,null,null,null,null,null,null,null,"元  金",null,null,null,null,null,null,null,null,null,null,null,null,null,null,null,null,null,null,null,null,null,null,null,null,null,null,null,null,null,null,null," "]
[null,null,1,null,null,null,null,"～",null,null,null,"元利金",null,null,null,null,null,null,null,null,null,null,null,null,null,null,null,null,null,null,null,null,null,null,null,null,null,null,null,null,null,null,null," "]
[null,null,{"$f":"C44+10","v":11},null,null,null,null,null,null,null,null,"元  金",null,null,null,null,null,null,null,null,null,null,null,null,null,null,null,null,null,null,null,null,null,null,null,null,null,null,null,null,null,null,null," "]
[]
[]
[]
[]
[]
[]
[]
[]
[]
[]
[]
[]
[]
[]
[]
[]
[]
[]
[]
[]
[]
[]
[]
[]
[]
[]
[]
[]
[]
[]
[]
[]
[]
[]
[]
[]
[]
[]
[]
[]
[]
[]
[]
[]
[]
[]
[]
[]
[]
[]
[]
[]
[]
[]
[]
[null,null,"農業近代化資金"]
[null,null,"公庫資金"]
[null,null,"その他制度資金（除く畜特）"]
[null,null,"畜産特別資金"]
[null,null,"長期（１年を越えるもの）"]
[null,null,"短期（１年以内のもの）"]
[null,null,"一般金融機関資金"]

{"sheet":"6償還表(条件緩和後)","index":15,"n_rows":117,"n_cols":44,"rows_kept":117,"cut":false,"hidden":false,"merged":[[114,2,114,43],[115,2,115,43],[116,2,116,43],[2,40,3,41],[66,2,77,2],[95,1,104,2],[2,4,4,4],[15,1,53,1],[32,2,45,2],[7,2,16,2],[20,2,29,2],[48,2,61,2],[80,2,89,2],[69,1,88,1],[2,26,2,39],[2,12,2,25]]}
[""]
[null," 6.既往借入金年次別約定償還表(条件緩和後)",null,null,null,null,null,null,null,null,null,null,null,null,null,null,null,null,null,null,null,null,null,null,null,null,null,null,null,null,null,null,null,null,null,null,null,null,null,null,null,null,null,"(単位：千円)"]
[null,null,null,null,"番 号",null,null,null,null,"(うち",null,null,"年　　次　　別　　約　　定　　償　　還　　額",null,null,null,null,null,null,null,null,null,null,null,null,null,"借　　　入　　　金　　　残　　　高",null,null,null,null,null,null,null,null,null,null,null,null,null,"資 金 充 当"]
[null,"資      金      名",null,null,null,"借入額"," 借 入 期 限",null,null," 据置期間","利　率",null,{"$f":"IF(配列シート!$B$9=M5,\"(目標年次)\",\"\")","v":""},{"$f":"IF(配列シート!$B$9=N5,\"(目標年次)\",\"\")","v":""},{"$f":"IF(配列シート!$B$9=O5,\"(目標年次)\",\"\")","v":""},{"$f":"IF(配列シート!$B$9=P5,\"(目標年次)\",\"\")","v":"(目標年次)"},{"$f":"IF(配列シート!$B$9=Q5,\"(目標年次)\",\"\")","v":""},{"$f":"IF(配列シート!$B$9=R5,\"(目標年次)\",\"\")","v":""},{"$f":"IF(配列シート!$B$9=S5,\"(目標年次)\",\"\")","v":""},{"$f":"IF(配列シート!$B$9=T5,\"(目標年次)\",\"\")","v":""},{"$f":"IF(配列シート!$B$9=U5,\"(目標年次)\",\"\")","v":""},{"$f":"IF(配列シート!$B$9=V5,\"(目標年次)\",\"\")","v":""},{"$f":"IF(配列シート!$B$9=W5,\"(目標年次)\",\"\")","v":""},{"$f":"IF(配列シート!$B$9=X5,\"(目標年次)\",\"\")","v":""},{"$f":"IF(配列シート!$B$9=Y5,\"(目標年次)\",\"\")","v":""},{"$f":"IF(配列シート!$B$9=Z5,\"(目標年次)\",\"\")","v":""},{"$f":"IF(配列シート!$B$9=AA5,\"(目標年次)\",\"\")","v":""},{"$f":"IF(配列シート!$B$9=AB5,\"(目標年次)\",\"\")","v":""},{"$f":"IF(配列シート!$B$9=AC5,\"(目標年次)\",\"\")","v":""},{"$f":"IF(配列シート!$B$9=AD5,\"(目標年次)\",\"\")","v":"(目標年次)"},{"$f":"IF(配列シート!$B$9=AE5,\"(目標年次)\",\"\")","v":""},{"$f":"IF(配列シート!$B$9=AF5,\"(目標年次)\",\"\")","v":""},{"$f":"IF(配列シート!$B$9=AG5,\"(目標年次)\",\"\")","v":""},{"$f":"IF(配列シート!$B$9=AH5,\"(目標年次)\",\"\")","v":""},{"$f":"IF(配列シート!$B$9=AI5,\"(目標年次)\",\"\")","v":""},{"$f":"IF(配列シート!$B$9=AJ5,\"(目標年次)\",\"\")","v":""},{"$f":"IF(配列シート!$B$9=AK5,\"(目標年次)\",\"\")","v":""},{"$f":"IF(配列シート!$B$9=AL5,\"(目標年次)\",\"\")","v":""},{"$f":"IF(配列シート!$B$9=AM5,\"(目標年次)\",\"\")","v":""},{"$f":"IF(配列シート!$B$9=AN5,\"(目標年次)\",\"\")","v":""},null,null,"条件緩和措置","資 金 の 使 途"]
[null,null,null,null,null,null,"(○年","～","○年)","○年)",null,null,{"$f":"配列シート!B8-3","v":-3},{"$f":"M5+1","v":-2},-1,0,1,2,3,{"$f":"S5+1","v":4},{"$f":"T5+1","v":5},{"$f":"U5+1","v":6},{"$f":"V5+1","v":7},{"$f":"W5+1","v":8},{"$f":"X5+1","v":9},{"$f":"Y5+1","v":10},{"$f":"配列シート!B8-3","v":-3},{"$f":"AA5+1","v":-2},-1,0,1,2,3,{"$f":"AG5+1","v":4},{"$f":"AH5+1","v":5},{"$f":"AI5+1","v":6},{"$f":"AJ5+1","v":7},{"$f":"AK5+1","v":8},{"$f":"AL5+1","v":9},{"$f":"AM5+1","v":10},"部門","比率"]
[null,null,null,{"$f":"IF(('5償還表(条件緩和前)'!D6)=0,\"\",'5償還表(条件緩和前)'!D6)","v":""},{"$f":"IF(('5償還表(条件緩和前)'!E6)=0,\"\",'5償還表(条件緩和前)'!E6)","v":""},{"$f":"IF(('5償還表(条件緩和前)'!F6)=0,,'5償還表(条件緩和前)'!F6)","v":0},{"$f":"IF(('5償還表(条件緩和前)'!G6)=0,,'5償還表(条件緩和前)'!G6)","v":0},"～",{"$f":"IF(('5償還表(条件緩和前)'!I6)=0,,'5償還表(条件緩和前)'!I6)","v":0},{"$f":"IF(('5償還表(条件緩和前)'!J6)=0,,'5償還表(条件緩和前)'!J6)","v":0},{"$f":"IF(('5償還表(条件緩和前)'!K6)=0,,'5償還表(条件緩和前)'!K6)","v":0},"元利金"]
[null,null,null,{"$f":"IF(('5償還表(条件緩和前)'!D7)=0,\"\",'5償還表(条件緩和前)'!D7)","v":""},null,null,null,"～",null,null,null,"元  金"]
[null,null,"農業近代化資金",{"$f":"IF(('5償還表(条件緩和前)'!D8)=0,\"\",'5償還表(条件緩和前)'!D8)","v":""},{"$f":"IF(('5償還表(条件緩和前)'!E8)=0,\"\",'5償還表(条件緩和前)'!E8)","v":""},{"$f":"IF(('5償還表(条件緩和前)'!F8)=0,,'5償還表(条件緩和前)'!F8)","v":0},{"$f":"IF(('5償還表(条件緩和前)'!G8)=0,,'5償還表(条件緩和前)'!G8)","v":0},"～",{"$f":"IF(('5償還表(条件緩和前)'!I8)=0,,'5償還表(条件緩和前)'!I8)","v":0},{"$f":"IF(('5償還表(条件緩和前)'!J8)=0,,'5償還表(条件緩和前)'!J8)","v":0},{"$f":"IF(('5償還表(条件緩和前)'!K8)=0,,'5償還表(条件緩和前)'!K8)","v":0},"元利金"]
[null,null,null,{"$f":"IF(('5償還表(条件緩和前)'!D9)=0,\"\",'5償還表(条件緩和前)'!D9)","v":""},null,null,null,"～",null,null,null,"元  金"]
[null,null,null,{"$f":"IF(('5償還表(条件緩和前)'!D10)=0,\"\",'5償還表(条件緩和前)'!D10)","v":""},{"$f":"IF(('5償還表(条件緩和前)'!E10)=0,\"\",'5償還表(条件緩和前)'!E10)","v":""},{"$f":"IF(('5償還表(条件緩和前)'!F10)=0,,'5償還表(条件緩和前)'!F10)","v":0},{"$f":"IF(('5償還表(条件緩和前)'!G10)=0,,'5償還表(条件緩和前)'!G10)","v":0},"～",{"$f":"IF(('5償還表(条件緩和前)'!I10)=0,,'5償還表(条件緩和前)'!I10)","v":0},{"$f":"IF(('5償還表(条件緩和前)'!J10)=0,,'5償還表(条件緩和前)'!J10)","v":0},{"$f":"IF(('5償還表(条件緩和前)'!K10)=0,,'5償還表(条件緩和前)'!K10)","v":0},"元利金"]
[null,null,null,{"$f":"IF(('5償還表(条件緩和前)'!D11)=0,\"\",'5償還表(条件緩和前)'!D11)","v":""},null,null,null,"～",null,null,null,"元  金"]
[null,null,null,{"$f":"IF(('5償還表(条件緩和前)'!D12)=0,\"\",'5償還表(条件緩和前)'!D12)","v":""},{"$f":"IF(('5償還表(条件緩和前)'!E12)=0,\"\",'5償還表(条件緩和前)'!E12)","v":""},{"$f":"IF(('5償還表(条件緩和前)'!F12)=0,,'5償還表(条件緩和前)'!F12)","v":0},{"$f":"IF(('5償還表(条件緩和前)'!G12)=0,,'5償還表(条件緩和前)'!G12)","v":0},"～",{"$f":"IF(('5償還表(条件緩和前)'!I12)=0,,'5償還表(条件緩和前)'!I12)","v":0},{"$f":"IF(('5償還表(条件緩和前)'!J12)=0,,'5償還表(条件緩和前)'!J12)","v":0},{"$f":"IF(('5償還表(条件緩和前)'!K12)=0,,'5償還表(条件緩和前)'!K12)","v":0},"元利金"]
[null,null,null,{"$f":"IF(('5償還表(条件緩和前)'!D13)=0,\"\",'5償還表(条件緩和前)'!D13)","v":""},null,null,null,"～",null,null,null,"元  金"]
[null,null,null,{"$f":"IF(('5償還表(条件緩和前)'!D14)=0,\"\",'5償還表(条件緩和前)'!D14)","v":""},{"$f":"IF(('5償還表(条件緩和前)'!E14)=0,\"\",'5償還表(条件緩和前)'!E14)","v":""},{"$f":"IF(('5償還表(条件緩和前)'!F14)=0,,'5償還表(条件緩和前)'!F14)","v":0},{"$f":"IF(('5償還表(条件緩和前)'!G14)=0,,'5償還表(条件緩和前)'!G14)","v":0},"～",{"$f":"IF(('5償還表(条件緩和前)'!I14)=0,,'5償還表(条件緩和前)'!I14)","v":0},{"$f":"IF(('5償還表(条件緩和前)'!J14)=0,,'5償還表(条件緩和前)'!J14)","v":0},{"$f":"IF(('5償還表(条件緩和前)'!K14)=0,,'5償還表(条件緩和前)'!K14)","v":0},"元利金"]
[null,null,null,{"$f":"IF(('5償還表(条件緩和前)'!D15)=0,\"\",'5償還表(条件緩和前)'!D15)","v":""},null,null,null,"～",null,null,null,"元  金"]
[null,"制度資金",null,"その他計",{"$f":"IF(('5償還表(条件緩和前)'!E16)=0,\"\",'5償還表(条件緩和前)'!E16)","v":""},{"$f":"SUMIF('6-1既住借入金の償還計画'!A6:A45,2,'6-1既住借入金の償還計画'!F6:F45)","v":0},null,null,null,null,null,"元利金",{"$f":"SUMIF('6-1既住借入金の償還計画'!A6:A45,2,'6-1既住借入金の償還計画'!M6:M45)","v":0},{"$f":"SUMIF('6-1既住借入金の償還計画'!A6:A45,2,'6-1既住借入金の償還計画'!N6:N45)","v":0},{"$f":"SUMIF('6-1既住借入金の償還計画'!A6:A45,2,'6-1既住借入金の償還計画'!O6:O45)","v":0},{"$f":"SUMIF('6-1既住借入金の償還計画'!A6:A45,2,'6-1既住借入金の償還計画'!P6:P45)","v":0},{"$f":"SUMIF('6-1既住借入金の償還計画'!A6:A45,2,'6-1既住借入金の償還計画'!Q6:Q45)","v":0},{"$f":"SUMIF('6-1既住借入金の償還計画'!A6:A45,2,'6-1既住借入金の償還計画'!R6:R45)","v":0},{"$f":"SUMIF('6-1既住借入金の償還計画'!A6:A45,2,'6-1既住借入金の償還計画'!S6:S45)","v":0},{"$f":"SUMIF('6-1既住借入金の償還計画'!A6:A45,2,'6-1既住借入金の償還計画'!T6:T45)","v":0},{"$f":"SUMIF('6-1既住借入金の償還計画'!A6:A45,2,'6-1既住借入金の償還計画'!U6:U45)","v":0},{"$f":"SUMIF('6-1既住借入金の償還計画'!A6:A45,2,'6-1既住借入金の償還計画'!V6:V45)","v":0},{"$f":"SUMIF('6-1既住借入金の償還計画'!A6:A45,2,'6-1既住借入金の償還計画'!W6:W45)","v":0},{"$f":"SUMIF('6-1既住借入金の償還計画'!A6:A45,2,'6-1既住借入金の償還計画'!X6:X45)","v":0},{"$f":"SUMIF('6-1既住借入金の償還計画'!A6:A45,2,'6-1既住借入金の償還計画'!Y6:Y45)","v":0},{"$f":"SUMIF('6-1既住借入金の償還計画'!A6:A45,2,'6-1既住借入金の償還計画'!Z6:Z45)","v":0}]
[null,null,null,{"$f":"IF(('5償還表(条件緩和前)'!D17)=0,\"\",'5償還表(条件緩和前)'!D17)","v":""},null,null,null,null,null,null,null,"元  金",{"$f":"SUMIF('6-1既住借入金の償還計画'!A6:A45,12,'6-1既住借入金の償還計画'!M6:M45)","v":0},{"$f":"SUMIF('6-1既住借入金の償還計画'!A6:A45,12,'6-1既住借入金の償還計画'!N6:N45)","v":0},{"$f":"SUMIF('6-1既住借入金の償還計画'!A6:A45,12,'6-1既住借入金の償還計画'!O6:O45)","v":0},{"$f":"SUMIF('6-1既住借入金の償還計画'!A6:A45,12,'6-1既住借入金の償還計画'!P6:P45)","v":0},{"$f":"SUMIF('6-1既住借入金の償還計画'!A6:A45,12,'6-1既住借入金の償還計画'!Q6:Q45)","v":0},{"$f":"SUMIF('6-1既住借入金の償還計画'!A6:A45,12,'6-1既住借入金の償還計画'!R6:R45)","v":0},{"$f":"SUMIF('6-1既住借入金の償還計画'!A6:A45,12,'6-1既住借入金の償還計画'!S6:S45)","v":0},{"$f":"SUMIF('6-1既住借入金の償還計画'!A6:A45,12,'6-1既住借入金の償還計画'!T6:T45)","v":0},{"$f":"SUMIF('6-1既住借入金の償還計画'!A6:A45,12,'6-1既住借入金の償還計画'!U6:U45)","v":0},{"$f":"SUMIF('6-1既住借入金の償還計画'!A6:A45,12,'6-1既住借入金の償還計画'!V6:V45)","v":0},{"$f":"SUMIF('6-1既住借入金の償還計画'!A6:A45,12,'6-1既住借入金の償還計画'!W6:W45)","v":0},{"$f":"SUMIF('6-1既住借入金の償還計画'!A6:A45,12,'6-1既住借入金の償還計画'!X6:X45)","v":0},{"$f":"SUMIF('6-1既住借入金の償還計画'!A6:A45,12,'6-1既住借入金の償還計画'!Y6:Y45)","v":0},{"$f":"SUMIF('6-1既住借入金の償還計画'!A6:A45,12,'6-1既住借入金の償還計画'!Z6:Z45)","v":0},{"$f":"SUMIF('6-1既住借入金の償還計画'!A6:A45,12,'6-1既住借入金の償還計画'!AA6:AA45)","v":0},{"$f":"SUMIF('6-1既住借入金の償還計画'!A6:A45,12,'6-1既住借入金の償還計画'!AB6:AB45)","v":0},{"$f":"SUMIF('6-1既住借入金の償還計画'!A6:A45,12,'6-1既住借入金の償還計画'!AC6:AC45)","v":0},{"$f":"SUMIF('6-1既住借入金の償還計画'!A6:A45,12,'6-1既住借入金の償還計画'!AD6:AD45)","v":0},{"$f":"SUMIF('6-1既住借入金の償還計画'!A6:A45,12,'6-1既住借入金の償還計画'!AE6:AE45)","v":0},{"$f":"SUMIF('6-1既住借入金の償還計画'!A6:A45,12,'6-1既住借入金の償還計画'!AF6:AF45)","v":0},{"$f":"SUMIF('6-1既住借入金の償還計画'!A6:A45,12,'6-1既住借入金の償還計画'!AG6:AG45)","v":0},{"$f":"SUMIF('6-1既住借入金の償還計画'!A6:A45,12,'6-1既住借入金の償還計画'!AH6:AH45)","v":0},{"$f":"SUMIF('6-1既住借入金の償還計画'!A6:A45,12,'6-1既住借入金の償還計画'!AI6:AI45)","v":0},{"$f":"SUMIF('6-1既住借入金の償還計画'!A6:A45,12,'6-1既住借入金の償還計画'!AJ6:AJ45)","v":0},{"$f":"SUMIF('6-1既住借入金の償還計画'!A6:A45,12,'6-1既住借入金の償還計画'!AK6:AK45)","v":0},{"$f":"SUMIF('6-1既住借入金の償還計画'!A6:A45,12,'6-1既住借入金の償還計画'!AL6:AL45)","v":0},{"$f":"SUMIF('6-1既住借入金の償還計画'!A6:A45,12,'6-1既住借入金の償還計画'!AM6:AM45)","v":0},{"$f":"SUMIF('6-1既住借入金の償還計画'!A6:A45,12,'6-1既住借入金の償還計画'!AN6:AN45)","v":0}]
[null,null,null,null,null,null,null,null,null,null,null,"元利金",{"$f":"M6+M8+M10+M12+M14+M16","v":0},0,0,0,0,0,0,{"$f":"T6+T8+T10+T12+T14+T16","v":0},0,0,0,0,0,0]
[null,null,null,"小            計",null,{"$f":"F6+F8+F10+F12+F14+F16","v":0},null,null,null,null,null,"元  金",0,0,0,0,0,0,0,{"$f":"T7+T9+T11+T13+T15+T17","v":0},0,0,0,0,0,0,{"$f":"AA7+AA9+AA11+AA13+AA15+AA17","v":0},0,0,0,0,0,0,0,0,0,0,0,0,0]
[null,null,null,{"$f":"IF(('5償還表(条件緩和前)'!D20)=0,\"\",'5償還表(条件緩和前)'!D20)","v":""},{"$f":"IF(('5償還表(条件緩和前)'!E20)=0,\"\",'5償還表(条件緩和前)'!E20)","v":""},{"$f":"IF(('5償還表(条件緩和前)'!F20)=0,,'5償還表(条件緩和前)'!F20)","v":0},{"$f":"IF(('5償還表(条件緩和前)'!G20)=0,,'5償還表(条件緩和前)'!G20)","v":0},"～",{"$f":"IF(('5償還表(条件緩和前)'!I20)=0,,'5償還表(条件緩和前)'!I20)","v":0},{"$f":"IF(('5償還表(条件緩和前)'!J20)=0,,'5償還表(条件緩和前)'!J20)","v":0},{"$f":"IF(('5償還表(条件緩和前)'!K20)=0,,'5償還表(条件緩和前)'!K20)","v":0},"元利金"]
[null,null,"公庫資金",{"$f":"IF(('5償還表(条件緩和前)'!D21)=0,\"\",'5償還表(条件緩和前)'!D21)","v":""},null,null,null,"～",null,null,null,"元  金"]
[null,null,null,{"$f":"IF(('5償還表(条件緩和前)'!D22)=0,\"\",'5償還表(条件緩和前)'!D22)","v":""},{"$f":"IF(('5償還表(条件緩和前)'!E22)=0,\"\",'5償還表(条件緩和前)'!E22)","v":""},{"$f":"IF(('5償還表(条件緩和前)'!F22)=0,,'5償還表(条件緩和前)'!F22)","v":0},{"$f":"IF(('5償還表(条件緩和前)'!G22)=0,,'5償還表(条件緩和前)'!G22)","v":0},"～",{"$f":"IF(('5償還表(条件緩和前)'!I22)=0,,'5償還表(条件緩和前)'!I22)","v":0},{"$f":"IF(('5償還表(条件緩和前)'!J22)=0,,'5償還表(条件緩和前)'!J22)","v":0},{"$f":"IF(('5償還表(条件緩和前)'!K22)=0,,'5償還表(条件緩和前)'!K22)","v":0},"元利金"]
[null,null,null,{"$f":"IF(('5償還表(条件緩和前)'!D23)=0,\"\",'5償還表(条件緩和前)'!D23)","v":""},null,null,null,"～",null,null,null,"元  金"]
[null,null,null,{"$f":"IF(('5償還表(条件緩和前)'!D24)=0,\"\",'5償還表(条件緩和前)'!D24)","v":""},{"$f":"IF(('5償還表(条件緩和前)'!E24)=0,\"\",'5償還表(条件緩和前)'!E24)","v":""},{"$f":"IF(('5償還表(条件緩和前)'!F24)=0,,'5償還表(条件緩和前)'!F24)","v":0},{"$f":"IF(('5償還表(条件緩和前)'!G24)=0,,'5償還表(条件緩和前)'!G24)","v":0},"～",{"$f":"IF(('5償還表(条件緩和前)'!I24)=0,,'5償還表(条件緩和前)'!I24)","v":0},{"$f":"IF(('5償還表(条件緩和前)'!J24)=0,,'5償還表(条件緩和前)'!J24)","v":0},{"$f":"IF(('5償還表(条件緩和前)'!K24)=0,,'5償還表(条件緩和前)'!K24)","v":0},"元利金"]
[null,null,null,{"$f":"IF(('5償還表(条件緩和前)'!D25)=0,\"\",'5償還表(条件緩和前)'!D25)","v":""},null,null,null,"～",null,null,null,"元  金"]
[null,null,null,{"$f":"IF(('5償還表(条件緩和前)'!D26)=0,\"\",'5償還表(条件緩和前)'!D26)","v":""},{"$f":"IF(('5償還表(条件緩和前)'!E26)=0,\"\",'5償還表(条件緩和前)'!E26)","v":""},{"$f":"IF(('5償還表(条件緩和前)'!F26)=0,,'5償還表(条件緩和前)'!F26)","v":0},{"$f":"IF(('5償還表(条件緩和前)'!G26)=0,,'5償還表(条件緩和前)'!G26)","v":0},"～",{"$f":"IF(('5償還表(条件緩和前)'!I26)=0,,'5償還表(条件緩和前)'!I26)","v":0},{"$f":"IF(('5償還表(条件緩和前)'!J26)=0,,'5償還表(条件緩和前)'!J26)","v":0},{"$f":"IF(('5償還表(条件緩和前)'!K26)=0,,'5償還表(条件緩和前)'!K26)","v":0},"元利金"]
[null,null,null,{"$f":"IF(('5償還表(条件緩和前)'!D27)=0,\"\",'5償還表(条件緩和前)'!D27)","v":""},null,null,null,"～",null,null,null,"元  金"]
[null,null,null,"その他計",{"$f":"IF(('5償還表(条件緩和前)'!E28)=0,\"\",'5償還表(条件緩和前)'!E28)","v":""},{"$f":"SUMIF('6-1既住借入金の償還計画'!A6:A45,3,'6-1既住借入金の償還計画'!F6:F45)","v":0},null,null,null,null,null,"元利金",{"$f":"SUMIF('6-1既住借入金の償還計画'!A6:A45,3,'6-1既住借入金の償還計画'!M6:M45)","v":0},{"$f":"SUMIF('6-1既住借入金の償還計画'!A6:A45,3,'6-1既住借入金の償還計画'!N6:N45)","v":0},{"$f":"SUMIF('6-1既住借入金の償還計画'!A6:A45,3,'6-1既住借入金の償還計画'!O6:O45)","v":0},{"$f":"SUMIF('6-1既住借入金の償還計画'!A6:A45,3,'6-1既住借入金の償還計画'!P6:P45)","v":0},{"$f":"SUMIF('6-1既住借入金の償還計画'!A6:A45,3,'6-1既住借入金の償還計画'!Q6:Q45)","v":0},{"$f":"SUMIF('6-1既住借入金の償還計画'!A6:A45,3,'6-1既住借入金の償還計画'!R6:R45)","v":0},{"$f":"SUMIF('6-1既住借入金の償還計画'!A6:A45,3,'6-1既住借入金の償還計画'!S6:S45)","v":0},{"$f":"SUMIF('6-1既住借入金の償還計画'!A6:A45,3,'6-1既住借入金の償還計画'!T6:T45)","v":0},{"$f":"SUMIF('6-1既住借入金の償還計画'!A6:A45,3,'6-1既住借入金の償還計画'!U6:U45)","v":0},{"$f":"SUMIF('6-1既住借入金の償還計画'!A6:A45,3,'6-1既住借入金の償還計画'!V6:V45)","v":0},{"$f":"SUMIF('6-1既住借入金の償還計画'!A6:A45,3,'6-1既住借入金の償還計画'!W6:W45)","v":0},{"$f":"SUMIF('6-1既住借入金の償還計画'!A6:A45,3,'6-1既住借入金の償還計画'!X6:X45)","v":0},{"$f":"SUMIF('6-1既住借入金の償還計画'!A6:A45,3,'6-1既住借入金の償還計画'!Y6:Y45)","v":0},{"$f":"SUMIF('6-1既住借入金の償還計画'!A6:A45,3,'6-1既住借入金の償還計画'!Z6:Z45)","v":0}]
[null,null,null,{"$f":"IF(('5償還表(条件緩和前)'!D29)=0,\"\",'5償還表(条件緩和前)'!D29)","v":""},null,null,null,null,null,null,null,"元  金",{"$f":"SUMIF('6-1既住借入金の償還計画'!A6:A45,13,'6-1既住借入金の償還計画'!M6:M45)","v":0},{"$f":"SUMIF('6-1既住借入金の償還計画'!A6:A45,13,'6-1既住借入金の償還計画'!N6:N45)","v":0},{"$f":"SUMIF('6-1既住借入金の償還計画'!A6:A45,13,'6-1既住借入金の償還計画'!O6:O45)","v":0},{"$f":"SUMIF('6-1既住借入金の償還計画'!A6:A45,13,'6-1既住借入金の償還計画'!P6:P45)","v":0},{"$f":"SUMIF('6-1既住借入金の償還計画'!A6:A45,13,'6-1既住借入金の償還計画'!Q6:Q45)","v":0},{"$f":"SUMIF('6-1既住借入金の償還計画'!A6:A45,13,'6-1既住借入金の償還計画'!R6:R45)","v":0},{"$f":"SUMIF('6-1既住借入金の償還計画'!A6:A45,13,'6-1既住借入金の償還計画'!S6:S45)","v":0},{"$f":"SUMIF('6-1既住借入金の償還計画'!A6:A45,13,'6-1既住借入金の償還計画'!T6:T45)","v":0},{"$f":"SUMIF('6-1既住借入金の償還計画'!A6:A45,13,'6-1既住借入金の償還計画'!U6:U45)","v":0},{"$f":"SUMIF('6-1既住借入金の償還計画'!A6:A45,13,'6-1既住借入金の償還計画'!V6:V45)","v":0},{"$f":"SUMIF('6-1既住借入金の償還計画'!A6:A45,13,'6-1既住借入金の償還計画'!W6:W45)","v":0},{"$f":"SUMIF('6-1既住借入金の償還計画'!A6:A45,13,'6-1既住借入金の償還計画'!X6:X45)","v":0},{"$f":"SUMIF('6-1既住借入金の償還計画'!A6:A45,13,'6-1既住借入金の償還計画'!Y6:Y45)","v":0},{"$f":"SUMIF('6-1既住借入金の償還計画'!A6:A45,13,'6-1既住借入金の償還計画'!Z6:Z45)","v":0},{"$f":"SUMIF('6-1既住借入金の償還計画'!A6:A45,13,'6-1既住借入金の償還計画'!AA6:AA45)","v":0},{"$f":"SUMIF('6-1既住借入金の償還計画'!A6:A45,13,'6-1既住借入金の償還計画'!AB6:AB45)","v":0},{"$f":"SUMIF('6-1既住借入金の償還計画'!A6:A45,13,'6-1既住借入金の償還計画'!AC6:AC45)","v":0},{"$f":"SUMIF('6-1既住借入金の償還計画'!A6:A45,13,'6-1既住借入金の償還計画'!AD6:AD45)","v":0},{"$f":"SUMIF('6-1既住借入金の償還計画'!A6:A45,13,'6-1既住借入金の償還計画'!AE6:AE45)","v":0},{"$f":"SUMIF('6-1既住借入金の償還計画'!A6:A45,13,'6-1既住借入金の償還計画'!AF6:AF45)","v":0},{"$f":"SUMIF('6-1既住借入金の償還計画'!A6:A45,13,'6-1既住借入金の償還計画'!AG6:AG45)","v":0},{"$f":"SUMIF('6-1既住借入金の償還計画'!A6:A45,13,'6-1既住借入金の償還計画'!AH6:AH45)","v":0},{"$f":"SUMIF('6-1既住借入金の償還計画'!A6:A45,13,'6-1既住借入金の償還計画'!AI6:AI45)","v":0},{"$f":"SUMIF('6-1既住借入金の償還計画'!A6:A45,13,'6-1既住借入金の償還計画'!AJ6:AJ45)","v":0},{"$f":"SUMIF('6-1既住借入金の償還計画'!A6:A45,13,'6-1既住借入金の償還計画'!AK6:AK45)","v":0},{"$f":"SUMIF('6-1既住借入金の償還計画'!A6:A45,13,'6-1既住借入金の償還計画'!AL6:AL45)","v":0},{"$f":"SUMIF('6-1既住借入金の償還計画'!A6:A45,13,'6-1既住借入金の償還計画'!AM6:AM45)","v":0},{"$f":"SUMIF('6-1既住借入金の償還計画'!A6:A45,13,'6-1既住借入金の償還計画'!AN6:AN45)","v":0}]
[null,null,null,null,null,null,null,null,null,null,null,"元利金",{"$f":"M20+M22+M24+M26+M28","v":0},0,0,0,0,0,0,{"$f":"T20+T22+T24+T26+T28","v":0},0,0,0,0,0,0]
[null,null,null,"小            計",null,{"$f":"F20+F22+F24+F26+F28","v":0},null,null,null,null,null,"元  金",0,0,0,0,0,0,0,{"$f":"T21+T23+T25+T27+T29","v":0},0,0,0,0,0,0,{"$f":"AA21+AA23+AA25+AA27+AA29","v":0},0,0,0,0,0,0,0,0,0,0,0,0,0]
[null,null,null,{"$f":"IF(('5償還表(条件緩和前)'!D32)=0,\"\",'5償還表(条件緩和前)'!D32)","v":""},{"$f":"IF(('5償還表(条件緩和前)'!E32)=0,\"\",'5償還表(条件緩和前)'!E32)","v":""},{"$f":"IF(('5償還表(条件緩和前)'!F32)=0,,'5償還表(条件緩和前)'!F32)","v":0},{"$f":"IF(('5償還表(条件緩和前)'!G32)=0,,'5償還表(条件緩和前)'!G32)","v":0},"～",{"$f":"IF(('5償還表(条件緩和前)'!I32)=0,,'5償還表(条件緩和前)'!I32)","v":0},{"$f":"IF(('5償還表(条件緩和前)'!J32)=0,,'5償還表(条件緩和前)'!J32)","v":0},{"$f":"IF(('5償還表(条件緩和前)'!K32)=0,,'5償還表(条件緩和前)'!K32)","v":0},"元利金"]
[null,null,"その他制度資金※除く畜特",{"$f":"IF(('5償還表(条件緩和前)'!D33)=0,\"\",'5償還表(条件緩和前)'!D33)","v":""},null,null,null,"～",null,null,null,"元  金"]
[null,null,null,{"$f":"IF(('5償還表(条件緩和前)'!D34)=0,\"\",'5償還表(条件緩和前)'!D34)","v":""},{"$f":"IF(('5償還表(条件緩和前)'!E34)=0,\"\",'5償還表(条件緩和前)'!E34)","v":""},{"$f":"IF(('5償還表(条件緩和前)'!F34)=0,,'5償還表(条件緩和前)'!F34)","v":0},{"$f":"IF(('5償還表(条件緩和前)'!G34)=0,,'5償還表(条件緩和前)'!G34)","v":0},"～",{"$f":"IF(('5償還表(条件緩和前)'!I34)=0,,'5償還表(条件緩和前)'!I34)","v":0},{"$f":"IF(('5償還表(条件緩和前)'!J34)=0,,'5償還表(条件緩和前)'!J34)","v":0},{"$f":"IF(('5償還表(条件緩和前)'!K34)=0,,'5償還表(条件緩和前)'!K34)","v":0},"元利金"]
[null,null,null,{"$f":"IF(('5償還表(条件緩和前)'!D35)=0,\"\",'5償還表(条件緩和前)'!D35)","v":""},null,null,null,"～",null,null,null,"元  金"]
[null,null,null,{"$f":"IF(('5償還表(条件緩和前)'!D36)=0,\"\",'5償還表(条件緩和前)'!D36)","v":""},{"$f":"IF(('5償還表(条件緩和前)'!E36)=0,\"\",'5償還表(条件緩和前)'!E36)","v":""},{"$f":"IF(('5償還表(条件緩和前)'!F36)=0,,'5償還表(条件緩和前)'!F36)","v":0},{"$f":"IF(('5償還表(条件緩和前)'!G36)=0,,'5償還表(条件緩和前)'!G36)","v":0},"～",{"$f":"IF(('5償還表(条件緩和前)'!I36)=0,,'5償還表(条件緩和前)'!I36)","v":0},{"$f":"IF(('5償還表(条件緩和前)'!J36)=0,,'5償還表(条件緩和前)'!J36)","v":0},{"$f":"IF(('5償還表(条件緩和前)'!K36)=0,,'5償還表(条件緩和前)'!K36)","v":0},"元利金"]
[null,null,null,{"$f":"IF(('5償還表(条件緩和前)'!D37)=0,\"\",'5償還表(条件緩和前)'!D37)","v":""},null,null,null,"～",null,null,null,"元  金"]
[null,null,null,{"$f":"IF(('5償還表(条件緩和前)'!D38)=0,\"\",'5償還表(条件緩和前)'!D38)","v":""},{"$f":"IF(('5償還表(条件緩和前)'!E38)=0,\"\",'5償還表(条件緩和前)'!E38)","v":""},{"$f":"IF(('5償還表(条件緩和前)'!F38)=0,,'5償還表(条件緩和前)'!F38)","v":0},{"$f":"IF(('5償還表(条件緩和前)'!G38)=0,,'5償還表(条件緩和前)'!G38)","v":0},"～",{"$f":"IF(('5償還表(条件緩和前)'!I38)=0,,'5償還表(条件緩和前)'!I38)","v":0},{"$f":"IF(('5償還表(条件緩和前)'!J38)=0,,'5償還表(条件緩和前)'!J38)","v":0},{"$f":"IF(('5償還表(条件緩和前)'!K38)=0,,'5償還表(条件緩和前)'!K38)","v":0},"元利金"]
[null,null,null,{"$f":"IF(('5償還表(条件緩和前)'!D39)=0,\"\",'5償還表(条件緩和前)'!D39)","v":""},null,null,null,"～",null,null,null,"元  金"]
[null,null,null,{"$f":"IF(('5償還表(条件緩和前)'!D40)=0,\"\",'5償還表(条件緩和前)'!D40)","v":""},{"$f":"IF(('5償還表(条件緩和前)'!E40)=0,\"\",'5償還表(条件緩和前)'!E40)","v":""},{"$f":"IF(('5償還表(条件緩和前)'!F40)=0,,'5償還表(条件緩和前)'!F40)","v":0},{"$f":"IF(('5償還表(条件緩和前)'!G40)=0,,'5償還表(条件緩和前)'!G40)","v":0},"～",{"$f":"IF(('5償還表(条件緩和前)'!I40)=0,,'5償還表(条件緩和前)'!I40)","v":0},{"$f":"IF(('5償還表(条件緩和前)'!J40)=0,,'5償還表(条件緩和前)'!J40)","v":0},{"$f":"IF(('5償還表(条件緩和前)'!K40)=0,,'5償還表(条件緩和前)'!K40)","v":0},"元利金"]
[null,null,null,{"$f":"IF(('5償還表(条件緩和前)'!D41)=0,\"\",'5償還表(条件緩和前)'!D41)","v":""},null,null,null,"～",null,null,null,"元  金"]
[null,null,null,{"$f":"IF(('5償還表(条件緩和前)'!D42)=0,\"\",'5償還表(条件緩和前)'!D42)","v":""},{"$f":"IF(('5償還表(条件緩和前)'!E42)=0,\"\",'5償還表(条件緩和前)'!E42)","v":""},{"$f":"IF(('5償還表(条件緩和前)'!F42)=0,,'5償還表(条件緩和前)'!F42)","v":0},{"$f":"IF(('5償還表(条件緩和前)'!G42)=0,,'5償還表(条件緩和前)'!G42)","v":0},"～",{"$f":"IF(('5償還表(条件緩和前)'!I42)=0,,'5償還表(条件緩和前)'!I42)","v":0},{"$f":"IF(('5償還表(条件緩和前)'!J42)=0,,'5償還表(条件緩和前)'!J42)","v":0},{"$f":"IF(('5償還表(条件緩和前)'!K42)=0,,'5償還表(条件緩和前)'!K42)","v":0},"元利金"]
[null,null,null,{"$f":"IF(('5償還表(条件緩和前)'!D43)=0,\"\",'5償還表(条件緩和前)'!D43)","v":""},null,null,null,"～",null,null,null,"元  金"]
[null,null,null,"その他計",{"$f":"IF(('5償還表(条件緩和前)'!E44)=0,\"\",'5償還表(条件緩和前)'!E44)","v":""},{"$f":"SUMIF('6-1既住借入金の償還計画'!A6:A45,4,'6-1既住借入金の償還計画'!F6:F45)","v":0},null,null,null,null,null,"元利金",{"$f":"SUMIF('6-1既住借入金の償還計画'!A6:A45,4,'6-1既住借入金の償還計画'!M6:M45)","v":0},{"$f":"SUMIF('6-1既住借入金の償還計画'!A6:A45,4,'6-1既住借入金の償還計画'!N6:N45)","v":0},{"$f":"SUMIF('6-1既住借入金の償還計画'!A6:A45,4,'6-1既住借入金の償還計画'!O6:O45)","v":0},{"$f":"SUMIF('6-1既住借入金の償還計画'!A6:A45,4,'6-1既住借入金の償還計画'!P6:P45)","v":0},{"$f":"SUMIF('6-1既住借入金の償還計画'!A6:A45,4,'6-1既住借入金の償還計画'!Q6:Q45)","v":0},{"$f":"SUMIF('6-1既住借入金の償還計画'!A6:A45,4,'6-1既住借入金の償還計画'!R6:R45)","v":0},{"$f":"SUMIF('6-1既住借入金の償還計画'!A6:A45,4,'6-1既住借入金の償還計画'!S6:S45)","v":0},{"$f":"SUMIF('6-1既住借入金の償還計画'!A6:A45,4,'6-1既住借入金の償還計画'!T6:T45)","v":0},{"$f":"SUMIF('6-1既住借入金の償還計画'!A6:A45,4,'6-1既住借入金の償還計画'!U6:U45)","v":0},{"$f":"SUMIF('6-1既住借入金の償還計画'!A6:A45,4,'6-1既住借入金の償還計画'!V6:V45)","v":0},{"$f":"SUMIF('6-1既住借入金の償還計画'!A6:A45,4,'6-1既住借入金の償還計画'!W6:W45)","v":0},{"$f":"SUMIF('6-1既住借入金の償還計画'!A6:A45,4,'6-1既住借入金の償還計画'!X6:X45)","v":0},{"$f":"SUMIF('6-1既住借入金の償還計画'!A6:A45,4,'6-1既住借入金の償還計画'!Y6:Y45)","v":0},{"$f":"SUMIF('6-1既住借入金の償還計画'!A6:A45,4,'6-1既住借入金の償還計画'!Z6:Z45)","v":0}]
[null,null,null,{"$f":"IF(('5償還表(条件緩和前)'!D45)=0,\"\",'5償還表(条件緩和前)'!D45)","v":""},null,null,null,null,null,null,null,"元  金",{"$f":"SUMIF('6-1既住借入金の償還計画'!A6:A45,14,'6-1既住借入金の償還計画'!M6:M45)","v":0},{"$f":"SUMIF('6-1既住借入金の償還計画'!A6:A45,14,'6-1既住借入金の償還計画'!N6:N45)","v":0},{"$f":"SUMIF('6-1既住借入金の償還計画'!A6:A45,14,'6-1既住借入金の償還計画'!O6:O45)","v":0},{"$f":"SUMIF('6-1既住借入金の償還計画'!A6:A45,14,'6-1既住借入金の償還計画'!P6:P45)","v":0},{"$f":"SUMIF('6-1既住借入金の償還計画'!A6:A45,14,'6-1既住借入金の償還計画'!Q6:Q45)","v":0},{"$f":"SUMIF('6-1既住借入金の償還計画'!A6:A45,14,'6-1既住借入金の償還計画'!R6:R45)","v":0},{"$f":"SUMIF('6-1既住借入金の償還計画'!A6:A45,14,'6-1既住借入金の償還計画'!S6:S45)","v":0},{"$f":"SUMIF('6-1既住借入金の償還計画'!A6:A45,14,'6-1既住借入金の償還計画'!T6:T45)","v":0},{"$f":"SUMIF('6-1既住借入金の償還計画'!A6:A45,14,'6-1既住借入金の償還計画'!U6:U45)","v":0},{"$f":"SUMIF('6-1既住借入金の償還計画'!A6:A45,14,'6-1既住借入金の償還計画'!V6:V45)","v":0},{"$f":"SUMIF('6-1既住借入金の償還計画'!A6:A45,14,'6-1既住借入金の償還計画'!W6:W45)","v":0},{"$f":"SUMIF('6-1既住借入金の償還計画'!A6:A45,14,'6-1既住借入金の償還計画'!X6:X45)","v":0},{"$f":"SUMIF('6-1既住借入金の償還計画'!A6:A45,14,'6-1既住借入金の償還計画'!Y6:Y45)","v":0},{"$f":"SUMIF('6-1既住借入金の償還計画'!A6:A45,14,'6-1既住借入金の償還計画'!Z6:Z45)","v":0},{"$f":"SUMIF('6-1既住借入金の償還計画'!A6:A45,14,'6-1既住借入金の償還計画'!AA6:AA45)","v":0},{"$f":"SUMIF('6-1既住借入金の償還計画'!A6:A45,14,'6-1既住借入金の償還計画'!AB6:AB45)","v":0},{"$f":"SUMIF('6-1既住借入金の償還計画'!A6:A45,14,'6-1既住借入金の償還計画'!AC6:AC45)","v":0},{"$f":"SUMIF('6-1既住借入金の償還計画'!A6:A45,14,'6-1既住借入金の償還計画'!AD6:AD45)","v":0},{"$f":"SUMIF('6-1既住借入金の償還計画'!A6:A45,14,'6-1既住借入金の償還計画'!AE6:AE45)","v":0},{"$f":"SUMIF('6-1既住借入金の償還計画'!A6:A45,14,'6-1既住借入金の償還計画'!AF6:AF45)","v":0},{"$f":"SUMIF('6-1既住借入金の償還計画'!A6:A45,14,'6-1既住借入金の償還計画'!AG6:AG45)","v":0},{"$f":"SUMIF('6-1既住借入金の償還計画'!A6:A45,14,'6-1既住借入金の償還計画'!AH6:AH45)","v":0},{"$f":"SUMIF('6-1既住借入金の償還計画'!A6:A45,14,'6-1既住借入金の償還計画'!AI6:AI45)","v":0},{"$f":"SUMIF('6-1既住借入金の償還計画'!A6:A45,14,'6-1既住借入金の償還計画'!AJ6:AJ45)","v":0},{"$f":"SUMIF('6-1既住借入金の償還計画'!A6:A45,14,'6-1既住借入金の償還計画'!AK6:AK45)","v":0},{"$f":"SUMIF('6-1既住借入金の償還計画'!A6:A45,14,'6-1既住借入金の償還計画'!AL6:AL45)","v":0},{"$f":"SUMIF('6-1既住借入金の償還計画'!A6:A45,14,'6-1既住借入金の償還計画'!AM6:AM45)","v":0},{"$f":"SUMIF('6-1既住借入金の償還計画'!A6:A45,14,'6-1既住借入金の償還計画'!AN6:AN45)","v":0}]
[null,null,null,null,null,null,null,null,null,null,null,"元利金",{"$f":"M32+M34+M36+M38+M40+M42+M44","v":0},0,0,0,0,0,0,{"$f":"T32+T34+T36+T38+T40+T42+T44","v":0},0,0,0,0,0,0]
[null,null,null,"小            計",null,{"$f":"F32+F34+F36+F38+F40+F42+F44","v":0},null,null,null,null,null,"元  金",0,0,0,0,0,0,0,{"$f":"T33+T35+T37+T39+T41+T43+T45","v":0},0,0,0,0,0,0,{"$f":"AA33+AA35+AA37+AA39+AA41+AA43+AA45","v":0},0,0,0,0,0,0,0,0,0,0,0,0,0]
[null,null,null,{"$f":"IF(('5償還表(条件緩和前)'!D48)=0,\"\",'5償還表(条件緩和前)'!D48)","v":""},{"$f":"IF(('5償還表(条件緩和前)'!E48)=0,\"\",'5償還表(条件緩和前)'!E48)","v":""},{"$f":"IF(('5償還表(条件緩和前)'!F48)=0,,'5償還表(条件緩和前)'!F48)","v":0},{"$f":"IF(('5償還表(条件緩和前)'!G48)=0,,'5償還表(条件緩和前)'!G48)","v":0},"～",{"$f":"IF(('5償還表(条件緩和前)'!I48)=0,,'5償還表(条件緩和前)'!I48)","v":0},{"$f":"IF(('5償還表(条件緩和前)'!J48)=0,,'5償還表(条件緩和前)'!J48)","v":0},{"$f":"IF(('5償還表(条件緩和前)'!K48)=0,,'5償還表(条件緩和前)'!K48)","v":0},"元利金"]
[null,null,"畜産特別資金",{"$f":"IF(('5償還表(条件緩和前)'!D49)=0,\"\",'5償還表(条件緩和前)'!D49)","v":""},null,null,null,"～",null,null,null,"元  金"]
[null,null,null,{"$f":"IF(('5償還表(条件緩和前)'!D50)=0,\"\",'5償還表(条件緩和前)'!D50)","v":""},{"$f":"IF(('5償還表(条件緩和前)'!E50)=0,\"\",'5償還表(条件緩和前)'!E50)","v":""},{"$f":"IF(('5償還表(条件緩和前)'!F50)=0,,'5償還表(条件緩和前)'!F50)","v":0},{"$f":"IF(('5償還表(条件緩和前)'!G50)=0,,'5償還表(条件緩和前)'!G50)","v":0},"～",{"$f":"IF(('5償還表(条件緩和前)'!I50)=0,,'5償還表(条件緩和前)'!I50)","v":0},{"$f":"IF(('5償還表(条件緩和前)'!J50)=0,,'5償還表(条件緩和前)'!J50)","v":0},{"$f":"IF(('5償還表(条件緩和前)'!K50)=0,,'5償還表(条件緩和前)'!K50)","v":0},"元利金"]
[null,null,null,{"$f":"IF(('5償還表(条件緩和前)'!D51)=0,\"\",'5償還表(条件緩和前)'!D51)","v":""},null,null,null,"～",null,null,null,"元  金"]
[null,null,null,{"$f":"IF(('5償還表(条件緩和前)'!D52)=0,\"\",'5償還表(条件緩和前)'!D52)","v":""},{"$f":"IF(('5償還表(条件緩和前)'!E52)=0,\"\",'5償還表(条件緩和前)'!E52)","v":""},{"$f":"IF(('5償還表(条件緩和前)'!F52)=0,,'5償還表(条件緩和前)'!F52)","v":0},{"$f":"IF(('5償還表(条件緩和前)'!G52)=0,,'5償還表(条件緩和前)'!G52)","v":0},"～",{"$f":"IF(('5償還表(条件緩和前)'!I52)=0,,'5償還表(条件緩和前)'!I52)","v":0},{"$f":"IF(('5償還表(条件緩和前)'!J52)=0,,'5償還表(条件緩和前)'!J52)","v":0},{"$f":"IF(('5償還表(条件緩和前)'!K52)=0,,'5償還表(条件緩和前)'!K52)","v":0},"元利金"]
[null,null,null,{"$f":"IF(('5償還表(条件緩和前)'!D53)=0,\"\",'5償還表(条件緩和前)'!D53)","v":""},null,null,null,"～",null,null,null,"元  金"]
[null,null,null,{"$f":"IF(('5償還表(条件緩和前)'!D54)=0,\"\",'5償還表(条件緩和前)'!D54)","v":""},{"$f":"IF(('5償還表(条件緩和前)'!E54)=0,\"\",'5償還表(条件緩和前)'!E54)","v":""},{"$f":"IF(('5償還表(条件緩和前)'!F54)=0,,'5償還表(条件緩和前)'!F54)","v":0},{"$f":"IF(('5償還表(条件緩和前)'!G54)=0,,'5償還表(条件緩和前)'!G54)","v":0},"～",{"$f":"IF(('5償還表(条件緩和前)'!I54)=0,,'5償還表(条件緩和前)'!I54)","v":0},{"$f":"IF(('5償還表(条件緩和前)'!J54)=0,,'5償還表(条件緩和前)'!J54)","v":0},{"$f":"IF(('5償還表(条件緩和前)'!K54)=0,,'5償還表(条件緩和前)'!K54)","v":0},"元利金"]
[null,null,null,{"$f":"IF(('5償還表(条件緩和前)'!D55)=0,\"\",'5償還表(条件緩和前)'!D55)","v":""},null,null,null,"～",null,null,null,"元  金"]
[null,null,null,{"$f":"IF(('5償還表(条件緩和前)'!D56)=0,\"\",'5償還表(条件緩和前)'!D56)","v":""},{"$f":"IF(('5償還表(条件緩和前)'!E56)=0,\"\",'5償還表(条件緩和前)'!E56)","v":""},{"$f":"IF(('5償還表(条件緩和前)'!F56)=0,,'5償還表(条件緩和前)'!F56)","v":0},{"$f":"IF(('5償還表(条件緩和前)'!G56)=0,,'5償還表(条件緩和前)'!G56)","v":0},"～",{"$f":"IF(('5償還表(条件緩和前)'!I56)=0,,'5償還表(条件緩和前)'!I56)","v":0},{"$f":"IF(('5償還表(条件緩和前)'!J56)=0,,'5償還表(条件緩和前)'!J56)","v":0},{"$f":"IF(('5償還表(条件緩和前)'!K56)=0,,'5償還表(条件緩和前)'!K56)","v":0},"元利金"]
[null,null,null,{"$f":"IF(('5償還表(条件緩和前)'!D57)=0,\"\",'5償還表(条件緩和前)'!D57)","v":""},null,null,null,"～",null,null,null,"元  金"]
[null,null,null,{"$f":"IF(('5償還表(条件緩和前)'!D58)=0,\"\",'5償還表(条件緩和前)'!D58)","v":""},{"$f":"IF(('5償還表(条件緩和前)'!E58)=0,\"\",'5償還表(条件緩和前)'!E58)","v":""},{"$f":"IF(('5償還表(条件緩和前)'!F58)=0,,'5償還表(条件緩和前)'!F58)","v":0},{"$f":"IF(('5償還表(条件緩和前)'!G58)=0,,'5償還表(条件緩和前)'!G58)","v":0},"～",{"$f":"IF(('5償還表(条件緩和前)'!I58)=0,,'5償還表(条件緩和前)'!I58)","v":0},{"$f":"IF(('5償還表(条件緩和前)'!J58)=0,,'5償還表(条件緩和前)'!J58)","v":0},{"$f":"IF(('5償還表(条件緩和前)'!K58)=0,,'5償還表(条件緩和前)'!K58)","v":0},"元利金"]
[null,null,null,{"$f":"IF(('5償還表(条件緩和前)'!D59)=0,\"\",'5償還表(条件緩和前)'!D59)","v":""},null,null,null,"～",null,null,null,"元  金"]
[null,null,null,"その他計",{"$f":"IF(('5償還表(条件緩和前)'!E60)=0,\"\",'5償還表(条件緩和前)'!E60)","v":""},{"$f":"SUMIF('6-1既住借入金の償還計画'!A6:A45,5,'6-1既住借入金の償還計画'!F6:F45)","v":0},null,null,null,null,null,"元利金",{"$f":"SUMIF('6-1既住借入金の償還計画'!A6:A45,5,'6-1既住借入金の償還計画'!M6:M45)","v":0},{"$f":"SUMIF('6-1既住借入金の償還計画'!A6:A45,5,'6-1既住借入金の償還計画'!N6:N45)","v":0},{"$f":"SUMIF('6-1既住借入金の償還計画'!A6:A45,5,'6-1既住借入金の償還計画'!O6:O45)","v":0},{"$f":"SUMIF('6-1既住借入金の償還計画'!A6:A45,5,'6-1既住借入金の償還計画'!P6:P45)","v":0},{"$f":"SUMIF('6-1既住借入金の償還計画'!A6:A45,5,'6-1既住借入金の償還計画'!Q6:Q45)","v":0},{"$f":"SUMIF('6-1既住借入金の償還計画'!A6:A45,5,'6-1既住借入金の償還計画'!R6:R45)","v":0},{"$f":"SUMIF('6-1既住借入金の償還計画'!A6:A45,5,'6-1既住借入金の償還計画'!S6:S45)","v":0},{"$f":"SUMIF('6-1既住借入金の償還計画'!A6:A45,5,'6-1既住借入金の償還計画'!T6:T45)","v":0},{"$f":"SUMIF('6-1既住借入金の償還計画'!A6:A45,5,'6-1既住借入金の償還計画'!U6:U45)","v":0},{"$f":"SUMIF('6-1既住借入金の償還計画'!A6:A45,5,'6-1既住借入金の償還計画'!V6:V45)","v":0},{"$f":"SUMIF('6-1既住借入金の償還計画'!A6:A45,5,'6-1既住借入金の償還計画'!W6:W45)","v":0},{"$f":"SUMIF('6-1既住借入金の償還計画'!A6:A45,5,'6-1既住借入金の償還計画'!X6:X45)","v":0},{"$f":"SUMIF('6-1既住借入金の償還計画'!A6:A45,5,'6-1既住借入金の償還計画'!Y6:Y45)","v":0},{"$f":"SUMIF('6-1既住借入金の償還計画'!A6:A45,5,'6-1既住借入金の償還計画'!Z6:Z45)","v":0}]
[null,null,null,{"$f":"IF(('5償還表(条件緩和前)'!D61)=0,\"\",'5償還表(条件緩和前)'!D61)","v":""},null,null,null,null,null,null,null,"元  金",{"$f":"SUMIF('6-1既住借入金の償還計画'!A6:A45,15,'6-1既住借入金の償還計画'!M6:M45)","v":0},{"$f":"SUMIF('6-1既住借入金の償還計画'!A6:A45,15,'6-1既住借入金の償還計画'!N6:N45)","v":0},{"$f":"SUMIF('6-1既住借入金の償還計画'!A6:A45,15,'6-1既住借入金の償還計画'!O6:O45)","v":0},{"$f":"SUMIF('6-1既住借入金の償還計画'!A6:A45,15,'6-1既住借入金の償還計画'!P6:P45)","v":0},{"$f":"SUMIF('6-1既住借入金の償還計画'!A6:A45,15,'6-1既住借入金の償還計画'!Q6:Q45)","v":0},{"$f":"SUMIF('6-1既住借入金の償還計画'!A6:A45,15,'6-1既住借入金の償還計画'!R6:R45)","v":0},{"$f":"SUMIF('6-1既住借入金の償還計画'!A6:A45,15,'6-1既住借入金の償還計画'!S6:S45)","v":0},{"$f":"SUMIF('6-1既住借入金の償還計画'!A6:A45,15,'6-1既住借入金の償還計画'!T6:T45)","v":0},{"$f":"SUMIF('6-1既住借入金の償還計画'!A6:A45,15,'6-1既住借入金の償還計画'!U6:U45)","v":0},{"$f":"SUMIF('6-1既住借入金の償還計画'!A6:A45,15,'6-1既住借入金の償還計画'!V6:V45)","v":0},{"$f":"SUMIF('6-1既住借入金の償還計画'!A6:A45,15,'6-1既住借入金の償還計画'!W6:W45)","v":0},{"$f":"SUMIF('6-1既住借入金の償還計画'!A6:A45,15,'6-1既住借入金の償還計画'!X6:X45)","v":0},{"$f":"SUMIF('6-1既住借入金の償還計画'!A6:A45,15,'6-1既住借入金の償還計画'!Y6:Y45)","v":0},{"$f":"SUMIF('6-1既住借入金の償還計画'!A6:A45,15,'6-1既住借入金の償還計画'!Z6:Z45)","v":0},{"$f":"SUMIF('6-1既住借入金の償還計画'!A6:A45,15,'6-1既住借入金の償還計画'!AA6:AA45)","v":0},{"$f":"SUMIF('6-1既住借入金の償還計画'!A6:A45,15,'6-1既住借入金の償還計画'!AB6:AB45)","v":0},{"$f":"SUMIF('6-1既住借入金の償還計画'!A6:A45,15,'6-1既住借入金の償還計画'!AC6:AC45)","v":0},{"$f":"SUMIF('6-1既住借入金の償還計画'!A6:A45,15,'6-1既住借入金の償還計画'!AD6:AD45)","v":0},{"$f":"SUMIF('6-1既住借入金の償還計画'!A6:A45,15,'6-1既住借入金の償還計画'!AE6:AE45)","v":0},{"$f":"SUMIF('6-1既住借入金の償還計画'!A6:A45,15,'6-1既住借入金の償還計画'!AF6:AF45)","v":0},{"$f":"SUMIF('6-1既住借入金の償還計画'!A6:A45,15,'6-1既住借入金の償還計画'!AG6:AG45)","v":0},{"$f":"SUMIF('6-1既住借入金の償還計画'!A6:A45,15,'6-1既住借入金の償還計画'!AH6:AH45)","v":0},{"$f":"SUMIF('6-1既住借入金の償還計画'!A6:A45,15,'6-1既住借入金の償還計画'!AI6:AI45)","v":0},{"$f":"SUMIF('6-1既住借入金の償還計画'!A6:A45,15,'6-1既住借入金の償還計画'!AJ6:AJ45)","v":0},{"$f":"SUMIF('6-1既住借入金の償還計画'!A6:A45,15,'6-1既住借入金の償還計画'!AK6:AK45)","v":0},{"$f":"SUMIF('6-1既住借入金の償還計画'!A6:A45,15,'6-1既住借入金の償還計画'!AL6:AL45)","v":0},{"$f":"SUMIF('6-1既住借入金の償還計画'!A6:A45,15,'6-1既住借入金の償還計画'!AM6:AM45)","v":0},{"$f":"SUMIF('6-1既住借入金の償還計画'!A6:A45,15,'6-1既住借入金の償還計画'!AN6:AN45)","v":0}]
[null,null,null,null,null,null,null,null,null,null,null,"元利金",{"$f":"M48+M50+M52+M54+M56+M58+M60","v":0},0,0,0,0,0,0,{"$f":"T48+T50+T52+T54+T56+T58+T60","v":0},0,0,0,0,0,0]
[null,null,null,"小            計",null,{"$f":"F48+F50+F52+F54+F56+F58+F60","v":0},null,null,null,null,null,"元  金",0,0,0,0,0,0,0,{"$f":"T49+T51+T53+T55+T57+T59+T61","v":0},0,0,0,0,0,0,{"$f":"AA49+AA51+AA53+AA55+AA57+AA59+AA61","v":0},0,0,0,0,0,0,0,0,0,0,0,0,0]
[null,null,null,null,null,null,null,null,null,null,null,"元利金",{"$f":"M18+M30+M46+M62","v":0},0,0,0,0,0,0,{"$f":"T18+T30+T46+T62","v":0},0,0,0,0,0,0]
[null,null,"計",null,null,{"$f":"F19+F31+F47+F63","v":0},null,null,null,null,null,"元  金",0,0,0,0,0,0,0,{"$f":"T19+T31+T47+T63","v":0},0,0,0,0,0,0,{"$f":"AA19+AA31+AA47+AA63","v":0},0,0,0,0,0,0,0,0,0,0,0,0,0]
[null,null,null,{"$f":"IF(('5償還表(条件緩和前)'!D66)=0,\"\",'5償還表(条件緩和前)'!D66)","v":""},{"$f":"IF(('5償還表(条件緩和前)'!E66)=0,\"\",'5償還表(条件緩和前)'!E66)","v":""},{"$f":"IF(('5償還表(条件緩和前)'!F66)=0,,'5償還表(条件緩和前)'!F66)","v":0},{"$f":"IF(('5償還表(条件緩和前)'!G66)=0,,'5償還表(条件緩和前)'!G66)","v":0},"～",{"$f":"IF(('5償還表(条件緩和前)'!I66)=0,,'5償還表(条件緩和前)'!I66)","v":0},{"$f":"IF(('5償還表(条件緩和前)'!J66)=0,,'5償還表(条件緩和前)'!J66)","v":0},{"$f":"IF(('5償還表(条件緩和前)'!K66)=0,,'5償還表(条件緩和前)'!K66)","v":0},"元利金"]
[null,null,"長期一年を超えるもの",{"$f":"IF(('5償還表(条件緩和前)'!D67)=0,\"\",'5償還表(条件緩和前)'!D67)","v":""},null,null,null,"～",null,null,null,"元  金"]
[null,null,null,{"$f":"IF(('5償還表(条件緩和前)'!D68)=0,\"\",'5償還表(条件緩和前)'!D68)","v":""},{"$f":"IF(('5償還表(条件緩和前)'!E68)=0,\"\",'5償還表(条件緩和前)'!E68)","v":""},{"$f":"IF(('5償還表(条件緩和前)'!F68)=0,,'5償還表(条件緩和前)'!F68)","v":0},{"$f":"IF(('5償還表(条件緩和前)'!G68)=0,,'5償還表(条件緩和前)'!G68)","v":0},"～",{"$f":"IF(('5償還表(条件緩和前)'!I68)=0,,'5償還表(条件緩和前)'!I68)","v":0},{"$f":"IF(('5償還表(条件緩和前)'!J68)=0,,'5償還表(条件緩和前)'!J68)","v":0},{"$f":"IF(('5償還表(条件緩和前)'!K68)=0,,'5償還表(条件緩和前)'!K68)","v":0},"元利金"]
[null,null,null,{"$f":"IF(('5償還表(条件緩和前)'!D69)=0,\"\",'5償還表(条件緩和前)'!D69)","v":""},null,null,null,"～",null,null,null,"元  金"]
[null,"農協系統資金",null,{"$f":"IF(('5償還表(条件緩和前)'!D70)=0,\"\",'5償還表(条件緩和前)'!D70)","v":""},{"$f":"IF(('5償還表(条件緩和前)'!E70)=0,\"\",'5償還表(条件緩和前)'!E70)","v":""},{"$f":"IF(('5償還表(条件緩和前)'!F70)=0,,'5償還表(条件緩和前)'!F70)","v":0},{"$f":"IF(('5償還表(条件緩和前)'!G70)=0,,'5償還表(条件緩和前)'!G70)","v":0},"～",{"$f":"IF(('5償還表(条件緩和前)'!I70)=0,,'5償還表(条件緩和前)'!I70)","v":0},{"$f":"IF(('5償還表(条件緩和前)'!J70)=0,,'5償還表(条件緩和前)'!J70)","v":0},{"$f":"IF(('5償還表(条件緩和前)'!K70)=0,,'5償還表(条件緩和前)'!K70)","v":0},"元利金"]
[null,null,null,{"$f":"IF(('5償還表(条件緩和前)'!D71)=0,\"\",'5償還表(条件緩和前)'!D71)","v":""},null,null,null,"～",null,null,null,"元  金"]
[null,null,null,{"$f":"IF(('5償還表(条件緩和前)'!D72)=0,\"\",'5償還表(条件緩和前)'!D72)","v":""},{"$f":"IF(('5償還表(条件緩和前)'!E72)=0,\"\",'5償還表(条件緩和前)'!E72)","v":""},{"$f":"IF(('5償還表(条件緩和前)'!F72)=0,,'5償還表(条件緩和前)'!F72)","v":0},{"$f":"IF(('5償還表(条件緩和前)'!G72)=0,,'5償還表(条件緩和前)'!G72)","v":0},"～",{"$f":"IF(('5償還表(条件緩和前)'!I72)=0,,'5償還表(条件緩和前)'!I72)","v":0},{"$f":"IF(('5償還表(条件緩和前)'!J72)=0,,'5償還表(条件緩和前)'!J72)","v":0},{"$f":"IF(('5償還表(条件緩和前)'!K72)=0,,'5償還表(条件緩和前)'!K72)","v":0},"元利金"]
[null,null,null,{"$f":"IF(('5償還表(条件緩和前)'!D73)=0,\"\",'5償還表(条件緩和前)'!D73)","v":""},null,null,null,"～",null,null,null,"元  金"]
[null,null,null,{"$f":"IF(('5償還表(条件緩和前)'!D74)=0,\"\",'5償還表(条件緩和前)'!D74)","v":""},{"$f":"IF(('5償還表(条件緩和前)'!E74)=0,\"\",'5償還表(条件緩和前)'!E74)","v":""},{"$f":"IF(('5償還表(条件緩和前)'!F74)=0,,'5償還表(条件緩和前)'!F74)","v":0},{"$f":"IF(('5償還表(条件緩和前)'!G74)=0,,'5償還表(条件緩和前)'!G74)","v":0},"～",{"$f":"IF(('5償還表(条件緩和前)'!I74)=0,,'5償還表(条件緩和前)'!I74)","v":0},{"$f":"IF(('5償還表(条件緩和前)'!J74)=0,,'5償還表(条件緩和前)'!J74)","v":0},{"$f":"IF(('5償還表(条件緩和前)'!K74)=0,,'5償還表(条件緩和前)'!K74)","v":0},"元利金"]
[null,null,null,{"$f":"IF(('5償還表(条件緩和前)'!D75)=0,\"\",'5償還表(条件緩和前)'!D75)","v":""},null,null,null,"～",null,null,null,"元  金"]
[null,null,null,"その他計",{"$f":"IF(('5償還表(条件緩和前)'!E76)=0,\"\",'5償還表(条件緩和前)'!E76)","v":""},{"$f":"SUMIF('6-1既住借入金の償還計画'!A6:A45,6,'6-1既住借入金の償還計画'!F6:F45)","v":0},null,null,null,null,null,"元利金",{"$f":"SUMIF('6-1既住借入金の償還計画'!A6:A45,6,'6-1既住借入金の償還計画'!M6:M45)","v":0},{"$f":"SUMIF('6-1既住借入金の償還計画'!A6:A45,6,'6-1既住借入金の償還計画'!N6:N45)","v":0},{"$f":"SUMIF('6-1既住借入金の償還計画'!A6:A45,6,'6-1既住借入金の償還計画'!O6:O45)","v":0},{"$f":"SUMIF('6-1既住借入金の償還計画'!A6:A45,6,'6-1既住借入金の償還計画'!P6:P45)","v":0},{"$f":"SUMIF('6-1既住借入金の償還計画'!A6:A45,6,'6-1既住借入金の償還計画'!Q6:Q45)","v":0},{"$f":"SUMIF('6-1既住借入金の償還計画'!A6:A45,6,'6-1既住借入金の償還計画'!R6:R45)","v":0},{"$f":"SUMIF('6-1既住借入金の償還計画'!A6:A45,6,'6-1既住借入金の償還計画'!S6:S45)","v":0},{"$f":"SUMIF('6-1既住借入金の償還計画'!A6:A45,6,'6-1既住借入金の償還計画'!T6:T45)","v":0},{"$f":"SUMIF('6-1既住借入金の償還計画'!A6:A45,6,'6-1既住借入金の償還計画'!U6:U45)","v":0},{"$f":"SUMIF('6-1既住借入金の償還計画'!A6:A45,6,'6-1既住借入金の償還計画'!V6:V45)","v":0},{"$f":"SUMIF('6-1既住借入金の償還計画'!A6:A45,6,'6-1既住借入金の償還計画'!W6:W45)","v":0},{"$f":"SUMIF('6-1既住借入金の償還計画'!A6:A45,6,'6-1既住借入金の償還計画'!X6:X45)","v":0},{"$f":"SUMIF('6-1既住借入金の償還計画'!A6:A45,6,'6-1既住借入金の償還計画'!Y6:Y45)","v":0},{"$f":"SUMIF('6-1既住借入金の償還計画'!A6:A45,6,'6-1既住借入金の償還計画'!Z6:Z45)","v":0}]
[null,null,null,{"$f":"IF(('5償還表(条件緩和前)'!D77)=0,\"\",'5償還表(条件緩和前)'!D77)","v":""},null,null,null,null,null,null,null,"元  金",{"$f":"SUMIF('6-1既住借入金の償還計画'!A6:A45,16,'6-1既住借入金の償還計画'!M6:M45)","v":0},{"$f":"SUMIF('6-1既住借入金の償還計画'!A6:A45,16,'6-1既住借入金の償還計画'!N6:N45)","v":0},{"$f":"SUMIF('6-1既住借入金の償還計画'!A6:A45,16,'6-1既住借入金の償還計画'!O6:O45)","v":0},{"$f":"SUMIF('6-1既住借入金の償還計画'!A6:A45,16,'6-1既住借入金の償還計画'!P6:P45)","v":0},{"$f":"SUMIF('6-1既住借入金の償還計画'!A6:A45,16,'6-1既住借入金の償還計画'!Q6:Q45)","v":0},{"$f":"SUMIF('6-1既住借入金の償還計画'!A6:A45,16,'6-1既住借入金の償還計画'!R6:R45)","v":0},{"$f":"SUMIF('6-1既住借入金の償還計画'!A6:A45,16,'6-1既住借入金の償還計画'!S6:S45)","v":0},{"$f":"SUMIF('6-1既住借入金の償還計画'!A6:A45,16,'6-1既住借入金の償還計画'!T6:T45)","v":0},{"$f":"SUMIF('6-1既住借入金の償還計画'!A6:A45,16,'6-1既住借入金の償還計画'!U6:U45)","v":0},{"$f":"SUMIF('6-1既住借入金の償還計画'!A6:A45,16,'6-1既住借入金の償還計画'!V6:V45)","v":0},{"$f":"SUMIF('6-1既住借入金の償還計画'!A6:A45,16,'6-1既住借入金の償還計画'!W6:W45)","v":0},{"$f":"SUMIF('6-1既住借入金の償還計画'!A6:A45,16,'6-1既住借入金の償還計画'!X6:X45)","v":0},{"$f":"SUMIF('6-1既住借入金の償還計画'!A6:A45,16,'6-1既住借入金の償還計画'!Y6:Y45)","v":0},{"$f":"SUMIF('6-1既住借入金の償還計画'!A6:A45,16,'6-1既住借入金の償還計画'!Z6:Z45)","v":0},{"$f":"SUMIF('6-1既住借入金の償還計画'!A6:A45,16,'6-1既住借入金の償還計画'!AA6:AA45)","v":0},{"$f":"SUMIF('6-1既住借入金の償還計画'!A6:A45,16,'6-1既住借入金の償還計画'!AB6:AB45)","v":0},{"$f":"SUMIF('6-1既住借入金の償還計画'!A6:A45,16,'6-1既住借入金の償還計画'!AC6:AC45)","v":0},{"$f":"SUMIF('6-1既住借入金の償還計画'!A6:A45,16,'6-1既住借入金の償還計画'!AD6:AD45)","v":0},{"$f":"SUMIF('6-1既住借入金の償還計画'!A6:A45,16,'6-1既住借入金の償還計画'!AE6:AE45)","v":0},{"$f":"SUMIF('6-1既住借入金の償還計画'!A6:A45,16,'6-1既住借入金の償還計画'!AF6:AF45)","v":0},{"$f":"SUMIF('6-1既住借入金の償還計画'!A6:A45,16,'6-1既住借入金の償還計画'!AG6:AG45)","v":0},{"$f":"SUMIF('6-1既住借入金の償還計画'!A6:A45,16,'6-1既住借入金の償還計画'!AH6:AH45)","v":0},{"$f":"SUMIF('6-1既住借入金の償還計画'!A6:A45,16,'6-1既住借入金の償還計画'!AI6:AI45)","v":0},{"$f":"SUMIF('6-1既住借入金の償還計画'!A6:A45,16,'6-1既住借入金の償還計画'!AJ6:AJ45)","v":0},{"$f":"SUMIF('6-1既住借入金の償還計画'!A6:A45,16,'6-1既住借入金の償還計画'!AK6:AK45)","v":0},{"$f":"SUMIF('6-1既住借入金の償還計画'!A6:A45,16,'6-1既住借入金の償還計画'!AL6:AL45)","v":0},{"$f":"SUMIF('6-1既住借入金の償還計画'!A6:A45,16,'6-1既住借入金の償還計画'!AM6:AM45)","v":0},{"$f":"SUMIF('6-1既住借入金の償還計画'!A6:A45,16,'6-1既住借入金の償還計画'!AN6:AN45)","v":0}]
[null,null,null,null,null,null,null,null,null,null,null,"元利金",{"$f":"M66+M68+M70+M72+M74+M76","v":0},0,0,0,0,0,0,{"$f":"T66+T68+T70+T72+T74+T76","v":0},0,0,0,0,0,0]
[null,null,null,"小            計",null,{"$f":"F66+F68+F70+F72+F74+F76","v":0},null,null,null,null,null,"元  金",0,0,0,0,0,0,0,{"$f":"T67+T69+T71+T73+T75+T77","v":0},0,0,0,0,0,0,{"$f":"AA67+AA69+AA71+AA73+AA75+AA77","v":0},0,0,0,0,0,0,0,0,0,0,0,0,0]
[null,null,null,{"$f":"IF(('5償還表(条件緩和前)'!D80)=0,\"\",'5償還表(条件緩和前)'!D80)","v":""},{"$f":"IF(('5償還表(条件緩和前)'!E80)=0,\"\",'5償還表(条件緩和前)'!E80)","v":""},{"$f":"IF(('5償還表(条件緩和前)'!F80)=0,,'5償還表(条件緩和前)'!F80)","v":0},{"$f":"IF(('5償還表(条件緩和前)'!G80)=0,,'5償還表(条件緩和前)'!G80)","v":0},"～",{"$f":"IF(('5償還表(条件緩和前)'!I80)=0,,'5償還表(条件緩和前)'!I80)","v":0},{"$f":"IF(('5償還表(条件緩和前)'!J80)=0,,'5償還表(条件緩和前)'!J80)","v":0},{"$f":"IF(('5償還表(条件緩和前)'!K80)=0,,'5償還表(条件緩和前)'!K80)","v":0},"元利金"]
[null,null,"短期一年以内のもの",{"$f":"IF(('5償還表(条件緩和前)'!D81)=0,\"\",'5償還表(条件緩和前)'!D81)","v":""},null,null,null,"～",null,null,null,"元  金"]
[null,null,null,{"$f":"IF(('5償還表(条件緩和前)'!D82)=0,\"\",'5償還表(条件緩和前)'!D82)","v":""},{"$f":"IF(('5償還表(条件緩和前)'!E82)=0,\"\",'5償還表(条件緩和前)'!E82)","v":""},{"$f":"IF(('5償還表(条件緩和前)'!F82)=0,,'5償還表(条件緩和前)'!F82)","v":0},{"$f":"IF(('5償還表(条件緩和前)'!G82)=0,,'5償還表(条件緩和前)'!G82)","v":0},"～",{"$f":"IF(('5償還表(条件緩和前)'!I82)=0,,'5償還表(条件緩和前)'!I82)","v":0},{"$f":"IF(('5償還表(条件緩和前)'!J82)=0,,'5償還表(条件緩和前)'!J82)","v":0},{"$f":"IF(('5償還表(条件緩和前)'!K82)=0,,'5償還表(条件緩和前)'!K82)","v":0},"元利金"]
[null,null,null,{"$f":"IF(('5償還表(条件緩和前)'!D83)=0,\"\",'5償還表(条件緩和前)'!D83)","v":""},null,null,null,"～",null,null,null,"元  金"]
[null,null,null,{"$f":"IF(('5償還表(条件緩和前)'!D84)=0,\"\",'5償還表(条件緩和前)'!D84)","v":""},{"$f":"IF(('5償還表(条件緩和前)'!E84)=0,\"\",'5償還表(条件緩和前)'!E84)","v":""},{"$f":"IF(('5償還表(条件緩和前)'!F84)=0,,'5償還表(条件緩和前)'!F84)","v":0},{"$f":"IF(('5償還表(条件緩和前)'!G84)=0,,'5償還表(条件緩和前)'!G84)","v":0},"～",{"$f":"IF(('5償還表(条件緩和前)'!I84)=0,,'5償還表(条件緩和前)'!I84)","v":0},{"$f":"IF(('5償還表(条件緩和前)'!J84)=0,,'5償還表(条件緩和前)'!J84)","v":0},{"$f":"IF(('5償還表(条件緩和前)'!K84)=0,,'5償還表(条件緩和前)'!K84)","v":0},"元利金"]
[null,null,null,{"$f":"IF(('5償還表(条件緩和前)'!D85)=0,\"\",'5償還表(条件緩和前)'!D85)","v":""},null,null,null,"～",null,null,null,"元  金"]
[null,null,null,{"$f":"IF(('5償還表(条件緩和前)'!D86)=0,\"\",'5償還表(条件緩和前)'!D86)","v":""},{"$f":"IF(('5償還表(条件緩和前)'!E86)=0,\"\",'5償還表(条件緩和前)'!E86)","v":""},{"$f":"IF(('5償還表(条件緩和前)'!F86)=0,,'5償還表(条件緩和前)'!F86)","v":0},{"$f":"IF(('5償還表(条件緩和前)'!G86)=0,,'5償還表(条件緩和前)'!G86)","v":0},"～",{"$f":"IF(('5償還表(条件緩和前)'!I86)=0,,'5償還表(条件緩和前)'!I86)","v":0},{"$f":"IF(('5償還表(条件緩和前)'!J86)=0,,'5償還表(条件緩和前)'!J86)","v":0},{"$f":"IF(('5償還表(条件緩和前)'!K86)=0,,'5償還表(条件緩和前)'!K86)","v":0},"元利金"]
[null,null,null,{"$f":"IF(('5償還表(条件緩和前)'!D87)=0,\"\",'5償還表(条件緩和前)'!D87)","v":""},null,null,null,"～",null,null,null,"元  金"]
[null,null,null,"その他計",{"$f":"IF(('5償還表(条件緩和前)'!E88)=0,\"\",'5償還表(条件緩和前)'!E88)","v":""},{"$f":"SUMIF('6-1既住借入金の償還計画'!A6:A45,7,'6-1既住借入金の償還計画'!F6:F45)","v":0},null,null,null,null,null,"元利金",{"$f":"SUMIF('6-1既住借入金の償還計画'!A6:A45,7,'6-1既住借入金の償還計画'!M6:M45)","v":0},{"$f":"SUMIF('6-1既住借入金の償還計画'!A6:A45,7,'6-1既住借入金の償還計画'!N6:N45)","v":0},{"$f":"SUMIF('6-1既住借入金の償還計画'!A6:A45,7,'6-1既住借入金の償還計画'!O6:O45)","v":0},{"$f":"SUMIF('6-1既住借入金の償還計画'!A6:A45,7,'6-1既住借入金の償還計画'!P6:P45)","v":0},{"$f":"SUMIF('6-1既住借入金の償還計画'!A6:A45,7,'6-1既住借入金の償還計画'!Q6:Q45)","v":0},{"$f":"SUMIF('6-1既住借入金の償還計画'!A6:A45,7,'6-1既住借入金の償還計画'!R6:R45)","v":0},{"$f":"SUMIF('6-1既住借入金の償還計画'!A6:A45,7,'6-1既住借入金の償還計画'!S6:S45)","v":0},{"$f":"SUMIF('6-1既住借入金の償還計画'!A6:A45,7,'6-1既住借入金の償還計画'!T6:T45)","v":0},{"$f":"SUMIF('6-1既住借入金の償還計画'!A6:A45,7,'6-1既住借入金の償還計画'!U6:U45)","v":0},{"$f":"SUMIF('6-1既住借入金の償還計画'!A6:A45,7,'6-1既住借入金の償還計画'!V6:V45)","v":0},{"$f":"SUMIF('6-1既住借入金の償還計画'!A6:A45,7,'6-1既住借入金の償還計画'!W6:W45)","v":0},{"$f":"SUMIF('6-1既住借入金の償還計画'!A6:A45,7,'6-1既住借入金の償還計画'!X6:X45)","v":0},{"$f":"SUMIF('6-1既住借入金の償還計画'!A6:A45,7,'6-1既住借入金の償還計画'!Y6:Y45)","v":0},{"$f":"SUMIF('6-1既住借入金の償還計画'!A6:A45,7,'6-1既住借入金の償還計画'!Z6:Z45)","v":0}]
[null,null,null,null,null,null,null,null,null,null,null,"元  金",{"$f":"SUMIF('6-1既住借入金の償還計画'!A6:A45,17,'6-1既住借入金の償還計画'!M6:M45)","v":0},{"$f":"SUMIF('6-1既住借入金の償還計画'!A6:A45,17,'6-1既住借入金の償還計画'!N6:N45)","v":0},{"$f":"SUMIF('6-1既住借入金の償還計画'!A6:A45,17,'6-1既住借入金の償還計画'!O6:O45)","v":0},{"$f":"SUMIF('6-1既住借入金の償還計画'!A6:A45,17,'6-1既住借入金の償還計画'!P6:P45)","v":0},{"$f":"SUMIF('6-1既住借入金の償還計画'!A6:A45,17,'6-1既住借入金の償還計画'!Q6:Q45)","v":0},{"$f":"SUMIF('6-1既住借入金の償還計画'!A6:A45,17,'6-1既住借入金の償還計画'!R6:R45)","v":0},{"$f":"SUMIF('6-1既住借入金の償還計画'!A6:A45,17,'6-1既住借入金の償還計画'!S6:S45)","v":0},{"$f":"SUMIF('6-1既住借入金の償還計画'!A6:A45,17,'6-1既住借入金の償還計画'!T6:T45)","v":0},{"$f":"SUMIF('6-1既住借入金の償還計画'!A6:A45,17,'6-1既住借入金の償還計画'!U6:U45)","v":0},{"$f":"SUMIF('6-1既住借入金の償還計画'!A6:A45,17,'6-1既住借入金の償還計画'!V6:V45)","v":0},{"$f":"SUMIF('6-1既住借入金の償還計画'!A6:A45,17,'6-1既住借入金の償還計画'!W6:W45)","v":0},{"$f":"SUMIF('6-1既住借入金の償還計画'!A6:A45,17,'6-1既住借入金の償還計画'!X6:X45)","v":0},{"$f":"SUMIF('6-1既住借入金の償還計画'!A6:A45,17,'6-1既住借入金の償還計画'!Y6:Y45)","v":0},{"$f":"SUMIF('6-1既住借入金の償還計画'!A6:A45,17,'6-1既住借入金の償還計画'!Z6:Z45)","v":0},{"$f":"SUMIF('6-1既住借入金の償還計画'!A6:A45,17,'6-1既住借入金の償還計画'!AA6:AA45)","v":0},{"$f":"SUMIF('6-1既住借入金の償還計画'!A6:A45,17,'6-1既住借入金の償還計画'!AB6:AB45)","v":0},{"$f":"SUMIF('6-1既住借入金の償還計画'!A6:A45,17,'6-1既住借入金の償還計画'!AC6:AC45)","v":0},{"$f":"SUMIF('6-1既住借入金の償還計画'!A6:A45,17,'6-1既住借入金の償還計画'!AD6:AD45)","v":0},{"$f":"SUMIF('6-1既住借入金の償還計画'!A6:A45,17,'6-1既住借入金の償還計画'!AE6:AE45)","v":0},{"$f":"SUMIF('6-1既住借入金の償還計画'!A6:A45,17,'6-1既住借入金の償還計画'!AF6:AF45)","v":0},{"$f":"SUMIF('6-1既住借入金の償還計画'!A6:A45,17,'6-1既住借入金の償還計画'!AG6:AG45)","v":0},{"$f":"SUMIF('6-1既住借入金の償還計画'!A6:A45,17,'6-1既住借入金の償還計画'!AH6:AH45)","v":0},{"$f":"SUMIF('6-1既住借入金の償還計画'!A6:A45,17,'6-1既住借入金の償還計画'!AI6:AI45)","v":0},{"$f":"SUMIF('6-1既住借入金の償還計画'!A6:A45,17,'6-1既住借入金の償還計画'!AJ6:AJ45)","v":0},{"$f":"SUMIF('6-1既住借入金の償還計画'!A6:A45,17,'6-1既住借入金の償還計画'!AK6:AK45)","v":0},{"$f":"SUMIF('6-1既住借入金の償還計画'!A6:A45,17,'6-1既住借入金の償還計画'!AL6:AL45)","v":0},{"$f":"SUMIF('6-1既住借入金の償還計画'!A6:A45,17,'6-1既住借入金の償還計画'!AM6:AM45)","v":0},{"$f":"SUMIF('6-1既住借入金の償還計画'!A6:A45,17,'6-1既住借入金の償還計画'!AN6:AN45)","v":0}]
[null,null,null,null,null,null,null,null,null,null,null,"元利金",{"$f":"M80+M82+M84+M86+M88","v":0},0,0,0,0,0,0,{"$f":"T80+T82+T84+T86+T88","v":0},0,0,0,0,0,0]
[null,null,null,"小            計",null,{"$f":"F80+F82+F84+F86+F88","v":0},null,null,null,null,null,"元  金",0,0,0,0,0,0,0,{"$f":"T81+T83+T85+T87+T89","v":0},0,0,0,0,0,0,{"$f":"AA81+AA83+AA85+AA87+AA89","v":0},0,0,0,0,0,0,0,0,0,0,0,0,0]
[null,null,null,null,null,null,null,null,null,null,null,"元利金",{"$f":"M78+M90","v":0},0,0,0,0,0,0,{"$f":"T78+T90","v":0},0,0,0,0,0,0]
[null,null,"              計",null,null,{"$f":"F79+F91","v":0},null,null,null,null,null,"元  金",0,0,0,0,0,0,0,{"$f":"T79+T91","v":0},0,0,0,0,0,0,{"$f":"AA79+AA91","v":0},0,0,0,0,0,0,0,0,0,0,0,0,0]
[null,null,null,{"$f":"IF(('5償還表(条件緩和前)'!D94)=0,\"\",'5償還表(条件緩和前)'!D94)","v":""},{"$f":"IF(('5償還表(条件緩和前)'!E94)=0,\"\",'5償還表(条件緩和前)'!E94)","v":""},{"$f":"IF(('5償還表(条件緩和前)'!F94)=0,,'5償還表(条件緩和前)'!F94)","v":0},{"$f":"IF(('5償還表(条件緩和前)'!G94)=0,,'5償還表(条件緩和前)'!G94)","v":0},"～",{"$f":"IF(('5償還表(条件緩和前)'!I94)=0,,'5償還表(条件緩和前)'!I94)","v":0},{"$f":"IF(('5償還表(条件緩和前)'!J94)=0,,'5償還表(条件緩和前)'!J94)","v":0},{"$f":"IF(('5償還表(条件緩和前)'!K94)=0,,'5償還表(条件緩和前)'!K94)","v":0},"元利金"]
[null,null,null,{"$f":"IF(('5償還表(条件緩和前)'!D95)=0,\"\",'5償還表(条件緩和前)'!D95)","v":""},null,null,null,"～",null,null,null,"元  金"]
[null,"一般金融機関資金",null,{"$f":"IF(('5償還表(条件緩和前)'!D96)=0,\"\",'5償還表(条件緩和前)'!D96)","v":""},{"$f":"IF(('5償還表(条件緩和前)'!E96)=0,\"\",'5償還表(条件緩和前)'!E96)","v":""},{"$f":"IF(('5償還表(条件緩和前)'!F96)=0,,'5償還表(条件緩和前)'!F96)","v":0},{"$f":"IF(('5償還表(条件緩和前)'!G96)=0,,'5償還表(条件緩和前)'!G96)","v":0},"～",{"$f":"IF(('5償還表(条件緩和前)'!I96)=0,,'5償還表(条件緩和前)'!I96)","v":0},{"$f":"IF(('5償還表(条件緩和前)'!J96)=0,,'5償還表(条件緩和前)'!J96)","v":0},{"$f":"IF(('5償還表(条件緩和前)'!K96)=0,,'5償還表(条件緩和前)'!K96)","v":0},"元利金"]
[null,null,null,{"$f":"IF(('5償還表(条件緩和前)'!D97)=0,\"\",'5償還表(条件緩和前)'!D97)","v":""},null,null,null,"～",null,null,null,"元  金"]
[null,null,null,{"$f":"IF(('5償還表(条件緩和前)'!D98)=0,\"\",'5償還表(条件緩和前)'!D98)","v":""},{"$f":"IF(('5償還表(条件緩和前)'!E98)=0,\"\",'5償還表(条件緩和前)'!E98)","v":""},{"$f":"IF(('5償還表(条件緩和前)'!F98)=0,,'5償還表(条件緩和前)'!F98)","v":0},{"$f":"IF(('5償還表(条件緩和前)'!G98)=0,,'5償還表(条件緩和前)'!G98)","v":0},"～",{"$f":"IF(('5償還表(条件緩和前)'!I98)=0,,'5償還表(条件緩和前)'!I98)","v":0},{"$f":"IF(('5償還表(条件緩和前)'!J98)=0,,'5償還表(条件緩和前)'!J98)","v":0},{"$f":"IF(('5償還表(条件緩和前)'!K98)=0,,'5償還表(条件緩和前)'!K98)","v":0},"元利金"]
[null,null,null,{"$f":"IF(('5償還表(条件緩和前)'!D99)=0,\"\",'5償還表(条件緩和前)'!D99)","v":""},null,null,null,"～",null,null,null,"元  金"]
[null,null,null,{"$f":"IF(('5償還表(条件緩和前)'!D100)=0,\"\",'5償還表(条件緩和前)'!D100)","v":""},{"$f":"IF(('5償還表(条件緩和前)'!E100)=0,\"\",'5償還表(条件緩和前)'!E100)","v":""},{"$f":"IF(('5償還表(条件緩和前)'!F100)=0,,'5償還表(条件緩和前)'!F100)","v":0},{"$f":"IF(('5償還表(条件緩和前)'!G100)=0,,'5償還表(条件緩和前)'!G100)","v":0},"～",{"$f":"IF(('5償還表(条件緩和前)'!I100)=0,,'5償還表(条件緩和前)'!I100)","v":0},{"$f":"IF(('5償還表(条件緩和前)'!J100)=0,,'5償還表(条件緩和前)'!J100)","v":0},{"$f":"IF(('5償還表(条件緩和前)'!K100)=0,,'5償還表(条件緩和前)'!K100)","v":0},"元利金"]
[null,null,null,{"$f":"IF(('5償還表(条件緩和前)'!D101)=0,\"\",'5償還表(条件緩和前)'!D101)","v":""},null,null,null,"～",null,null,null,"元  金"]
[null,null,null,{"$f":"IF(('5償還表(条件緩和前)'!D102)=0,\"\",'5償還表(条件緩和前)'!D102)","v":""},{"$f":"IF(('5償還表(条件緩和前)'!E102)=0,\"\",'5償還表(条件緩和前)'!E102)","v":""},{"$f":"IF(('5償還表(条件緩和前)'!F102)=0,,'5償還表(条件緩和前)'!F102)","v":0},{"$f":"IF(('5償還表(条件緩和前)'!G102)=0,,'5償還表(条件緩和前)'!G102)","v":0},"～",{"$f":"IF(('5償還表(条件緩和前)'!I102)=0,,'5償還表(条件緩和前)'!I102)","v":0},{"$f":"IF(('5償還表(条件緩和前)'!J102)=0,,'5償還表(条件緩和前)'!J102)","v":0},{"$f":"IF(('5償還表(条件緩和前)'!K102)=0,,'5償還表(条件緩和前)'!K102)","v":0},"元利金"]
[null,null,null,{"$f":"IF(('5償還表(条件緩和前)'!D103)=0,\"\",'5償還表(条件緩和前)'!D103)","v":""},null,null,null,"～",null,null,null,"元  金"]
[null,null,null,"その他計",{"$f":"IF(('5償還表(条件緩和前)'!E104)=0,\"\",'5償還表(条件緩和前)'!E104)","v":""},{"$f":"SUMIF('6-1既住借入金の償還計画'!A6:A45,8,'6-1既住借入金の償還計画'!F6:F45)","v":0},null,null,null,null,null,"元利金",{"$f":"SUMIF('6-1既住借入金の償還計画'!A6:A45,8,'6-1既住借入金の償還計画'!M6:M45)","v":0},{"$f":"SUMIF('6-1既住借入金の償還計画'!A6:A45,8,'6-1既住借入金の償還計画'!N6:N45)","v":0},{"$f":"SUMIF('6-1既住借入金の償還計画'!A6:A45,8,'6-1既住借入金の償還計画'!O6:O45)","v":0},{"$f":"SUMIF('6-1既住借入金の償還計画'!A6:A45,8,'6-1既住借入金の償還計画'!P6:P45)","v":0},{"$f":"SUMIF('6-1既住借入金の償還計画'!A6:A45,8,'6-1既住借入金の償還計画'!Q6:Q45)","v":0},{"$f":"SUMIF('6-1既住借入金の償還計画'!A6:A45,8,'6-1既住借入金の償還計画'!R6:R45)","v":0},{"$f":"SUMIF('6-1既住借入金の償還計画'!A6:A45,8,'6-1既住借入金の償還計画'!S6:S45)","v":0},{"$f":"SUMIF('6-1既住借入金の償還計画'!A6:A45,8,'6-1既住借入金の償還計画'!T6:T45)","v":0},{"$f":"SUMIF('6-1既住借入金の償還計画'!A6:A45,8,'6-1既住借入金の償還計画'!U6:U45)","v":0},{"$f":"SUMIF('6-1既住借入金の償還計画'!A6:A45,8,'6-1既住借入金の償還計画'!V6:V45)","v":0},{"$f":"SUMIF('6-1既住借入金の償還計画'!A6:A45,8,'6-1既住借入金の償還計画'!W6:W45)","v":0},{"$f":"SUMIF('6-1既住借入金の償還計画'!A6:A45,8,'6-1既住借入金の償還計画'!X6:X45)","v":0},{"$f":"SUMIF('6-1既住借入金の償還計画'!A6:A45,8,'6-1既住借入金の償還計画'!Y6:Y45)","v":0},{"$f":"SUMIF('6-1既住借入金の償還計画'!A6:A45,8,'6-1既住借入金の償還計画'!Z6:Z45)","v":0}]
[null,null,null,null,null,null,null,null,null,null,null,"元  金",{"$f":"SUMIF('6-1既住借入金の償還計画'!A6:A45,18,'6-1既住借入金の償還計画'!M6:M45)","v":0},{"$f":"SUMIF('6-1既住借入金の償還計画'!A6:A45,18,'6-1既住借入金の償還計画'!N6:N45)","v":0},{"$f":"SUMIF('6-1既住借入金の償還計画'!A6:A45,18,'6-1既住借入金の償還計画'!O6:O45)","v":0},{"$f":"SUMIF('6-1既住借入金の償還計画'!A6:A45,18,'6-1既住借入金の償還計画'!P6:P45)","v":0},{"$f":"SUMIF('6-1既住借入金の償還計画'!A6:A45,18,'6-1既住借入金の償還計画'!Q6:Q45)","v":0},{"$f":"SUMIF('6-1既住借入金の償還計画'!A6:A45,18,'6-1既住借入金の償還計画'!R6:R45)","v":0},{"$f":"SUMIF('6-1既住借入金の償還計画'!A6:A45,18,'6-1既住借入金の償還計画'!S6:S45)","v":0},{"$f":"SUMIF('6-1既住借入金の償還計画'!A6:A45,18,'6-1既住借入金の償還計画'!T6:T45)","v":0},{"$f":"SUMIF('6-1既住借入金の償還計画'!A6:A45,18,'6-1既住借入金の償還計画'!U6:U45)","v":0},{"$f":"SUMIF('6-1既住借入金の償還計画'!A6:A45,18,'6-1既住借入金の償還計画'!V6:V45)","v":0},{"$f":"SUMIF('6-1既住借入金の償還計画'!A6:A45,18,'6-1既住借入金の償還計画'!W6:W45)","v":0},{"$f":"SUMIF('6-1既住借入金の償還計画'!A6:A45,18,'6-1既住借入金の償還計画'!X6:X45)","v":0},{"$f":"SUMIF('6-1既住借入金の償還計画'!A6:A45,18,'6-1既住借入金の償還計画'!Y6:Y45)","v":0},{"$f":"SUMIF('6-1既住借入金の償還計画'!A6:A45,18,'6-1既住借入金の償還計画'!Z6:Z45)","v":0},{"$f":"SUMIF('6-1既住借入金の償還計画'!A6:A45,18,'6-1既住借入金の償還計画'!AA6:AA45)","v":0},{"$f":"SUMIF('6-1既住借入金の償還計画'!A6:A45,18,'6-1既住借入金の償還計画'!AB6:AB45)","v":0},{"$f":"SUMIF('6-1既住借入金の償還計画'!A6:A45,18,'6-1既住借入金の償還計画'!AC6:AC45)","v":0},{"$f":"SUMIF('6-1既住借入金の償還計画'!A6:A45,18,'6-1既住借入金の償還計画'!AD6:AD45)","v":0},{"$f":"SUMIF('6-1既住借入金の償還計画'!A6:A45,18,'6-1既住借入金の償還計画'!AE6:AE45)","v":0},{"$f":"SUMIF('6-1既住借入金の償還計画'!A6:A45,18,'6-1既住借入金の償還計画'!AF6:AF45)","v":0},{"$f":"SUMIF('6-1既住借入金の償還計画'!A6:A45,18,'6-1既住借入金の償還計画'!AG6:AG45)","v":0},{"$f":"SUMIF('6-1既住借入金の償還計画'!A6:A45,18,'6-1既住借入金の償還計画'!AH6:AH45)","v":0},{"$f":"SUMIF('6-1既住借入金の償還計画'!A6:A45,18,'6-1既住借入金の償還計画'!AI6:AI45)","v":0},{"$f":"SUMIF('6-1既住借入金の償還計画'!A6:A45,18,'6-1既住借入金の償還計画'!AJ6:AJ45)","v":0},{"$f":"SUMIF('6-1既住借入金の償還計画'!A6:A45,18,'6-1既住借入金の償還計画'!AK6:AK45)","v":0},{"$f":"SUMIF('6-1既住借入金の償還計画'!A6:A45,18,'6-1既住借入金の償還計画'!AL6:AL45)","v":0},{"$f":"SUMIF('6-1既住借入金の償還計画'!A6:A45,18,'6-1既住借入金の償還計画'!AM6:AM45)","v":0},{"$f":"SUMIF('6-1既住借入金の償還計画'!A6:A45,18,'6-1既住借入金の償還計画'!AN6:AN45)","v":0}]
[null,null,null,null,null,null,null,null,null,null,null,"元利金",{"$f":"M94+M96+M98+M100+M102+M104","v":0},0,0,0,0,0,0,{"$f":"T94+T96+T98+T100+T102+T104","v":0},0,0,0,0,0,0]
[null,null,null,"小            計",null,{"$f":"F94+F96+F98+F100+F102+F104","v":0},null,null,null,null,null,"元  金",0,0,0,0,0,0,0,{"$f":"T95+T97+T99+T101+T103+T105","v":0},0,0,0,0,0,0,{"$f":"AA95+AA97+AA99+AA101+AA103+AA105","v":0},0,0,0,0,0,0,0,0,0,0,0,0,0]
[null,null,null,null,null,null,null,null,null,null,null,"元利金",{"$f":"M64+M92+M106","v":0},0,0,0,0,0,0,{"$f":"T64+T92+T106","v":0},0,0,0,0,0,0]
[null,"合                計",null,null,null,{"$f":"F65+F93+F107","v":0},null,null,null,null,null,"元  金",0,0,0,{"$f":"P65+P93+P107","v":0},0,0,0,{"$f":"T65+T93+T107","v":0},0,0,0,0,0,0,{"$f":"AA65+AA93+AA107","v":0},0,0,0,0,0,0,0,0,0,0,0,0,0]
[null,"養豚特別支援(新)資金",null,null,null,null,null,null,null,null,null,"元利金",{"$f":"CELL(\"CONTENTS\",'3-1借換後の計画'!J56)","v":0},{"$f":"CELL(\"CONTENTS\",'3-1借換後の計画'!K56)","v":0},{"$f":"CELL(\"CONTENTS\",'3-1借換後の計画'!M56)","v":0},{"$f":"CELL(\"CONTENTS\",'3-1借換後の計画'!N56)","v":0},{"$f":"CELL(\"CONTENTS\",'3-1借換後の計画'!P56)","v":0},{"$f":"CELL(\"CONTENTS\",'3-1借換後の計画'!R56)","v":0},{"$f":"CELL(\"CONTENTS\",'3-1借換後の計画'!T56)","v":0},{"$f":"CELL(\"CONTENTS\",'3-1借換後の計画'!U56)","v":0},{"$f":"CELL(\"CONTENTS\",'3-1借換後の計画'!V56)","v":0},{"$f":"CELL(\"CONTENTS\",'3-1借換後の計画'!W56)","v":0},{"$f":"CELL(\"CONTENTS\",'3-1借換後の計画'!X56)","v":0},{"$f":"CELL(\"CONTENTS\",'3-1借換後の計画'!Y56)","v":0},{"$f":"CELL(\"CONTENTS\",'3-1借換後の計画'!Z56)","v":0},{"$f":"CELL(\"CONTENTS\",'3-1借換後の計画'!AA56)","v":0}]
[null,"（２５～２９年分）",null,null,null,{"$f":"'3-1借換後の計画'!G41","v":0},null,null,null,null,null,"元  金",{"$f":"CELL(\"CONTENTS\",'3-1借換後の計画'!J55)","v":0},{"$f":"CELL(\"CONTENTS\",'3-1借換後の計画'!K55)","v":0},{"$f":"CELL(\"CONTENTS\",'3-1借換後の計画'!M55)","v":0},{"$f":"CELL(\"CONTENTS\",'3-1借換後の計画'!N55)","v":0},{"$f":"CELL(\"CONTENTS\",'3-1借換後の計画'!P55)","v":0},{"$f":"CELL(\"CONTENTS\",'3-1借換後の計画'!R55)","v":0},{"$f":"CELL(\"CONTENTS\",'3-1借換後の計画'!T55)","v":0},{"$f":"CELL(\"CONTENTS\",'3-1借換後の計画'!U55)","v":0},{"$f":"CELL(\"CONTENTS\",'3-1借換後の計画'!V55)","v":0},{"$f":"CELL(\"CONTENTS\",'3-1借換後の計画'!W55)","v":0},{"$f":"CELL(\"CONTENTS\",'3-1借換後の計画'!X55)","v":0},{"$f":"CELL(\"CONTENTS\",'3-1借換後の計画'!Y55)","v":0},{"$f":"CELL(\"CONTENTS\",'3-1借換後の計画'!Z55)","v":0},{"$f":"CELL(\"CONTENTS\",'3-1借換後の計画'!AA55)","v":0}]
[null,null,null,null,null,null,null,null,null,null,null,"元利金",{"$f":"M108+M110","v":0},0,0,0,0,0,0,0,0,0,0,0,0,0]
[null,"総　　　合　　　計",null,null,null,{"$f":"F109+F111","v":0},null,null,null,null,null,"元  金",0,0,0,0,0,0,0,0,0,0,0,0,0,0,{"$f":"AA109+AA111","v":0},0,0,0,0,0,0,0,0,0,0,0,0,0]
[null,null,null,"買 掛 未 払 金（営 農 勘 定・預 託 勘 定 等 の 貸 越 額 含 む）"]
[null,null,"(注)１ 当年度に借換する計画の資金は番号欄の番号を○で囲むこと。　　　　　　　　　　　　　　　　　　　　　　　　　　　　４ 養豚特別支援(新)資金については、２５～２９年度に借り入れる資金についてすべてを記入すること。"]
[null,null,"  　２ 条件緩和を行った資金については、条件緩和措置欄に金利引下げ、期間延長等具体的に記入すること。　　　　　　　　　　５ 新規投資所要資金等は、それぞれ資金欄に記入すること。"]
[null,null,"  　３ 借入期限、うち据置期間及び利率欄には、上段に条件緩和前の内容を、下段に条件緩和後の内容を記入すること。　　　　　６ 買掛未払金は、各々の年度の期末残高とすること。"]

{"sheet":"6-1既住借入金の償還計画","index":16,"n_rows":149,"n_cols":45,"rows_kept":149,"cut":false,"hidden":false,"merged":[[2,4,4,4],[2,12,2,25],[2,26,2,39],[2,40,3,41]]}
[]
[null," 6.既往借入金年次別約定償還表(条件緩和後)",null,null,null,null,null,null,null,null,null,null,null,null,null,null,null,null,null,null,null,null,null,null,null,null,null,null,null,null,null,null,null,null,null,null,null,null,null,null,null,null,null,"(単位：千円)"]
[null,null,null,null,"番 号",null,null,null,null,"(うち",null,null,"年　　次　　別　　約　　定　　償　　還　　額",null,null,null,null,null,null,null,null,null,null,null,null,null,"借　　　　入　　　　金　　　　残　　　　高",null,null,null,null,null,null,null,null,null,null,null,null,null,"資 金 充 当"]
[null,null,"区　　　　　分","資      金      名",null,"借入額"," 借 入 期 限",null,null,"据置期間","利　率",null,{"$f":"IF(配列シート!$B$9=M5,\"(目標年次)\",\"\")","v":""},{"$f":"IF(配列シート!$B$9=N5,\"(目標年次)\",\"\")","v":""},{"$f":"IF(配列シート!$B$9=O5,\"(目標年次)\",\"\")","v":""},{"$f":"IF(配列シート!$B$9=P5,\"(目標年次)\",\"\")","v":"(目標年次)"},{"$f":"IF(配列シート!$B$9=Q5,\"(目標年次)\",\"\")","v":""},{"$f":"IF(配列シート!$B$9=R5,\"(目標年次)\",\"\")","v":""},{"$f":"IF(配列シート!$B$9=S5,\"(目標年次)\",\"\")","v":""},{"$f":"IF(配列シート!$B$9=T5,\"(目標年次)\",\"\")","v":""},{"$f":"IF(配列シート!$B$9=U5,\"(目標年次)\",\"\")","v":""},{"$f":"IF(配列シート!$B$9=V5,\"(目標年次)\",\"\")","v":""},{"$f":"IF(配列シート!$B$9=W5,\"(目標年次)\",\"\")","v":""},{"$f":"IF(配列シート!$B$9=X5,\"(目標年次)\",\"\")","v":""},{"$f":"IF(配列シート!$B$9=Y5,\"(目標年次)\",\"\")","v":""},{"$f":"IF(配列シート!$B$9=Z5,\"(目標年次)\",\"\")","v":""},{"$f":"IF(配列シート!$B$9=AA5,\"(目標年次)\",\"\")","v":""},{"$f":"IF(配列シート!$B$9=AB5,\"(目標年次)\",\"\")","v":""},{"$f":"IF(配列シート!$B$9=AC5,\"(目標年次)\",\"\")","v":""},{"$f":"IF(配列シート!$B$9=AD5,\"(目標年次)\",\"\")","v":"(目標年次)"},{"$f":"IF(配列シート!$B$9=AE5,\"(目標年次)\",\"\")","v":""},{"$f":"IF(配列シート!$B$9=AF5,\"(目標年次)\",\"\")","v":""},{"$f":"IF(配列シート!$B$9=AG5,\"(目標年次)\",\"\")","v":""},{"$f":"IF(配列シート!$B$9=AH5,\"(目標年次)\",\"\")","v":""},{"$f":"IF(配列シート!$B$9=AI5,\"(目標年次)\",\"\")","v":""},{"$f":"IF(配列シート!$B$9=AJ5,\"(目標年次)\",\"\")","v":""},{"$f":"IF(配列シート!$B$9=AK5,\"(目標年次)\",\"\")","v":""},{"$f":"IF(配列シート!$B$9=AL5,\"(目標年次)\",\"\")","v":""},{"$f":"IF(配列シート!$B$9=AM5,\"(目標年次)\",\"\")","v":""},{"$f":"IF(配列シート!$B$9=AN5,\"(目標年次)\",\"\")","v":""},null,null,"条件緩和措置","資 金 の 使 途"]
[null,null,null,null,null,null,"(○年","～","○年)","○年)",null,null,{"$f":"配列シート!B8-3","v":-3},{"$f":"M5+1","v":-2},{"$f":"N5+1","v":-1},{"$f":"O5+1","v":0},{"$f":"P5+1","v":1},{"$f":"Q5+1","v":2},{"$f":"R5+1","v":3},{"$f":"S5+1","v":4},{"$f":"T5+1","v":5},{"$f":"U5+1","v":6},{"$f":"V5+1","v":7},{"$f":"W5+1","v":8},{"$f":"X5+1","v":9},{"$f":"Y5+1","v":10},{"$f":"配列シート!B8-3","v":-3},{"$f":"AA5+1","v":-2},{"$f":"AB5+1","v":-1},{"$f":"AC5+1","v":0},{"$f":"AD5+1","v":1},{"$f":"AE5+1","v":2},{"$f":"AF5+1","v":3},{"$f":"AG5+1","v":4},{"$f":"AH5+1","v":5},{"$f":"AI5+1","v":6},{"$f":"AJ5+1","v":7},{"$f":"AK5+1","v":8},{"$f":"AL5+1","v":9},{"$f":"AM5+1","v":10},"部門","比率"]
[{"$f":"B111","v":1},null,{"$f":"DGET(B99:C107,\"区分名\",B110:B111)","v":""},{"$f":"IF(('5-1既住借入金の償還計画'!D6)=0,\"\",'5-1既住借入金の償還計画'!D6)","v":""},{"$f":"IF(('5-1既住借入金の償還計画'!E6)=0,\"\",'5-1既住借入金の償還計画'!E6)","v":""},{"$f":"IF(('5-1既住借入金の償還計画'!F6)=0,,'5-1既住借入金の償還計画'!F6)","v":0},{"$f":"IF(('5-1既住借入金の償還計画'!G6)=0,,'5-1既住借入金の償還計画'!G6)","v":0},"～",{"$f":"IF(('5-1既住借入金の償還計画'!I6)=0,,'5-1既住借入金の償還計画'!I6)","v":0},{"$f":"IF(('5-1既住借入金の償還計画'!J6)=0,,'5-1既住借入金の償還計画'!J6)","v":0},{"$f":"IF(('5-1既住借入金の償還計画'!K6)=0,,'5-1既住借入金の償還計画'!K6)","v":0},"元利金",null,null,null,null,null,null,null,null,null,null,null,null,null,null,null,null,null,null,null,null,null,null,null,null,null,null,null,null,null,null,null,null," "]
[{"$f":"B111+10","v":11},null,null,{"$f":"IF(('5-1既住借入金の償還計画'!D7)=0,\"\",'5-1既住借入金の償還計画'!D7)","v":""},null,null,null,"～",null,null,null,"元  金",null,null,null,null,null,null,null,null,null,null,null,null,null,null,null,null,null,null,null,null,null,null,null,null,null,null,null,null,null,null,null,null," "]
[{"$f":"B113","v":1},null,{"$f":"DGET(B99:C107,\"区分名\",B112:B113)","v":""},{"$f":"IF(('5-1既住借入金の償還計画'!D8)=0,\"\",'5-1既住借入金の償還計画'!D8)","v":""},{"$f":"IF(('5-1既住借入金の償還計画'!E8)=0,\"\",'5-1既住借入金の償還計画'!E8)","v":""},{"$f":"IF(('5-1既住借入金の償還計画'!F8)=0,,'5-1既住借入金の償還計画'!F8)","v":0},{"$f":"IF(('5-1既住借入金の償還計画'!G8)=0,,'5-1既住借入金の償還計画'!G8)","v":0},"～",{"$f":"IF(('5-1既住借入金の償還計画'!I8)=0,,'5-1既住借入金の償還計画'!I8)","v":0},{"$f":"IF(('5-1既住借入金の償還計画'!J8)=0,,'5-1既住借入金の償還計画'!J8)","v":0},{"$f":"IF(('5-1既住借入金の償還計画'!K8)=0,,'5-1既住借入金の償還計画'!K8)","v":0},"元利金",null,null,null,null,null,null,null,null,null,null,null,null,null,null,null,null,null,null,null,null,null,null,null,null,null,null,null,null,null,null,null,null," "]
[{"$f":"B113+10","v":11},null,null,{"$f":"IF(('5-1既住借入金の償還計画'!D9)=0,\"\",'5-1既住借入金の償還計画'!D9)","v":""},null,null,null,"～",null,null,null,"元  金",null,null,null,null,null,null,null,null,null,null,null,null,null,null,null,null,null,null,null,null,null,null,null,null,null,null,null,null,null,null,null,null," "]
[{"$f":"B115","v":1},null,{"$f":"DGET(B99:C107,\"区分名\",B114:B115)","v":""},{"$f":"IF(('5-1既住借入金の償還計画'!D10)=0,\"\",'5-1既住借入金の償還計画'!D10)","v":""},{"$f":"IF(('5-1既住借入金の償還計画'!E10)=0,\"\",'5-1既住借入金の償還計画'!E10)","v":""},{"$f":"IF(('5-1既住借入金の償還計画'!F10)=0,,'5-1既住借入金の償還計画'!F10)","v":0},{"$f":"IF(('5-1既住借入金の償還計画'!G10)=0,,'5-1既住借入金の償還計画'!G10)","v":0},"～",{"$f":"IF(('5-1既住借入金の償還計画'!I10)=0,,'5-1既住借入金の償還計画'!I10)","v":0},{"$f":"IF(('5-1既住借入金の償還計画'!J10)=0,,'5-1既住借入金の償還計画'!J10)","v":0},{"$f":"IF(('5-1既住借入金の償還計画'!K10)=0,,'5-1既住借入金の償還計画'!K10)","v":0},"元利金",null,null,null,null,null,null,null,null,null,null,null,null,null,null,null,null,null,null,null,null,null,null,null,null,null,null,null,null,null,null,null,null," "]
[{"$f":"B115+10","v":11},null,null,{"$f":"IF(('5-1既住借入金の償還計画'!D11)=0,\"\",'5-1既住借入金の償還計画'!D11)","v":""},null,null,null,"～",null,null,null,"元  金",null,null,null,null,null,null,null,null,null,null,null,null,null,null,null,null,null,null,null,null,null,null,null,null,null,null,null,null,null,null,null,null," "]
[{"$f":"B117","v":1},null,{"$f":"DGET(B99:C107,\"区分名\",B116:B117)","v":""},{"$f":"IF(('5-1既住借入金の償還計画'!D12)=0,\"\",'5-1既住借入金の償還計画'!D12)","v":""},{"$f":"IF(('5-1既住借入金の償還計画'!E12)=0,\"\",'5-1既住借入金の償還計画'!E12)","v":""},{"$f":"IF(('5-1既住借入金の償還計画'!F12)=0,,'5-1既住借入金の償還計画'!F12)","v":0},{"$f":"IF(('5-1既住借入金の償還計画'!G12)=0,,'5-1既住借入金の償還計画'!G12)","v":0},"～",{"$f":"IF(('5-1既住借入金の償還計画'!I12)=0,,'5-1既住借入金の償還計画'!I12)","v":0},{"$f":"IF(('5-1既住借入金の償還計画'!J12)=0,,'5-1既住借入金の償還計画'!J12)","v":0},{"$f":"IF(('5-1既住借入金の償還計画'!K12)=0,,'5-1既住借入金の償還計画'!K12)","v":0},"元利金",null,null,null,null,null,null,null,null,null,null,null,null,null,null,null,null,null,null,null,null,null,null,null,null,null,null,null,null,null,null,null,null," "]
[{"$f":"B117+10","v":11},null,null,{"$f":"IF(('5-1既住借入金の償還計画'!D13)=0,\"\",'5-1既住借入金の償還計画'!D13)","v":""},null,null,null,"～",null,null,null,"元  金",null,null,null,null,null,null,null,null,null,null,null,null,null,null,null,null,null,null,null,null,null,null,null,null,null,null,null,null,null,null,null,null," "]
[{"$f":"B119","v":1},null,{"$f":"DGET(B99:C107,\"区分名\",B118:B119)","v":""},{"$f":"IF(('5-1既住借入金の償還計画'!D14)=0,\"\",'5-1既住借入金の償還計画'!D14)","v":""},{"$f":"IF(('5-1既住借入金の償還計画'!E14)=0,\"\",'5-1既住借入金の償還計画'!E14)","v":""},{"$f":"IF(('5-1既住借入金の償還計画'!F14)=0,,'5-1既住借入金の償還計画'!F14)","v":0},{"$f":"IF(('5-1既住借入金の償還計画'!G14)=0,,'5-1既住借入金の償還計画'!G14)","v":0},"～",{"$f":"IF(('5-1既住借入金の償還計画'!I14)=0,,'5-1既住借入金の償還計画'!I14)","v":0},{"$f":"IF(('5-1既住借入金の償還計画'!J14)=0,,'5-1既住借入金の償還計画'!J14)","v":0},{"$f":"IF(('5-1既住借入金の償還計画'!K14)=0,,'5-1既住借入金の償還計画'!K14)","v":0},"元利金",null,null,null,null,null,null,null,null,null,null,null,null,null,null,null,null,null,null,null,null,null,null,null,null,null,null,null,null,null,null,null,null," "]
[{"$f":"B119+10","v":11},null,null,{"$f":"IF(('5-1既住借入金の償還計画'!D15)=0,\"\",'5-1既住借入金の償還計画'!D15)","v":""},null,null,null,"～",null,null,null,"元  金",null,null,null,null,null,null,null,null,null,null,null,null,null,null,null,null,null,null,null,null,null,null,null,null,null,null,null,null,null,null,null,null," "]
[{"$f":"B121","v":1},null,{"$f":"DGET(B99:C107,\"区分名\",B120:B121)","v":""},{"$f":"IF(('5-1既住借入金の償還計画'!D16)=0,\"\",'5-1既住借入金の償還計画'!D16)","v":""},{"$f":"IF(('5-1既住借入金の償還計画'!E16)=0,\"\",'5-1既住借入金の償還計画'!E16)","v":""},{"$f":"IF(('5-1既住借入金の償還計画'!F16)=0,,'5-1既住借入金の償還計画'!F16)","v":0},{"$f":"IF(('5-1既住借入金の償還計画'!G16)=0,,'5-1既住借入金の償還計画'!G16)","v":0},"～",{"$f":"IF(('5-1既住借入金の償還計画'!I16)=0,,'5-1既住借入金の償還計画'!I16)","v":0},{"$f":"IF(('5-1既住借入金の償還計画'!J16)=0,,'5-1既住借入金の償還計画'!J16)","v":0},{"$f":"IF(('5-1既住借入金の償還計画'!K16)=0,,'5-1既住借入金の償還計画'!K16)","v":0},"元利金",null,null,null,null,null,null,null,null,null,null,null,null,null,null,null,null,null,null,null,null,null,null,null,null,null,null,null,null,null,null,null,null," "]
[{"$f":"B121+10","v":11},null,null,{"$f":"IF(('5-1既住借入金の償還計画'!D17)=0,\"\",'5-1既住借入金の償還計画'!D17)","v":""},null,null,null,"～",null,null,null,"元  金",null,null,null,null,null,null,null,null,null,null,null,null,null,null,null,null,null,null,null,null,null,null,null,null,null,null,null,null,null,null,null,null," "]
[{"$f":"B123","v":1},null,{"$f":"DGET(B99:C107,\"区分名\",B122:B123)","v":""},{"$f":"IF(('5-1既住借入金の償還計画'!D18)=0,\"\",'5-1既住借入金の償還計画'!D18)","v":""},{"$f":"IF(('5-1既住借入金の償還計画'!E18)=0,\"\",'5-1既住借入金の償還計画'!E18)","v":""},{"$f":"IF(('5-1既住借入金の償還計画'!F18)=0,,'5-1既住借入金の償還計画'!F18)","v":0},{"$f":"IF(('5-1既住借入金の償還計画'!G18)=0,,'5-1既住借入金の償還計画'!G18)","v":0},"～",{"$f":"IF(('5-1既住借入金の償還計画'!I18)=0,,'5-1既住借入金の償還計画'!I18)","v":0},{"$f":"IF(('5-1既住借入金の償還計画'!J18)=0,,'5-1既住借入金の償還計画'!J18)","v":0},{"$f":"IF(('5-1既住借入金の償還計画'!K18)=0,,'5-1既住借入金の償還計画'!K18)","v":0},"元利金",null,null,null,null,null,null,null,null,null,null,null,null,null,null,null,null,null,null,null,null,null,null,null,null,null,null,null,null,null,null,null,null," "]
[{"$f":"B123+10","v":11},null,null,{"$f":"IF(('5-1既住借入金の償還計画'!D19)=0,\"\",'5-1既住借入金の償還計画'!D19)","v":""},null,null,null,"～",null,null,null,"元  金",null,null,null,null,null,null,null,null,null,null,null,null,null,null,null,null,null,null,null,null,null,null,null,null,null,null,null,null,null,null,null,null," "]
[{"$f":"B125","v":1},"資",{"$f":"DGET(B99:C107,\"区分名\",B124:B125)","v":""},{"$f":"IF(('5-1既住借入金の償還計画'!D20)=0,\"\",'5-1既住借入金の償還計画'!D20)","v":""},{"$f":"IF(('5-1既住借入金の償還計画'!E20)=0,\"\",'5-1既住借入金の償還計画'!E20)","v":""},{"$f":"IF(('5-1既住借入金の償還計画'!F20)=0,,'5-1既住借入金の償還計画'!F20)","v":0},{"$f":"IF(('5-1既住借入金の償還計画'!G20)=0,,'5-1既住借入金の償還計画'!G20)","v":0},"～",{"$f":"IF(('5-1既住借入金の償還計画'!I20)=0,,'5-1既住借入金の償還計画'!I20)","v":0},{"$f":"IF(('5-1既住借入金の償還計画'!J20)=0,,'5-1既住借入金の償還計画'!J20)","v":0},{"$f":"IF(('5-1既住借入金の償還計画'!K20)=0,,'5-1既住借入金の償還計画'!K20)","v":0},"元利金",null,null,null,null,null,null,null,null,null,null,null,null,null,null,null,null,null,null,null,null,null,null,null,null,null,null,null,null,null,null,null,null," "]
[{"$f":"B125+10","v":11},null,null,{"$f":"IF(('5-1既住借入金の償還計画'!D21)=0,\"\",'5-1既住借入金の償還計画'!D21)","v":""},null,null,null,"～",null,null,null,"元  金",null,null,null,null,null,null,null,null,null,null,null,null,null,null,null,null,null,null,null,null,null,null,null,null,null,null,null,null,null,null,null,null," "]
[{"$f":"B127","v":1},null,{"$f":"DGET(B99:C107,\"区分名\",B126:B127)","v":""},{"$f":"IF(('5-1既住借入金の償還計画'!D22)=0,\"\",'5-1既住借入金の償還計画'!D22)","v":""},{"$f":"IF(('5-1既住借入金の償還計画'!E22)=0,\"\",'5-1既住借入金の償還計画'!E22)","v":""},{"$f":"IF(('5-1既住借入金の償還計画'!F22)=0,,'5-1既住借入金の償還計画'!F22)","v":0},{"$f":"IF(('5-1既住借入金の償還計画'!G22)=0,,'5-1既住借入金の償還計画'!G22)","v":0},"～",{"$f":"IF(('5-1既住借入金の償還計画'!I22)=0,,'5-1既住借入金の償還計画'!I22)","v":0},{"$f":"IF(('5-1既住借入金の償還計画'!J22)=0,,'5-1既住借入金の償還計画'!J22)","v":0},{"$f":"IF(('5-1既住借入金の償還計画'!K22)=0,,'5-1既住借入金の償還計画'!K22)","v":0},"元利金",null,null,null,null,null,null,null,null,null,null,null,null,null,null,null,null,null,null,null,null,null,null,null,null,null,null,null,null,null,null,null,null," "]
[{"$f":"B127+10","v":11},null,null,{"$f":"IF(('5-1既住借入金の償還計画'!D23)=0,\"\",'5-1既住借入金の償還計画'!D23)","v":""},null,null,null,"～",null,null,null,"元  金",null,null,null,null,null,null,null,null,null,null,null,null,null,null,null,null,null,null,null,null,null,null,null,null,null,null,null,null,null,null,null,null," "]
[{"$f":"B129","v":1},null,{"$f":"DGET(B99:C107,\"区分名\",B128:B129)","v":""},{"$f":"IF(('5-1既住借入金の償還計画'!D24)=0,\"\",'5-1既住借入金の償還計画'!D24)","v":""},{"$f":"IF(('5-1既住借入金の償還計画'!E24)=0,\"\",'5-1既住借入金の償還計画'!E24)","v":""},{"$f":"IF(('5-1既住借入金の償還計画'!F24)=0,,'5-1既住借入金の償還計画'!F24)","v":0},{"$f":"IF(('5-1既住借入金の償還計画'!G24)=0,,'5-1既住借入金の償還計画'!G24)","v":0},"～",{"$f":"IF(('5-1既住借入金の償還計画'!I24)=0,,'5-1既住借入金の償還計画'!I24)","v":0},{"$f":"IF(('5-1既住借入金の償還計画'!J24)=0,,'5-1既住借入金の償還計画'!J24)","v":0},{"$f":"IF(('5-1既住借入金の償還計画'!K24)=0,,'5-1既住借入金の償還計画'!K24)","v":0},"元利金",null,null,null,null,null,null,null,null,null,null,null,null,null,null,null,null,null,null,null,null,null,null,null,null,null,null,null,null,null,null,null,null," "]
[{"$f":"B129+10","v":11},null,null,{"$f":"IF(('5-1既住借入金の償還計画'!D25)=0,\"\",'5-1既住借入金の償還計画'!D25)","v":""},null,null,null,"～",null,null,null,"元  金",null,null,null,null,null,null,null,null,null,null,null,null,null,null,null,null,null,null,null,null,null,null,null,null,null,null,null,null,null,null,null,null," "]
[{"$f":"B131","v":1},null,{"$f":"DGET(B99:C107,\"区分名\",B130:B131)","v":""},{"$f":"IF(('5-1既住借入金の償還計画'!D26)=0,\"\",'5-1既住借入金の償還計画'!D26)","v":""},{"$f":"IF(('5-1既住借入金の償還計画'!E26)=0,\"\",'5-1既住借入金の償還計画'!E26)","v":""},{"$f":"IF(('5-1既住借入金の償還計画'!F26)=0,,'5-1既住借入金の償還計画'!F26)","v":0},{"$f":"IF(('5-1既住借入金の償還計画'!G26)=0,,'5-1既住借入金の償還計画'!G26)","v":0},"～",{"$f":"IF(('5-1既住借入金の償還計画'!I26)=0,,'5-1既住借入金の償還計画'!I26)","v":0},{"$f":"IF(('5-1既住借入金の償還計画'!J26)=0,,'5-1既住借入金の償還計画'!J26)","v":0},{"$f":"IF(('5-1既住借入金の償還計画'!K26)=0,,'5-1既住借入金の償還計画'!K26)","v":0},"元利金",null,null,null,null,null,null,null,null,null,null,null,null,null,null,null,null,null,null,null,null,null,null,null,null,null,null,null,null,null,null,null,null," "]
[{"$f":"B131+10","v":11},null,null,{"$f":"IF(('5-1既住借入金の償還計画'!D27)=0,\"\",'5-1既住借入金の償還計画'!D27)","v":""},null,null,null,"～",null,null,null,"元  金",null,null,null,null,null,null,null,null,null,null,null,null,null,null,null,null,null,null,null,null,null,null,null,null,null,null,null,null,null,null,null,null," "]
[{"$f":"B133","v":1},null,{"$f":"DGET(B99:C107,\"区分名\",B132:B133)","v":""},{"$f":"IF(('5-1既住借入金の償還計画'!D28)=0,\"\",'5-1既住借入金の償還計画'!D28)","v":""},{"$f":"IF(('5-1既住借入金の償還計画'!E28)=0,\"\",'5-1既住借入金の償還計画'!E28)","v":""},{"$f":"IF(('5-1既住借入金の償還計画'!F28)=0,,'5-1既住借入金の償還計画'!F28)","v":0},{"$f":"IF(('5-1既住借入金の償還計画'!G28)=0,,'5-1既住借入金の償還計画'!G28)","v":0},"～",{"$f":"IF(('5-1既住借入金の償還計画'!I28)=0,,'5-1既住借入金の償還計画'!I28)","v":0},{"$f":"IF(('5-1既住借入金の償還計画'!J28)=0,,'5-1既住借入金の償還計画'!J28)","v":0},{"$f":"IF(('5-1既住借入金の償還計画'!K28)=0,,'5-1既住借入金の償還計画'!K28)","v":0},"元利金",null,null,null,null,null,null,null,null,null,null,null,null,null,null,null,null,null,null,null,null,null,null,null,null,null,null,null,null,null,null,null,null," "]
[{"$f":"B133+10","v":11},null,null,{"$f":"IF(('5-1既住借入金の償還計画'!D29)=0,\"\",'5-1既住借入金の償還計画'!D29)","v":""},null,null,null,"～",null,null,null,"元  金",null,null,null,null,null,null,null,null,null,null,null,null,null,null,null,null,null,null,null,null,null,null,null,null,null,null,null,null,null,null,null,null," "]
[{"$f":"B135","v":1},"金",{"$f":"DGET(B99:C107,\"区分名\",B134:B135)","v":""},{"$f":"IF(('5-1既住借入金の償還計画'!D30)=0,\"\",'5-1既住借入金の償還計画'!D30)","v":""},{"$f":"IF(('5-1既住借入金の償還計画'!E30)=0,\"\",'5-1既住借入金の償還計画'!E30)","v":""},{"$f":"IF(('5-1既住借入金の償還計画'!F30)=0,,'5-1既住借入金の償還計画'!F30)","v":0},{"$f":"IF(('5-1既住借入金の償還計画'!G30)=0,,'5-1既住借入金の償還計画'!G30)","v":0},"～",{"$f":"IF(('5-1既住借入金の償還計画'!I30)=0,,'5-1既住借入金の償還計画'!I30)","v":0},{"$f":"IF(('5-1既住借入金の償還計画'!J30)=0,,'5-1既住借入金の償還計画'!J30)","v":0},{"$f":"IF(('5-1既住借入金の償還計画'!K30)=0,,'5-1既住借入金の償還計画'!K30)","v":0},"元利金",null,null,null,null,null,null,null,null,null,null,null,null,null,null,null,null,null,null,null,null,null,null,null,null,null,null,null,null,null,null,null,null," "]
[{"$f":"B135+10","v":11},null,null,{"$f":"IF(('5-1既住借入金の償還計画'!D31)=0,\"\",'5-1既住借入金の償還計画'!D31)","v":""},null,null,null,"～",null,null,null,"元  金",null,null,null,null,null,null,null,null,null,null,null,null,null,null,null,null,null,null,null,null,null,null,null,null,null,null,null,null,null,null,null,null," "]
[{"$f":"B137","v":1},null,{"$f":"DGET(B99:C107,\"区分名\",B136:B137)","v":""},{"$f":"IF(('5-1既住借入金の償還計画'!D32)=0,\"\",'5-1既住借入金の償還計画'!D32)","v":""},{"$f":"IF(('5-1既住借入金の償還計画'!E32)=0,\"\",'5-1既住借入金の償還計画'!E32)","v":""},{"$f":"IF(('5-1既住借入金の償還計画'!F32)=0,,'5-1既住借入金の償還計画'!F32)","v":0},{"$f":"IF(('5-1既住借入金の償還計画'!G32)=0,,'5-1既住借入金の償還計画'!G32)","v":0},"～",{"$f":"IF(('5-1既住借入金の償還計画'!I32)=0,,'5-1既住借入金の償還計画'!I32)","v":0},{"$f":"IF(('5-1既住借入金の償還計画'!J32)=0,,'5-1既住借入金の償還計画'!J32)","v":0},{"$f":"IF(('5-1既住借入金の償還計画'!K32)=0,,'5-1既住借入金の償還計画'!K32)","v":0},"元利金",null,null,null,null,null,null,null,null,null,null,null,null,null,null,null,null,null,null,null,null,null,null,null,null,null,null,null,null,null,null,null,null," "]
[{"$f":"B137+10","v":11},null,null,{"$f":"IF(('5-1既住借入金の償還計画'!D33)=0,\"\",'5-1既住借入金の償還計画'!D33)","v":""},null,null,null,"～",null,null,null,"元  金",null,null,null,null,null,null,null,null,null,null,null,null,null,null,null,null,null,null,null,null,null,null,null,null,null,null,null,null,null,null,null,null," "]
[{"$f":"B139","v":1},null,{"$f":"DGET(B99:C107,\"区分名\",B138:B139)","v":""},{"$f":"IF(('5-1既住借入金の償還計画'!D34)=0,\"\",'5-1既住借入金の償還計画'!D34)","v":""},{"$f":"IF(('5-1既住借入金の償還計画'!E34)=0,\"\",'5-1既住借入金の償還計画'!E34)","v":""},{"$f":"IF(('5-1既住借入金の償還計画'!F34)=0,,'5-1既住借入金の償還計画'!F34)","v":0},{"$f":"IF(('5-1既住借入金の償還計画'!G34)=0,,'5-1既住借入金の償還計画'!G34)","v":0},"～",{"$f":"IF(('5-1既住借入金の償還計画'!I34)=0,,'5-1既住借入金の償還計画'!I34)","v":0},{"$f":"IF(('5-1既住借入金の償還計画'!J34)=0,,'5-1既住借入金の償還計画'!J34)","v":0},{"$f":"IF(('5-1既住借入金の償還計画'!K34)=0,,'5-1既住借入金の償還計画'!K34)","v":0},"元利金",null,null,null,null,null,null,null,null,null,null,null,null,null,null,null,null,null,null,null,null,null,null,null,null,null,null,null,null,null,null,null,null," "]
[{"$f":"B139+10","v":11},null,null,{"$f":"IF(('5-1既住借入金の償還計画'!D35)=0,\"\",'5-1既住借入金の償還計画'!D35)","v":""},null,null,null,"～",null,null,null,"元  金",null,null,null,null,null,null,null,null,null,null,null,null,null,null,null,null,null,null,null,null,null,null,null,null,null,null,null,null,null,null,null,null," "]
[{"$f":"B141","v":1},null,{"$f":"DGET(B99:C107,\"区分名\",B140:B141)","v":""},{"$f":"IF(('5-1既住借入金の償還計画'!D36)=0,\"\",'5-1既住借入金の償還計画'!D36)","v":""},{"$f":"IF(('5-1既住借入金の償還計画'!E36)=0,\"\",'5-1既住借入金の償還計画'!E36)","v":""},{"$f":"IF(('5-1既住借入金の償還計画'!F36)=0,,'5-1既住借入金の償還計画'!F36)","v":0},{"$f":"IF(('5-1既住借入金の償還計画'!G36)=0,,'5-1既住借入金の償還計画'!G36)","v":0},"～",{"$f":"IF(('5-1既住借入金の償還計画'!I36)=0,,'5-1既住借入金の償還計画'!I36)","v":0},{"$f":"IF(('5-1既住借入金の償還計画'!J36)=0,,'5-1既住借入金の償還計画'!J36)","v":0},{"$f":"IF(('5-1既住借入金の償還計画'!K36)=0,,'5-1既住借入金の償還計画'!K36)","v":0},"元利金",null,null,null,null,null,null,null,null,null,null,null,null,null,null,null,null,null,null,null,null,null,null,null,null,null,null,null,null,null,null,null,null," "]
[{"$f":"B141+10","v":11},null,null,{"$f":"IF(('5-1既住借入金の償還計画'!D37)=0,\"\",'5-1既住借入金の償還計画'!D37)","v":""},null,null,null,"～",null,null,null,"元  金",null,null,null,null,null,null,null,null,null,null,null,null,null,null,null,null,null,null,null,null,null,null,null,null,null,null,null,null,null,null,null,null," "]
[{"$f":"B143","v":1},null,{"$f":"DGET(B99:C107,\"区分名\",B142:B143)","v":""},{"$f":"IF(('5-1既住借入金の償還計画'!D38)=0,\"\",'5-1既住借入金の償還計画'!D38)","v":""},{"$f":"IF(('5-1既住借入金の償還計画'!E38)=0,\"\",'5-1既住借入金の償還計画'!E38)","v":""},{"$f":"IF(('5-1既住借入金の償還計画'!F38)=0,,'5-1既住借入金の償還計画'!F38)","v":0},{"$f":"IF(('5-1既住借入金の償還計画'!G38)=0,,'5-1既住借入金の償還計画'!G38)","v":0},"～",{"$f":"IF(('5-1既住借入金の償還計画'!I38)=0,,'5-1既住借入金の償還計画'!I38)","v":0},{"$f":"IF(('5-1既住借入金の償還計画'!J38)=0,,'5-1既住借入金の償還計画'!J38)","v":0},{"$f":"IF(('5-1既住借入金の償還計画'!K38)=0,,'5-1既住借入金の償還計画'!K38)","v":0},"元利金",null,null,null,null,null,null,null,null,null,null,null,null,null,null,null,null,null,null,null,null,null,null,null,null,null,null,null,null,null,null,null,null," "]
[{"$f":"B143+10","v":11},null,null,{"$f":"IF(('5-1既住借入金の償還計画'!D39)=0,\"\",'5-1既住借入金の償還計画'!D39)","v":""},null,null,null,"～",null,null,null,"元  金",null,null,null,null,null,null,null,null,null,null,null,null,null,null,null,null,null,null,null,null,null,null,null,null,null,null,null,null,null,null,null,null," "]
[{"$f":"B145","v":1},null,{"$f":"DGET(B99:C107,\"区分名\",B144:B145)","v":""},{"$f":"IF(('5-1既住借入金の償還計画'!D40)=0,\"\",'5-1既住借入金の償還計画'!D40)","v":""},{"$f":"IF(('5-1既住借入金の償還計画'!E40)=0,\"\",'5-1既住借入金の償還計画'!E40)","v":""},{"$f":"IF(('5-1既住借入金の償還計画'!F40)=0,,'5-1既住借入金の償還計画'!F40)","v":0},{"$f":"IF(('5-1既住借入金の償還計画'!G40)=0,,'5-1既住借入金の償還計画'!G40)","v":0},"～",{"$f":"IF(('5-1既住借入金の償還計画'!I40)=0,,'5-1既住借入金の償還計画'!I40)","v":0},{"$f":"IF(('5-1既住借入金の償還計画'!J40)=0,,'5-1既住借入金の償還計画'!J40)","v":0},{"$f":"IF(('5-1既住借入金の償還計画'!K40)=0,,'5-1既住借入金の償還計画'!K40)","v":0},"元利金",null,null,null,null,null,null,null,null,null,null,null,null,null,null,null,null,null,null,null,null,null,null,null,null,null,null,null,null,null,null,null,null," "]
[{"$f":"B145+10","v":11},null,null,{"$f":"IF(('5-1既住借入金の償還計画'!D41)=0,\"\",'5-1既住借入金の償還計画'!D41)","v":""},null,null,null,"～",null,null,null,"元  金",null,null,null,null,null,null,null,null,null,null,null,null,null,null,null,null,null,null,null,null,null,null,null,null,null,null,null,null,null,null,null,null," "]
[{"$f":"B147","v":1},null,{"$f":"DGET(B99:C107,\"区分名\",B146:B147)","v":""},{"$f":"IF(('5-1既住借入金の償還計画'!D42)=0,\"\",'5-1既住借入金の償還計画'!D42)","v":""},{"$f":"IF(('5-1既住借入金の償還計画'!E42)=0,\"\",'5-1既住借入金の償還計画'!E42)","v":""},{"$f":"IF(('5-1既住借入金の償還計画'!F42)=0,,'5-1既住借入金の償還計画'!F42)","v":0},{"$f":"IF(('5-1既住借入金の償還計画'!G42)=0,,'5-1既住借入金の償還計画'!G42)","v":0},"～",{"$f":"IF(('5-1既住借入金の償還計画'!I42)=0,,'5-1既住借入金の償還計画'!I42)","v":0},{"$f":"IF(('5-1既住借入金の償還計画'!J42)=0,,'5-1既住借入金の償還計画'!J42)","v":0},{"$f":"IF(('5-1既住借入金の償還計画'!K42)=0,,'5-1既住借入金の償還計画'!K42)","v":0},"元利金",null,null,null,null,null,null,null,null,null,null,null,null,null,null,null,null,null,null,null,null,null,null,null,null,null,null,null,null,null,null,null,null," "]
[{"$f":"B147+10","v":11},null,null,{"$f":"IF(('5-1既住借入金の償還計画'!D43)=0,\"\",'5-1既住借入金の償還計画'!D43)","v":""},null,null,null,"～",null,null,null,"元  金",null,null,null,null,null,null,null,null,null,null,null,null,null,null,null,null,null,null,null,null,null,null,null,null,null,null,null,null,null,null,null,null," "]
[{"$f":"B149","v":1},null,{"$f":"DGET(B99:C107,\"区分名\",B148:B149)","v":""},{"$f":"IF(('5-1既住借入金の償還計画'!D44)=0,\"\",'5-1既住借入金の償還計画'!D44)","v":""},{"$f":"IF(('5-1既住借入金の償還計画'!E44)=0,\"\",'5-1既住借入金の償還計画'!E44)","v":""},{"$f":"IF(('5-1既住借入金の償還計画'!F44)=0,,'5-1既住借入金の償還計画'!F44)","v":0},{"$f":"IF(('5-1既住借入金の償還計画'!G44)=0,,'5-1既住借入金の償還計画'!G44)","v":0},"～",{"$f":"IF(('5-1既住借入金の償還計画'!I44)=0,,'5-1既住借入金の償還計画'!I44)","v":0},{"$f":"IF(('5-1既住借入金の償還計画'!J44)=0,,'5-1既住借入金の償還計画'!J44)","v":0},{"$f":"IF(('5-1既住借入金の償還計画'!K44)=0,,'5-1既住借入金の償還計画'!K44)","v":0},"元利金",null,null,null,null,null,null,null,null,null,null,null,null,null,null,null,null,null,null,null,null,null,null,null,null,null,null,null,null,null,null,null,null," "]
[{"$f":"B149+10","v":11},null,null,{"$f":"IF(('5-1既住借入金の償還計画'!D45)=0,\"\",'5-1既住借入金の償還計画'!D45)","v":""},null,null,null,"～",null,null,null,"元  金",null,null,null,null,null,null,null,null,null,null,null,null,null,null,null,null,null,null,null,null,null,null,null,null,null,null,null,null,null,null,null,null," "]
[]
[]
[]
[]
[]
[]
[]
[]
[]
[]
[]
[]
[]
[]
[]
[]
[]
[]
[]
[]
[]
[]
[]
[]
[]
[]
[]
[]
[]
[]
[]
[]
[]
[]
[]
[]
[]
[]
[]
[]
[]
[]
[]
[]
[]
[]
[]
[]
[]
[]
[]
[]
[]
[null,"No","区分名"]
[null,1,""]
[null,2,"農業近代化資金"]
[null,3,"公庫資金"]
[null,4,"その他制度資金（除く畜特）"]
[null,5,"畜産特別資金"]
[null,6,"長期（１年を越えるもの）"]
[null,7,"短期（１年以内のもの）"]
[null,8,"一般金融機関資金"]
[]
[]
[null,"No"]
[null,{"$f":"'5-1既住借入金の償還計画'!C6","v":1}]
[null,"No"]
[null,{"$f":"'5-1既住借入金の償還計画'!C8","v":1}]
[null,"No"]
[null,{"$f":"'5-1既住借入金の償還計画'!C10","v":1}]
[null,"No"]
[null,{"$f":"'5-1既住借入金の償還計画'!C12","v":1}]
[null,"No"]
[null,{"$f":"'5-1既住借入金の償還計画'!C14","v":1}]
[null,"No"]
[null,{"$f":"'5-1既住借入金の償還計画'!C16","v":1}]
[null,"No"]
[null,{"$f":"'5-1既住借入金の償還計画'!C18","v":1}]
[null,"No"]
[null,{"$f":"'5-1既住借入金の償還計画'!C20","v":1}]
[null,"No"]
[null,{"$f":"'5-1既住借入金の償還計画'!C22","v":1}]
[null,"No"]
[null,{"$f":"'5-1既住借入金の償還計画'!C24","v":1}]
[null,"No"]
[null,{"$f":"'5-1既住借入金の償還計画'!C26","v":1}]
[null,"No"]
[null,{"$f":"'5-1既住借入金の償還計画'!C28","v":1}]
[null,"No"]
[null,{"$f":"'5-1既住借入金の償還計画'!C30","v":1}]
[null,"No"]
[null,{"$f":"'5-1既住借入金の償還計画'!C32","v":1}]
[null,"No"]
[null,{"$f":"'5-1既住借入金の償還計画'!C34","v":1}]
[null,"No"]
[null,{"$f":"'5-1既住借入金の償還計画'!C36","v":1}]
[null,"No"]
[null,{"$f":"'5-1既住借入金の償還計画'!C38","v":1}]
[null,"No"]
[null,{"$f":"'5-1既住借入金の償還計画'!C40","v":1}]
[null,"No"]
[null,{"$f":"'5-1既住借入金の償還計画'!C42","v":1}]
[null,"No"]
[null,{"$f":"'5-1既住借入金の償還計画'!C44","v":1}]

{"sheet":"7-1農家の概要","index":17,"n_rows":37,"n_cols":18,"rows_kept":37,"cut":false,"hidden":false,"merged":[[21,1,28,1],[21,2,28,11],[31,1,40,1],[31,2,31,11],[32,2,35,11],[36,2,36,11],[37,2,40,11],[17,4,17,5],[17,8,17,9],[17,10,17,11],[17,12,17,13],[17,14,17,15],[17,16,17,17],[15,16,15,17],[16,1,16,3],[16,5,16,7],[16,8,16,9],[16,10,16,11],[16,12,16,13],[16,14,16,15],[16,16,16,17],[15,1,15,3],[15,5,15,7],[15,8,15,9],[15,10,15,11],[15,12,15,13],[15,14,15,15],[13,16,13,17],[14,1,14,3],[14,5,14,7],[14,8,14,9],[14,10,14,11],[14,12,14,13],[14,14,14,15],[14,16,14,17],[13,1,13,3],[13,5,13,7],[13,8,13,9],[13,10,13,11],[13,12,13,13],[13,14,13,15],[11,16,11,17],[12,1,12,3],[12,5,12,7],[12,8,12,9],[12,10,12,11],[12,12,12,13],[12,14,12,15],[12,16,12,17],[11,1,11,3],[11,5,11,7],[11,8,11,9],[11,10,11,11],[11,12,11,13],[11,14,11,15],[9,16,9,17],[10,1,10,3],[10,5,10,7],[10,8,10,9],[10,10,10,11],[10,12,10,13],[10,14,10,15],[10,16,10,17],[9,1,9,3],[9,5,9,7],[9,8,9,9],[9,10,9,11],[9,12,9,13],[9,14,9,15],[7,16,7,17],[8,1,8,3],[8,5,8,7],[8,8,8,9],[8,10,8,11],[8,12,8,13],[8,14,8,15],[8,16,8,17],[2,3,2,6],[7,1,7,3],[7,5,7,7],[7,8,7,9],[7,10,7,11],[7,12,7,15]]}
[]
[]
[null,"融資機関名",null,{"$f":"IF(配列シート!Q3=\"\",\"\",配列シート!Q3)","v":""},null,null,null,"借入希望者氏名（年齢）",null,null,{"$f":"IF(配列シート!J3=\"\",\"\",配列シート!J3)","v":""},null,null,{"$f":" \"（\" & IF(配列シート!N3=0,\"    \",配列シート!N3) & \"才）\"","v":"（    才）"},"後継者の有無（年齢）",null,{"$f":"IF(配列シート!L3=0,\"\",IF(配列シート!L3=1,\"有\",\"無\"))","v":""},{"$f":" \"（\" & IF(配列シート!M3=0,\"    \",配列シート!M3) & \"才）\"","v":"（    才）"}]
[null,"経営区分",null,"家族",null,null,null,"資金区分",null,null,{"$f":"IF(配列シート!G3=0,\"\",IF(配列シート!G3=1,配列シート!H20,配列シート!H21))","v":""},null,null,null,"長期平均払事業への参加",null,null,{"$f":"IF(配列シート!T3=0,\"\",IF(配列シート!T3=1,\"有\",\"無\"))","v":""}]
[null,null,null,null,null,null,null,null,null,null,null,null,null,null,"青色申告の有無",null,null,{"$f":"IF(配列シート!U3=0,\"\",IF(配列シート!U3=1,\"有\",\"無\"))","v":""}]
[null,null,null,null,null,null,null,null,null,null,null,null,null,null,"※後継者は現に養豚経営に従事していること"]
[null,"１　農家の概要"]
[null,"家族構成",null,null,"年齢","同居・別居",null,null,"養豚経営の",null,"年間従事日数",null,"農外就労の状況",null,null,null,"農外所得（年金含む）"]
[null,"（続柄で記入）",null,null,"（才）","（いずれかを選択）",null,null,"従事年数",null,"(日)",null,"職種",null,"年間従事日数(日)",null,"(千円)"]
[null,"経営主（本人）",null,null,{"$f":"配列シート!N3","v":0},"－"]
[]
[]
[]
[]
[]
[]
[]
[null,"計（同居の家族）",null,null,null,null,"人",null,"－",null,"－",null,"－",null,"－",null,{"$f":"SUM(Q10:R17)","v":0}]
[null,"（注）学生で下宿のため別居している者も記載すること。"]
[]
[null,"２　負債の要因"]
[null,{"$f":"配列シート!$B$8 & \"年\"","v":"年"}]
[]
[]
[]
[]
[]
[]
[]
[]
[null,"３　経営改善に向けた取組状況及び今後の対応方針等"]
[null,{"$f":"配列シート!$B$8 & \"年\"","v":"年"},"＜取組状況＞"]
[]
[]
[]
[]
[null,null,"＜今後の対応方針＞"]

{"sheet":"7-1法人の概要","index":18,"n_rows":33,"n_cols":21,"rows_kept":33,"cut":false,"hidden":false,"merged":[[17,1,24,1],[17,2,24,11],[27,1,36,1],[27,2,27,11],[28,2,31,11],[32,2,32,11],[33,2,36,11],[12,9,12,10],[12,11,12,12],[12,13,12,14],[12,15,12,16],[12,17,12,18],[13,9,13,10],[13,11,13,12],[13,13,13,14],[13,15,13,16],[13,17,13,18],[10,15,10,16],[10,17,10,18],[11,9,11,10],[11,11,11,12],[11,13,11,14],[11,15,11,16],[11,17,11,18],[8,17,8,18],[9,1,12,1],[9,9,9,10],[9,11,9,12],[9,13,9,14],[9,15,9,16],[9,17,9,18],[10,9,10,10],[10,11,10,12],[10,13,10,14],[8,1,8,3],[8,5,8,7],[8,9,8,10],[8,11,8,12],[8,13,8,14],[8,15,8,16],[2,13,2,16],[3,17,3,18],[7,1,7,3],[7,5,7,7],[7,9,7,10],[7,11,7,12],[7,13,7,16],[7,17,7,18]]}
[]
[]
[null,"融資機関名",null,{"$f":"IF(配列シート!Q3=\"\",\"\",配列シート!Q3)","v":""},null,null,null,null,null,null,null,"借入希望法人名",null,null,null,null,null,"後継者の有無（年齢）",null,{"$f":"IF(配列シート!L3=0,\"\",IF(配列シート!L3=1,\"有\",\"無\"))","v":""},{"$f":" \"（\" & IF(配列シート!M3=0,\"    \",配列シート!M3) & \"才）\"","v":"（    才）"}]
[null,"経営区分",null,"法人",null,null,null,"資金区分",null,{"$f":"IF(配列シート!G3=0,\"\",IF(配列シート!G3=1,配列シート!H20,配列シート!H21))","v":""},null,"代表者名（年齢）",null,{"$f":"IF(配列シート!J3=\"\",\"\",配列シート!J3)","v":""},null,null,{"$f":" \"（\" & IF(配列シート!N3=0,\"    \",配列シート!N3) & \"才）\"","v":"（    才）"},"長期平均払事業への参加",null,{"$f":"IF(配列シート!T3=0,\"\",IF(配列シート!T3=1,\"有\",\"無\"))","v":""}]
[]
[]
[null,"１　法人の概要"]
[null,"項目",null,null,null,null,null,null,"人","養豚経営の",null,"年間従事日数",null,"農外就労の状況",null,null,null,"農外所得（年金含む）"]
[null,null,null,null,null,null,null,null,"延人日","従事年数",null,"(日)",null,"職種",null,"年間従事日数(日)",null,"(千円)"]
[null,"労働力","家族（実人員）",null,null,null,"人"]
[null,null,null,"うち養豚部門",null,null,"人"]
[null,null,"雇用",null,null,null,"延人日"]
[null,null,null,"うち養豚部門",null,null,"延人日"]
[null,null,null,null,"計",null,null,null,"－","－",null,"－",null,"－",null,"－",null,{"$f":"R10+R12","v":0}]
[null,"（注）一戸法人は、個人扱いとするので、家族実人員を記入すること。"]
[]
[null,"２　負債の要因"]
[null,{"$f":"配列シート!$B$8 & \"年\"","v":"年"}]
[]
[]
[]
[]
[]
[]
[]
[]
[null,"３　経営改善に向けた取組状況及び今後の対応方針等"]
[null,{"$f":"配列シート!$B$8 & \"年\"","v":"年"},"＜取組状況＞"]
[]
[]
[]
[]
[null,null,"＜今後の対応方針＞"]

{"sheet":"7-4経営の概況・個人","index":19,"n_rows":79,"n_cols":39,"rows_kept":79,"cut":false,"hidden":false,"merged":[[3,32,3,33],[4,22,4,23],[4,24,4,25],[4,26,4,27],[4,28,4,29],[4,30,4,31],[4,32,4,33],[33,20,33,21],[33,34,33,35],[32,24,32,25],[32,26,32,27],[32,28,32,29],[32,30,32,31],[32,32,32,33],[9,34,9,35],[7,34,7,35],[5,34,5,35],[29,30,29,31],[29,32,29,33],[31,22,31,23],[31,24,31,25],[31,26,31,27],[31,28,31,29],[31,30,31,31],[34,8,34,9],[34,10,34,11],[34,12,34,13],[34,14,34,15],[34,16,34,17],[34,18,34,19],[34,20,34,21],[33,8,33,9],[33,10,33,11],[33,12,33,13],[33,14,33,15],[33,16,33,17],[33,18,33,19],[34,34,34,35],[33,22,33,23],[33,24,33,25],[33,26,33,27],[33,28,33,29],[33,30,33,31],[33,32,33,33],[31,8,31,9],[31,10,31,11],[31,12,31,13],[31,14,31,15],[31,16,31,17],[31,18,31,19],[31,20,31,21],[31,34,31,35],[32,8,32,9],[32,10,32,11],[32,12,32,13],[32,14,32,15],[32,16,32,17],[32,18,32,19],[32,20,32,21],[32,34,32,35],[32,22,32,23],[28,12,28,13],[28,14,28,15],[28,16,28,17],[28,18,28,19],[28,20,28,21],[28,34,28,35],[29,8,29,9],[29,10,29,11],[29,12,29,13],[29,14,29,15],[29,16,29,17],[29,18,29,19],[29,20,29,21],[29,34,29,35],[28,22,28,23],[28,24,28,25],[28,26,28,27],[28,28,28,29],[28,30,28,31],[28,32,28,33],[29,22,29,23],[29,24,29,25],[29,26,29,27],[29,28,29,29],[26,18,26,19],[26,20,26,21],[26,34,26,35],[27,8,27,9],[27,10,27,11],[27,12,27,13],[27,14,27,15],[27,16,27,17],[27,18,27,19],[27,20,27,21],[27,34,27,35],[26,22,26,23],[26,24,26,25],[26,26,26,27],[26,28,26,29],[26,30,26,31],[26,32,26,33],[27,22,27,23],[27,24,27,25],[27,26,27,27],[27,28,27,29],[27,30,27,31],[27,32,27,33],[24,18,24,19],[24,20,24,21],[24,34,24,35],[25,8,25,9],[25,10,25,11],[25,12,25,13],[25,14,25,15],[25,16,25,17],[25,18,25,19],[25,20,25,21],[25,34,25,35],[24,22,24,23],[24,24,24,25],[24,26,24,27],[24,28,24,29],[24,30,24,31],[24,32,24,33],[25,22,25,23],[25,24,25,25],[25,26,25,27],[25,28,25,29],[25,30,25,31],[25,32,25,33],[21,18,21,19],[21,20,21,21],[21,34,21,35],[23,8,23,9],[23,10,23,11],[23,12,23,13],[23,14,23,15],[23,16,23,17],[23,18,23,19],[23,20,23,21],[23,34,23,35],[21,22,21,23],[21,24,21,25],[21,26,21,27],[21,28,21,29],[21,30,21,31],[21,32,21,33],[23,22,23,23],[23,24,23,25],[23,26,23,27],[23,28,23,29],[23,30,23,31],[23,32,23,33],[19,18,19,19],[19,20,19,21],[19,34,19,35],[20,8,20,9],[20,10,20,11],[20,12,20,13],[20,14,20,15],[20,16,20,17],[20,18,20,19],[20,20,20,21],[20,34,20,35],[19,22,19,23],[20,22,20,23],[19,24,19,25],[20,24,20,25],[19,26,19,27],[20,26,20,27],[19,28,19,29],[20,28,20,29],[19,30,19,31],[20,30,20,31],[19,32,19,33],[20,32,20,33],[17,1,29,1],[19,8,19,9],[19,10,19,11],[19,12,19,13],[19,14,19,15],[19,16,19,17],[26,8,26,9],[26,10,26,11],[26,12,26,13],[26,14,26,15],[21,8,21,9],[21,10,21,11],[21,12,21,13],[21,14,21,15],[21,16,21,17],[24,2,26,4],[24,8,24,9],[24,10,24,11],[24,12,24,13],[24,14,24,15],[24,16,24,17],[26,16,26,17],[28,8,28,9],[28,10,28,11],[16,8,16,9],[16,10,16,11],[16,12,16,13],[16,14,16,15],[16,16,16,17],[16,18,16,19],[16,20,16,21],[16,34,16,35],[16,22,16,23],[16,24,16,25],[16,26,16,27],[16,28,16,29],[16,30,16,31],[16,32,16,33],[15,8,15,9],[15,10,15,11],[15,12,15,13],[15,14,15,15],[15,16,15,17],[15,18,15,19],[15,20,15,21],[15,34,15,35],[15,22,15,23],[15,24,15,25],[15,26,15,27],[15,28,15,29],[15,30,15,31],[15,32,15,33],[14,8,14,9],[14,10,14,11],[14,12,14,13],[14,14,14,15],[14,16,14,17],[14,18,14,19],[14,20,14,21],[14,34,14,35],[14,22,14,23],[14,24,14,25],[14,26,14,27],[14,28,14,29],[14,30,14,31],[14,32,14,33],[13,8,13,9],[13,10,13,11],[13,12,13,13],[13,14,13,15],[13,16,13,17],[13,18,13,19],[13,20,13,21],[13,34,13,35],[13,22,13,23],[13,24,13,25],[13,26,13,27],[13,28,13,29],[13,30,13,31],[13,32,13,33],[12,8,12,9],[12,10,12,11],[12,12,12,13],[12,14,12,15],[12,16,12,17],[12,18,12,19],[12,20,12,21],[12,34,12,35],[12,22,12,23],[12,24,12,25],[12,26,12,27],[12,28,12,29],[12,30,12,31],[12,32,12,33],[11,8,11,9],[11,10,11,11],[11,12,11,13],[11,14,11,15],[11,16,11,17],[11,18,11,19],[11,20,11,21],[11,34,11,35],[11,22,11,23],[11,24,11,25],[11,26,11,27],[11,28,11,29],[11,30,11,31],[11,32,11,33],[10,8,10,9],[10,10,10,11],[10,12,10,13],[10,14,10,15],[10,16,10,17],[10,18,10,19],[10,20,10,21],[10,34,10,35],[9,22,9,23],[9,24,9,25],[9,26,9,27],[9,28,9,29],[9,30,9,31],[9,32,9,33],[10,22,10,23],[10,24,10,25],[10,26,10,27],[10,28,10,29],[10,30,10,31],[10,32,10,33],[5,22,5,23],[5,24,5,25],[5,26,5,27],[5,28,5,29],[5,30,5,31],[5,32,5,33],[6,22,6,23],[6,24,6,25],[6,26,6,27],[6,28,6,29],[6,30,6,31],[6,32,6,33],[6,20,6,21],[6,34,6,35],[8,8,8,9],[8,10,8,11],[8,12,8,13],[8,14,8,15],[8,16,8,17],[8,18,8,19],[8,20,8,21],[8,34,8,35],[7,22,7,23],[8,22,8,23],[7,24,7,25],[7,26,7,27],[7,28,7,29],[7,30,7,31],[7,32,7,33],[8,24,8,25],[8,26,8,27],[8,28,8,29],[8,30,8,31],[8,32,8,33],[5,1,16,1],[5,2,10,2],[5,8,5,9],[5,10,5,11],[5,12,5,13],[5,14,5,15],[5,16,5,17],[5,18,5,19],[5,20,5,21],[7,8,7,9],[7,10,7,11],[7,12,7,13],[7,14,7,15],[7,16,7,17],[7,18,7,19],[7,20,7,21],[9,8,9,9],[9,10,9,11],[9,12,9,13],[9,14,9,15],[9,16,9,17],[9,18,9,19],[9,20,9,21],[11,2,16,2],[2,1,2,7],[2,36,2,38],[3,1,4,1],[3,8,3,9],[3,10,3,11],[3,12,3,13],[3,14,3,15],[3,16,3,17],[3,18,3,19],[3,20,3,21],[3,34,3,35],[4,8,4,9],[4,10,4,11],[4,12,4,13],[4,14,4,15],[4,16,4,17],[4,18,4,19],[4,20,4,21],[4,34,4,35],[3,22,3,23],[3,24,3,25],[3,26,3,27],[3,28,3,29],[3,30,3,31],[71,2,72,3],[71,4,72,5],[71,6,71,7],[71,8,71,9],[71,10,71,11],[71,12,71,13],[71,14,71,15],[71,16,71,17],[71,18,71,19],[72,6,72,7],[72,8,72,9],[72,10,72,11],[72,12,72,13],[72,14,72,15],[72,16,72,17],[72,18,72,19],[76,34,76,35],[72,20,72,21],[72,22,72,23],[74,20,74,21],[71,20,71,21],[71,22,71,23],[71,24,71,25],[71,26,71,27],[71,28,71,29],[71,30,71,31],[41,1,41,38],[77,34,77,35],[42,1,42,38],[76,2,76,7],[76,8,76,9],[76,10,76,11],[76,12,76,13],[76,14,76,15],[76,16,76,17],[76,18,76,19],[76,20,76,21],[76,22,76,23],[71,32,71,33],[71,34,71,35],[72,24,72,25],[72,26,72,27],[72,28,72,29],[72,30,72,31],[72,32,72,33],[72,34,72,35],[77,20,77,21],[74,34,74,35],[76,24,76,25],[76,26,76,27],[78,16,78,17],[78,18,78,19],[78,20,78,21],[78,22,78,23],[74,8,74,9],[74,10,74,11],[74,12,74,13],[74,14,74,15],[74,16,74,17],[74,18,74,19],[36,1,36,38],[37,1,37,38],[38,1,38,38],[39,1,39,38],[40,1,40,38],[74,2,74,7],[78,24,78,25],[78,26,78,27],[78,28,78,29],[78,30,78,31],[78,32,78,33],[78,34,78,35],[77,3,77,7],[77,8,77,9],[77,10,77,11],[77,12,77,13],[77,14,77,15],[77,16,77,17],[77,18,77,19],[78,2,78,7],[78,8,78,9],[78,10,78,11],[78,12,78,13],[78,14,78,15],[77,24,77,25],[77,26,77,27],[77,28,77,29],[77,30,77,31],[77,32,77,33],[77,22,77,23],[74,24,74,25],[74,26,74,27],[74,28,74,29],[74,30,74,31],[74,32,74,33],[74,22,74,23],[76,28,76,29],[76,30,76,31],[76,32,76,33],[5,3,5,6],[6,3,6,6],[7,3,7,6],[23,2,23,6],[28,3,28,6],[32,36,32,38],[33,36,33,38],[34,36,34,38],[21,36,21,38],[22,36,22,38],[23,36,23,38],[34,32,34,33],[34,30,34,31],[34,28,34,29],[34,26,34,27],[34,24,34,25],[34,22,34,23],[31,32,31,33],[6,8,6,9],[6,10,6,11],[6,12,6,13],[6,14,6,15],[6,16,6,17],[6,18,6,19]]}
[]
[null,"４　経営の概況"]
[null,"項目",null,null,null,null,null,null,{"$f":"配列シート!$B$8-3","v":-3},"実績",{"$f":"I3+1","v":-2},"実績",{"$f":"K3+1","v":-1},"実績",{"$f":"M3+1","v":0},{"$f":"IF(配列シート!$B$9=O3,\"計画(目標年次)\",\"計画\")","v":"計画(目標年次)"},{"$f":"O3+1","v":1},{"$f":"IF(配列シート!$B$9=Q3,\"計画(目標年次)\",\"計画\")","v":"計画"},{"$f":"Q3+1","v":2},{"$f":"IF(配列シート!$B$9=S3,\"計画(目標年次)\",\"計画\")","v":"計画"},{"$f":"S3+1","v":3},{"$f":"IF(配列シート!$B$9=U3,\"計画(目標年次)\",\"計画\")","v":"計画"},{"$f":"U3+1","v":4},{"$f":"IF(配列シート!$B$9=W3,\"計画(目標年次)\",\"計画\")","v":"計画"},{"$f":"W3+1","v":5},{"$f":"IF(配列シート!$B$9=Y3,\"計画(目標年次)\",\"計画\")","v":"計画"},{"$f":"Y3+1","v":6},{"$f":"IF(配列シート!$B$9=AA3,\"計画(目標年次)\",\"計画\")","v":"計画"},{"$f":"AA3+1","v":7},{"$f":"IF(配列シート!$B$9=AC3,\"計画(目標年次)\",\"計画\")","v":"計画"},{"$f":"AC3+1","v":8},{"$f":"IF(配列シート!$B$9=AE3,\"計画(目標年次)\",\"計画\")","v":"計画"},{"$f":"AE3+1","v":9},{"$f":"IF(配列シート!$B$9=AG3,\"計画(目標年次)\",\"計画\")","v":"計画"},{"$f":"AG3+1","v":10},{"$f":"IF(配列シート!$B$9=AI3,\"計画(目標年次)\",\"計画\")","v":"計画"},"備考"]
[null,"頭数","子取り用めす豚",null,null,null,null,"頭",{"$f":"CELL(\"contents\",'1-1経営改善の計画'!G16)","v":0},null,{"$f":"CELL(\"contents\",'1-1経営改善の計画'!H16)","v":0},null,{"$f":"CELL(\"contents\",'1-1経営改善の計画'!J16)","v":0},null,{"$f":"CELL(\"contents\",'1-1経営改善の計画'!K16)","v":0},null,{"$f":"CELL(\"contents\",'1-1経営改善の計画'!M16)","v":0},null,{"$f":"CELL(\"contents\",'1-1経営改善の計画'!O16)","v":0},null,{"$f":"CELL(\"contents\",'1-1経営改善の計画'!Q16)","v":0},null,{"$f":"CELL(\"contents\",'1-1経営改善の計画'!R16)","v":0},null,{"$f":"CELL(\"contents\",'1-1経営改善の計画'!S16)","v":0},null,{"$f":"CELL(\"contents\",'1-1経営改善の計画'!T16)","v":0},null,{"$f":"CELL(\"contents\",'1-1経営改善の計画'!U16)","v":0},null,{"$f":"CELL(\"contents\",'1-1経営改善の計画'!V16)","v":0},null,{"$f":"CELL(\"contents\",'1-1経営改善の計画'!W16)","v":0},null,{"$f":"CELL(\"contents\",'1-1経営改善の計画'!X16)","v":0},null,"米",null,"ha"]
[null,null,"肥育豚",null,null,null,null,"頭",{"$f":"CELL(\"contents\",'1-1経営改善の計画'!G17)","v":0},null,{"$f":"CELL(\"contents\",'1-1経営改善の計画'!H17)","v":0},null,{"$f":"CELL(\"contents\",'1-1経営改善の計画'!J17)","v":0},null,{"$f":"CELL(\"contents\",'1-1経営改善の計画'!K17)","v":0},null,{"$f":"CELL(\"contents\",'1-1経営改善の計画'!M17)","v":0},null,{"$f":"CELL(\"contents\",'1-1経営改善の計画'!O17)","v":0},null,{"$f":"CELL(\"contents\",'1-1経営改善の計画'!Q17)","v":0},null,{"$f":"CELL(\"contents\",'1-1経営改善の計画'!R17)","v":0},null,{"$f":"CELL(\"contents\",'1-1経営改善の計画'!S17)","v":0},null,{"$f":"CELL(\"contents\",'1-1経営改善の計画'!T17)","v":0},null,{"$f":"CELL(\"contents\",'1-1経営改善の計画'!U17)","v":0},null,{"$f":"CELL(\"contents\",'1-1経営改善の計画'!V17)","v":0},null,{"$f":"CELL(\"contents\",'1-1経営改善の計画'!W17)","v":0},null,{"$f":"CELL(\"contents\",'1-1経営改善の計画'!X17)","v":0},null,"果樹",null,"ha"]
[null,"生産状況","子取り","一腹当たり正常子豚生産頭数",null,null,null,"頭",{"$f":"CELL(\"contents\",'1-1経営改善の計画'!G19)","v":0},null,{"$f":"CELL(\"contents\",'1-1経営改善の計画'!H19)","v":0},null,{"$f":"CELL(\"contents\",'1-1経営改善の計画'!J19)","v":0},null,{"$f":"CELL(\"contents\",'1-1経営改善の計画'!K19)","v":0},null,{"$f":"CELL(\"contents\",'1-1経営改善の計画'!M19)","v":0},null,{"$f":"CELL(\"contents\",'1-1経営改善の計画'!O19)","v":0},null,{"$f":"CELL(\"contents\",'1-1経営改善の計画'!Q19)","v":0},null,{"$f":"CELL(\"contents\",'1-1経営改善の計画'!R19)","v":0},null,{"$f":"CELL(\"contents\",'1-1経営改善の計画'!S19)","v":0},null,{"$f":"CELL(\"contents\",'1-1経営改善の計画'!T19)","v":0},null,{"$f":"CELL(\"contents\",'1-1経営改善の計画'!U19)","v":0},null,{"$f":"CELL(\"contents\",'1-1経営改善の計画'!V19)","v":0},null,{"$f":"CELL(\"contents\",'1-1経営改善の計画'!W19)","v":0},null,{"$f":"CELL(\"contents\",'1-1経営改善の計画'!X19)","v":0},null,"野菜",null,"ha"]
[null,null,null,"種雌豚1頭当たり年間平均分娩回数",null,null,null,"回",{"$f":"CELL(\"contents\",'1-1経営改善の計画'!G20)","v":0},null,{"$f":"CELL(\"contents\",'1-1経営改善の計画'!H20)","v":0},null,{"$f":"CELL(\"contents\",'1-1経営改善の計画'!J20)","v":0},null,{"$f":"CELL(\"contents\",'1-1経営改善の計画'!K20)","v":0},null,{"$f":"CELL(\"contents\",'1-1経営改善の計画'!M20)","v":0},null,{"$f":"CELL(\"contents\",'1-1経営改善の計画'!O20)","v":0},null,{"$f":"CELL(\"contents\",'1-1経営改善の計画'!Q20)","v":0},null,{"$f":"CELL(\"contents\",'1-1経営改善の計画'!R20)","v":0},null,{"$f":"CELL(\"contents\",'1-1経営改善の計画'!S20)","v":0},null,{"$f":"CELL(\"contents\",'1-1経営改善の計画'!T20)","v":0},null,{"$f":"CELL(\"contents\",'1-1経営改善の計画'!U20)","v":0},null,{"$f":"CELL(\"contents\",'1-1経営改善の計画'!V20)","v":0},null,{"$f":"CELL(\"contents\",'1-1経営改善の計画'!W20)","v":0},null,{"$f":"CELL(\"contents\",'1-1経営改善の計画'!X20)","v":0},null,"飼料　延べ",null,"ha"]
[null,null,null,"　　　〃　　　年間正常子豚生産頭数",null,null,null,"頭",{"$f":"CELL(\"contents\",'1-1経営改善の計画'!G21)","v":0},null,{"$f":"CELL(\"contents\",'1-1経営改善の計画'!H21)","v":0},null,{"$f":"CELL(\"contents\",'1-1経営改善の計画'!J21)","v":0},null,{"$f":"CELL(\"contents\",'1-1経営改善の計画'!K21)","v":0},null,{"$f":"CELL(\"contents\",'1-1経営改善の計画'!M21)","v":0},null,{"$f":"CELL(\"contents\",'1-1経営改善の計画'!O21)","v":0},null,{"$f":"CELL(\"contents\",'1-1経営改善の計画'!Q21)","v":0},null,{"$f":"CELL(\"contents\",'1-1経営改善の計画'!R21)","v":0},null,{"$f":"CELL(\"contents\",'1-1経営改善の計画'!S21)","v":0},null,{"$f":"CELL(\"contents\",'1-1経営改善の計画'!T21)","v":0},null,{"$f":"CELL(\"contents\",'1-1経営改善の計画'!U21)","v":0},null,{"$f":"CELL(\"contents\",'1-1経営改善の計画'!V21)","v":0},null,{"$f":"CELL(\"contents\",'1-1経営改善の計画'!W21)","v":0},null,{"$f":"CELL(\"contents\",'1-1経営改善の計画'!X21)","v":0}]
[null,null,null,"育成率（離乳時）",null,null,null,"%",{"$f":"CELL(\"contents\",'1-1経営改善の計画'!G22)","v":0},null,{"$f":"CELL(\"contents\",'1-1経営改善の計画'!H22)","v":0},null,{"$f":"CELL(\"contents\",'1-1経営改善の計画'!J22)","v":0},null,{"$f":"CELL(\"contents\",'1-1経営改善の計画'!K22)","v":0},null,{"$f":"CELL(\"contents\",'1-1経営改善の計画'!M22)","v":0},null,{"$f":"CELL(\"contents\",'1-1経営改善の計画'!O22)","v":0},null,{"$f":"CELL(\"contents\",'1-1経営改善の計画'!Q22)","v":0},null,{"$f":"CELL(\"contents\",'1-1経営改善の計画'!R22)","v":0},null,{"$f":"CELL(\"contents\",'1-1経営改善の計画'!S22)","v":0},null,{"$f":"CELL(\"contents\",'1-1経営改善の計画'!T22)","v":0},null,{"$f":"CELL(\"contents\",'1-1経営改善の計画'!U22)","v":0},null,{"$f":"CELL(\"contents\",'1-1経営改善の計画'!V22)","v":0},null,{"$f":"CELL(\"contents\",'1-1経営改善の計画'!W22)","v":0},null,{"$f":"CELL(\"contents\",'1-1経営改善の計画'!X22)","v":0}]
[null,null,null,"子豚出荷頭数",null,null,null,"頭",{"$f":"CELL(\"contents\",'1-1経営改善の計画'!G23)","v":0},null,{"$f":"CELL(\"contents\",'1-1経営改善の計画'!H23)","v":0},null,{"$f":"CELL(\"contents\",'1-1経営改善の計画'!J23)","v":0},null,{"$f":"CELL(\"contents\",'1-1経営改善の計画'!K23)","v":0},null,{"$f":"CELL(\"contents\",'1-1経営改善の計画'!M23)","v":0},null,{"$f":"CELL(\"contents\",'1-1経営改善の計画'!O23)","v":0},null,{"$f":"CELL(\"contents\",'1-1経営改善の計画'!Q23)","v":0},null,{"$f":"CELL(\"contents\",'1-1経営改善の計画'!R23)","v":0},null,{"$f":"CELL(\"contents\",'1-1経営改善の計画'!S23)","v":0},null,{"$f":"CELL(\"contents\",'1-1経営改善の計画'!T23)","v":0},null,{"$f":"CELL(\"contents\",'1-1経営改善の計画'!U23)","v":0},null,{"$f":"CELL(\"contents\",'1-1経営改善の計画'!V23)","v":0},null,{"$f":"CELL(\"contents\",'1-1経営改善の計画'!W23)","v":0},null,{"$f":"CELL(\"contents\",'1-1経営改善の計画'!X23)","v":0}]
[null,null,null,"子豚出荷価格",null,null,null,"千円",{"$f":"CELL(\"contents\",'1-1経営改善の計画'!G26)","v":0},null,{"$f":"CELL(\"contents\",'1-1経営改善の計画'!H26)","v":0},null,{"$f":"CELL(\"contents\",'1-1経営改善の計画'!J26)","v":0},null,{"$f":"CELL(\"contents\",'1-1経営改善の計画'!K26)","v":0},null,{"$f":"CELL(\"contents\",'1-1経営改善の計画'!M26)","v":0},null,{"$f":"CELL(\"contents\",'1-1経営改善の計画'!O26)","v":0},null,{"$f":"CELL(\"contents\",'1-1経営改善の計画'!Q26)","v":0},null,{"$f":"CELL(\"contents\",'1-1経営改善の計画'!R26)","v":0},null,{"$f":"CELL(\"contents\",'1-1経営改善の計画'!S26)","v":0},null,{"$f":"CELL(\"contents\",'1-1経営改善の計画'!T26)","v":0},null,{"$f":"CELL(\"contents\",'1-1経営改善の計画'!U26)","v":0},null,{"$f":"CELL(\"contents\",'1-1経営改善の計画'!V26)","v":0},null,{"$f":"CELL(\"contents\",'1-1経営改善の計画'!W26)","v":0},null,{"$f":"CELL(\"contents\",'1-1経営改善の計画'!X26)","v":0}]
[null,null,"肥育","肥育豚出荷頭数",null,null,null,"頭",{"$f":"CELL(\"contents\",'1-1経営改善の計画'!G31)","v":0},null,{"$f":"CELL(\"contents\",'1-1経営改善の計画'!H31)","v":0},null,{"$f":"CELL(\"contents\",'1-1経営改善の計画'!J31)","v":0},null,{"$f":"CELL(\"contents\",'1-1経営改善の計画'!K31)","v":0},null,{"$f":"CELL(\"contents\",'1-1経営改善の計画'!M31)","v":0},null,{"$f":"CELL(\"contents\",'1-1経営改善の計画'!O31)","v":0},null,{"$f":"CELL(\"contents\",'1-1経営改善の計画'!Q31)","v":0},null,{"$f":"CELL(\"contents\",'1-1経営改善の計画'!R31)","v":0},null,{"$f":"CELL(\"contents\",'1-1経営改善の計画'!S31)","v":0},null,{"$f":"CELL(\"contents\",'1-1経営改善の計画'!T31)","v":0},null,{"$f":"CELL(\"contents\",'1-1経営改善の計画'!U31)","v":0},null,{"$f":"CELL(\"contents\",'1-1経営改善の計画'!V31)","v":0},null,{"$f":"CELL(\"contents\",'1-1経営改善の計画'!W31)","v":0},null,{"$f":"CELL(\"contents\",'1-1経営改善の計画'!X31)","v":0}]
[null,null,null,"肥育豚出荷価格",null,null,null,"千円",{"$f":"CELL(\"contents\",'1-1経営改善の計画'!G34)","v":0},null,{"$f":"CELL(\"contents\",'1-1経営改善の計画'!H34)","v":0},null,{"$f":"CELL(\"contents\",'1-1経営改善の計画'!J34)","v":0},null,{"$f":"CELL(\"contents\",'1-1経営改善の計画'!K34)","v":0},null,{"$f":"CELL(\"contents\",'1-1経営改善の計画'!M34)","v":0},null,{"$f":"CELL(\"contents\",'1-1経営改善の計画'!O34)","v":0},null,{"$f":"CELL(\"contents\",'1-1経営改善の計画'!Q34)","v":0},null,{"$f":"CELL(\"contents\",'1-1経営改善の計画'!R34)","v":0},null,{"$f":"CELL(\"contents\",'1-1経営改善の計画'!S34)","v":0},null,{"$f":"CELL(\"contents\",'1-1経営改善の計画'!T34)","v":0},null,{"$f":"CELL(\"contents\",'1-1経営改善の計画'!U34)","v":0},null,{"$f":"CELL(\"contents\",'1-1経営改善の計画'!V34)","v":0},null,{"$f":"CELL(\"contents\",'1-1経営改善の計画'!W34)","v":0},null,{"$f":"CELL(\"contents\",'1-1経営改善の計画'!X34)","v":0}]
[null,null,null,"平均肥育日数",null,null,null,"日",{"$f":"CELL(\"contents\",'1-1経営改善の計画'!G35)","v":0},null,{"$f":"CELL(\"contents\",'1-1経営改善の計画'!H35)","v":0},null,{"$f":"CELL(\"contents\",'1-1経営改善の計画'!J35)","v":0},null,{"$f":"CELL(\"contents\",'1-1経営改善の計画'!K35)","v":0},null,{"$f":"CELL(\"contents\",'1-1経営改善の計画'!M35)","v":0},null,{"$f":"CELL(\"contents\",'1-1経営改善の計画'!O35)","v":0},null,{"$f":"CELL(\"contents\",'1-1経営改善の計画'!Q35)","v":0},null,{"$f":"CELL(\"contents\",'1-1経営改善の計画'!R35)","v":0},null,{"$f":"CELL(\"contents\",'1-1経営改善の計画'!S35)","v":0},null,{"$f":"CELL(\"contents\",'1-1経営改善の計画'!T35)","v":0},null,{"$f":"CELL(\"contents\",'1-1経営改善の計画'!U35)","v":0},null,{"$f":"CELL(\"contents\",'1-1経営改善の計画'!V35)","v":0},null,{"$f":"CELL(\"contents\",'1-1経営改善の計画'!W35)","v":0},null,{"$f":"CELL(\"contents\",'1-1経営改善の計画'!X35)","v":0}]
[null,null,null,"1日当たり増体重量",null,null,null,"g",{"$f":"CELL(\"contents\",'1-1経営改善の計画'!G36)","v":0},null,{"$f":"CELL(\"contents\",'1-1経営改善の計画'!H36)","v":0},null,{"$f":"CELL(\"contents\",'1-1経営改善の計画'!J36)","v":0},null,{"$f":"CELL(\"contents\",'1-1経営改善の計画'!K36)","v":0},null,{"$f":"CELL(\"contents\",'1-1経営改善の計画'!M36)","v":0},null,{"$f":"CELL(\"contents\",'1-1経営改善の計画'!O36)","v":0},null,{"$f":"CELL(\"contents\",'1-1経営改善の計画'!Q36)","v":0},null,{"$f":"CELL(\"contents\",'1-1経営改善の計画'!R36)","v":0},null,{"$f":"CELL(\"contents\",'1-1経営改善の計画'!S36)","v":0},null,{"$f":"CELL(\"contents\",'1-1経営改善の計画'!T36)","v":0},null,{"$f":"CELL(\"contents\",'1-1経営改善の計画'!U36)","v":0},null,{"$f":"CELL(\"contents\",'1-1経営改善の計画'!V36)","v":0},null,{"$f":"CELL(\"contents\",'1-1経営改善の計画'!W36)","v":0},null,{"$f":"CELL(\"contents\",'1-1経営改善の計画'!X36)","v":0}]
[null,null,null,"事故率",null,null,null,"%",{"$f":"CELL(\"contents\",'1-1経営改善の計画'!G37)","v":0},null,{"$f":"CELL(\"contents\",'1-1経営改善の計画'!H37)","v":0},null,{"$f":"CELL(\"contents\",'1-1経営改善の計画'!J37)","v":0},null,{"$f":"CELL(\"contents\",'1-1経営改善の計画'!K37)","v":0},null,{"$f":"CELL(\"contents\",'1-1経営改善の計画'!M37)","v":0},null,{"$f":"CELL(\"contents\",'1-1経営改善の計画'!O37)","v":0},null,{"$f":"CELL(\"contents\",'1-1経営改善の計画'!Q37)","v":0},null,{"$f":"CELL(\"contents\",'1-1経営改善の計画'!R37)","v":0},null,{"$f":"CELL(\"contents\",'1-1経営改善の計画'!S37)","v":0},null,{"$f":"CELL(\"contents\",'1-1経営改善の計画'!T37)","v":0},null,{"$f":"CELL(\"contents\",'1-1経営改善の計画'!U37)","v":0},null,{"$f":"CELL(\"contents\",'1-1経営改善の計画'!V37)","v":0},null,{"$f":"CELL(\"contents\",'1-1経営改善の計画'!W37)","v":0},null,{"$f":"CELL(\"contents\",'1-1経営改善の計画'!X37)","v":0}]
[null,null,null,"肥育素豚自家産割合",null,null,null,"%",{"$f":"CELL(\"contents\",'1-1経営改善の計画'!G38)","v":0},null,{"$f":"CELL(\"contents\",'1-1経営改善の計画'!H38)","v":0},null,{"$f":"CELL(\"contents\",'1-1経営改善の計画'!J38)","v":0},null,{"$f":"CELL(\"contents\",'1-1経営改善の計画'!K38)","v":0},null,{"$f":"CELL(\"contents\",'1-1経営改善の計画'!M38)","v":0},null,{"$f":"CELL(\"contents\",'1-1経営改善の計画'!O38)","v":0},null,{"$f":"CELL(\"contents\",'1-1経営改善の計画'!Q38)","v":0},null,{"$f":"CELL(\"contents\",'1-1経営改善の計画'!R38)","v":0},null,{"$f":"CELL(\"contents\",'1-1経営改善の計画'!S38)","v":0},null,{"$f":"CELL(\"contents\",'1-1経営改善の計画'!T38)","v":0},null,{"$f":"CELL(\"contents\",'1-1経営改善の計画'!U38)","v":0},null,{"$f":"CELL(\"contents\",'1-1経営改善の計画'!V38)","v":0},null,{"$f":"CELL(\"contents\",'1-1経営改善の計画'!W38)","v":0},null,{"$f":"CELL(\"contents\",'1-1経営改善の計画'!X38)","v":0}]
[null,"経営収支状況","①農業収入（うち養豚部門）",null,null,null,null,"千円",{"$f":"CELL(\"contents\",'2-1経営収支計画・個人'!I8)","v":0},{"$f":"CELL(\"contents\",'2-1経営収支計画・個人'!I6)","v":0},{"$f":"CELL(\"contents\",'2-1経営収支計画・個人'!J8)","v":0},{"$f":"CELL(\"contents\",'2-1経営収支計画・個人'!J6)","v":0},{"$f":"CELL(\"contents\",'2-1経営収支計画・個人'!L8)","v":0},{"$f":"CELL(\"contents\",'2-1経営収支計画・個人'!L6)","v":0},{"$f":"CELL(\"contents\",'2-1経営収支計画・個人'!M8)","v":0},{"$f":"CELL(\"contents\",'2-1経営収支計画・個人'!M6)","v":0},{"$f":"CELL(\"contents\",'2-1経営収支計画・個人'!O8)","v":0},{"$f":"CELL(\"contents\",'2-1経営収支計画・個人'!O6)","v":0},{"$f":"CELL(\"contents\",'2-1経営収支計画・個人'!Q8)","v":0},{"$f":"CELL(\"contents\",'2-1経営収支計画・個人'!Q6)","v":0},{"$f":"CELL(\"contents\",'2-1経営収支計画・個人'!S8)","v":0},{"$f":"CELL(\"contents\",'2-1経営収支計画・個人'!S6)","v":0},{"$f":"CELL(\"contents\",'2-1経営収支計画・個人'!T8)","v":0},{"$f":"CELL(\"contents\",'2-1経営収支計画・個人'!T6)","v":0},{"$f":"CELL(\"contents\",'2-1経営収支計画・個人'!U8)","v":0},{"$f":"CELL(\"contents\",'2-1経営収支計画・個人'!U6)","v":0},{"$f":"CELL(\"contents\",'2-1経営収支計画・個人'!V8)","v":0},{"$f":"CELL(\"contents\",'2-1経営収支計画・個人'!V6)","v":0},{"$f":"CELL(\"contents\",'2-1経営収支計画・個人'!W8)","v":0},{"$f":"CELL(\"contents\",'2-1経営収支計画・個人'!W6)","v":0},{"$f":"CELL(\"contents\",'2-1経営収支計画・個人'!X8)","v":0},{"$f":"CELL(\"contents\",'2-1経営収支計画・個人'!X6)","v":0},{"$f":"CELL(\"contents\",'2-1経営収支計画・個人'!Y8)","v":0},{"$f":"CELL(\"contents\",'2-1経営収支計画・個人'!Y6)","v":0},{"$f":"CELL(\"contents\",'2-1経営収支計画・個人'!Z8)","v":0},{"$f":"CELL(\"contents\",'2-1経営収支計画・個人'!Z6)","v":0}]
[null,null,"②農業支出（うち養豚部門）",null,null,null,null,"千円",{"$f":"CELL(\"contents\",'2-1経営収支計画・個人'!I22)","v":0},{"$f":"CELL(\"contents\",'2-1経営収支計画・個人'!I20)","v":0},{"$f":"CELL(\"contents\",'2-1経営収支計画・個人'!J22)","v":0},{"$f":"CELL(\"contents\",'2-1経営収支計画・個人'!J20)","v":0},{"$f":"CELL(\"contents\",'2-1経営収支計画・個人'!L22)","v":0},{"$f":"CELL(\"contents\",'2-1経営収支計画・個人'!L20)","v":0},{"$f":"CELL(\"contents\",'2-1経営収支計画・個人'!M22)","v":0},{"$f":"CELL(\"contents\",'2-1経営収支計画・個人'!M20)","v":0},{"$f":"CELL(\"contents\",'2-1経営収支計画・個人'!O22)","v":0},{"$f":"CELL(\"contents\",'2-1経営収支計画・個人'!O20)","v":0},{"$f":"CELL(\"contents\",'2-1経営収支計画・個人'!Q22)","v":0},{"$f":"CELL(\"contents\",'2-1経営収支計画・個人'!Q20)","v":0},{"$f":"CELL(\"contents\",'2-1経営収支計画・個人'!S22)","v":0},{"$f":"CELL(\"contents\",'2-1経営収支計画・個人'!S20)","v":0},{"$f":"CELL(\"contents\",'2-1経営収支計画・個人'!T22)","v":0},{"$f":"CELL(\"contents\",'2-1経営収支計画・個人'!T20)","v":0},{"$f":"CELL(\"contents\",'2-1経営収支計画・個人'!U22)","v":0},{"$f":"CELL(\"contents\",'2-1経営収支計画・個人'!U20)","v":0},{"$f":"CELL(\"contents\",'2-1経営収支計画・個人'!V22)","v":0},{"$f":"CELL(\"contents\",'2-1経営収支計画・個人'!V20)","v":0},{"$f":"CELL(\"contents\",'2-1経営収支計画・個人'!W22)","v":0},{"$f":"CELL(\"contents\",'2-1経営収支計画・個人'!W20)","v":0},{"$f":"CELL(\"contents\",'2-1経営収支計画・個人'!X22)","v":0},{"$f":"CELL(\"contents\",'2-1経営収支計画・個人'!X20)","v":0},{"$f":"CELL(\"contents\",'2-1経営収支計画・個人'!Y22)","v":0},{"$f":"CELL(\"contents\",'2-1経営収支計画・個人'!Y20)","v":0},{"$f":"CELL(\"contents\",'2-1経営収支計画・個人'!Z22)","v":0},{"$f":"CELL(\"contents\",'2-1経営収支計画・個人'!Z20)","v":0}]
[null,null,"③農外収入",null,null,null,null,"千円",{"$f":"CELL(\"contents\",'2-1経営収支計画・個人'!I26)","v":0},null,{"$f":"CELL(\"contents\",'2-1経営収支計画・個人'!J26)","v":0},null,{"$f":"CELL(\"contents\",'2-1経営収支計画・個人'!L26)","v":0},null,{"$f":"CELL(\"contents\",'2-1経営収支計画・個人'!M26)","v":0},null,{"$f":"CELL(\"contents\",'2-1経営収支計画・個人'!O26)","v":0},null,{"$f":"CELL(\"contents\",'2-1経営収支計画・個人'!Q26)","v":0},null,{"$f":"CELL(\"contents\",'2-1経営収支計画・個人'!S26)","v":0},null,{"$f":"CELL(\"contents\",'2-1経営収支計画・個人'!T26)","v":0},null,{"$f":"CELL(\"contents\",'2-1経営収支計画・個人'!U26)","v":0},null,{"$f":"CELL(\"contents\",'2-1経営収支計画・個人'!V26)","v":0},null,{"$f":"CELL(\"contents\",'2-1経営収支計画・個人'!W26)","v":0},null,{"$f":"CELL(\"contents\",'2-1経営収支計画・個人'!X26)","v":0},null,{"$f":"CELL(\"contents\",'2-1経営収支計画・個人'!Y26)","v":0},null,{"$f":"CELL(\"contents\",'2-1経営収支計画・個人'!Z26)","v":0}]
[null,null,"④農外支出",null,null,null,null,"千円",{"$f":"CELL(\"contents\",'2-1経営収支計画・個人'!I27)","v":0},null,{"$f":"CELL(\"contents\",'2-1経営収支計画・個人'!J27)","v":0},null,{"$f":"CELL(\"contents\",'2-1経営収支計画・個人'!L27)","v":0},null,{"$f":"CELL(\"contents\",'2-1経営収支計画・個人'!M27)","v":0},null,{"$f":"CELL(\"contents\",'2-1経営収支計画・個人'!O27)","v":0},null,{"$f":"CELL(\"contents\",'2-1経営収支計画・個人'!Q27)","v":0},null,{"$f":"CELL(\"contents\",'2-1経営収支計画・個人'!S27)","v":0},null,{"$f":"CELL(\"contents\",'2-1経営収支計画・個人'!T27)","v":0},null,{"$f":"CELL(\"contents\",'2-1経営収支計画・個人'!U27)","v":0},null,{"$f":"CELL(\"contents\",'2-1経営収支計画・個人'!V27)","v":0},null,{"$f":"CELL(\"contents\",'2-1経営収支計画・個人'!W27)","v":0},null,{"$f":"CELL(\"contents\",'2-1経営収支計画・個人'!X27)","v":0},null,{"$f":"CELL(\"contents\",'2-1経営収支計画・個人'!Y27)","v":0},null,{"$f":"CELL(\"contents\",'2-1経営収支計画・個人'!Z27)","v":0}]
[null,null,"⑤その他の収支",null,null,null,null,"千円",{"$f":"CELL(\"contents\",'2-1経営収支計画・個人'!I31)-CELL(\"contents\",'2-1経営収支計画・個人'!I30)","v":0},null,{"$f":"CELL(\"contents\",'2-1経営収支計画・個人'!J31)-CELL(\"contents\",'2-1経営収支計画・個人'!J30)","v":0},null,{"$f":"CELL(\"contents\",'2-1経営収支計画・個人'!L31)-CELL(\"contents\",'2-1経営収支計画・個人'!L30)","v":0},null,{"$f":"CELL(\"contents\",'2-1経営収支計画・個人'!M31)-CELL(\"contents\",'2-1経営収支計画・個人'!M30)","v":0},null,{"$f":"CELL(\"contents\",'2-1経営収支計画・個人'!O31)-CELL(\"contents\",'2-1経営収支計画・個人'!O30)","v":0},null,{"$f":"CELL(\"contents\",'2-1経営収支計画・個人'!Q31)-CELL(\"contents\",'2-1経営収支計画・個人'!Q30)","v":0},null,{"$f":"CELL(\"contents\",'2-1経営収支計画・個人'!S31)-CELL(\"contents\",'2-1経営収支計画・個人'!S30)","v":0},null,{"$f":"CELL(\"contents\",'2-1経営収支計画・個人'!T31)-CELL(\"contents\",'2-1経営収支計画・個人'!T30)","v":0},null,{"$f":"CELL(\"contents\",'2-1経営収支計画・個人'!U31)-CELL(\"contents\",'2-1経営収支計画・個人'!U30)","v":0},null,{"$f":"CELL(\"contents\",'2-1経営収支計画・個人'!V31)-CELL(\"contents\",'2-1経営収支計画・個人'!V30)","v":0},null,{"$f":"CELL(\"contents\",'2-1経営収支計画・個人'!W31)-CELL(\"contents\",'2-1経営収支計画・個人'!W30)","v":0},null,{"$f":"CELL(\"contents\",'2-1経営収支計画・個人'!X31)-CELL(\"contents\",'2-1経営収支計画・個人'!X30)","v":0},null,{"$f":"CELL(\"contents\",'2-1経営収支計画・個人'!Y31)-CELL(\"contents\",'2-1経営収支計画・個人'!Y30)","v":0},null,{"$f":"CELL(\"contents\",'2-1経営収支計画・個人'!Z31)-CELL(\"contents\",'2-1経営収支計画・個人'!Z30)","v":0},null,"→年金等の収入－租税公課諸負担"]
[null,null,"⑥家計費（一人当たり家計費）",null,null,null,null,"千円",{"$f":"CELL(\"contents\",'2-1経営収支計画・個人'!I34)","v":0},{"$f":"IF(CELL(\"contents\",'1-1経営改善の計画'!G5)=0,0,CELL(\"contents\",'2-1経営収支計画・個人'!I34)/CELL(\"contents\",'1-1経営改善の計画'!G5))","v":0},{"$f":"CELL(\"contents\",'2-1経営収支計画・個人'!J34)","v":0},{"$f":"IF(CELL(\"contents\",'1-1経営改善の計画'!H5)=0,0,CELL(\"contents\",'2-1経営収支計画・個人'!J34)/CELL(\"contents\",'1-1経営改善の計画'!H5))","v":0},{"$f":"CELL(\"contents\",'2-1経営収支計画・個人'!L34)","v":0},{"$f":"IF(CELL(\"contents\",'1-1経営改善の計画'!J5)=0,0,CELL(\"contents\",'2-1経営収支計画・個人'!L34)/CELL(\"contents\",'1-1経営改善の計画'!J5))","v":0},{"$f":"CELL(\"contents\",'2-1経営収支計画・個人'!M34)","v":0},{"$f":"IF(CELL(\"contents\",'1-1経営改善の計画'!K5)=0,0,CELL(\"contents\",'2-1経営収支計画・個人'!M34)/CELL(\"contents\",'1-1経営改善の計画'!K5))","v":0},{"$f":"CELL(\"contents\",'2-1経営収支計画・個人'!O34)","v":0},{"$f":"IF(CELL(\"contents\",'1-1経営改善の計画'!M5)=0,0,CELL(\"contents\",'2-1経営収支計画・個人'!O34)/CELL(\"contents\",'1-1経営改善の計画'!M5))","v":0},{"$f":"CELL(\"contents\",'2-1経営収支計画・個人'!Q34)","v":0},{"$f":"IF(CELL(\"contents\",'1-1経営改善の計画'!O5)=0,0,CELL(\"contents\",'2-1経営収支計画・個人'!Q34)/CELL(\"contents\",'1-1経営改善の計画'!O5))","v":0},{"$f":"CELL(\"contents\",'2-1経営収支計画・個人'!S34)","v":0},{"$f":"IF(CELL(\"contents\",'1-1経営改善の計画'!Q5)=0,0,CELL(\"contents\",'2-1経営収支計画・個人'!S34)/CELL(\"contents\",'1-1経営改善の計画'!Q5))","v":0},{"$f":"CELL(\"contents\",'2-1経営収支計画・個人'!T34)","v":0},{"$f":"IF(CELL(\"contents\",'1-1経営改善の計画'!R5)=0,0,CELL(\"contents\",'2-1経営収支計画・個人'!T34)/CELL(\"contents\",'1-1経営改善の計画'!R5))","v":0},{"$f":"CELL(\"contents\",'2-1経営収支計画・個人'!U34)","v":0},{"$f":"IF(CELL(\"contents\",'1-1経営改善の計画'!S5)=0,0,CELL(\"contents\",'2-1経営収支計画・個人'!U34)/CELL(\"contents\",'1-1経営改善の計画'!S5))","v":0},{"$f":"CELL(\"contents\",'2-1経営収支計画・個人'!V34)","v":0},{"$f":"IF(CELL(\"contents\",'1-1経営改善の計画'!T5)=0,0,CELL(\"contents\",'2-1経営収支計画・個人'!V34)/CELL(\"contents\",'1-1経営改善の計画'!T5))","v":0},{"$f":"CELL(\"contents\",'2-1経営収支計画・個人'!W34)","v":0},{"$f":"IF(CELL(\"contents\",'1-1経営改善の計画'!U5)=0,0,CELL(\"contents\",'2-1経営収支計画・個人'!W34)/CELL(\"contents\",'1-1経営改善の計画'!U5))","v":0},{"$f":"CELL(\"contents\",'2-1経営収支計画・個人'!X34)","v":0},{"$f":"IF(CELL(\"contents\",'1-1経営改善の計画'!V5)=0,0,CELL(\"contents\",'2-1経営収支計画・個人'!X34)/CELL(\"contents\",'1-1経営改善の計画'!V5))","v":0},{"$f":"CELL(\"contents\",'2-1経営収支計画・個人'!Y34)","v":0},{"$f":"IF(CELL(\"contents\",'1-1経営改善の計画'!W5)=0,0,CELL(\"contents\",'2-1経営収支計画・個人'!Y34)/CELL(\"contents\",'1-1経営改善の計画'!W5))","v":0},{"$f":"CELL(\"contents\",'2-1経営収支計画・個人'!Z34)","v":0},{"$f":"IF(CELL(\"contents\",'1-1経営改善の計画'!X5)=0,0,CELL(\"contents\",'2-1経営収支計画・個人'!Z34)/CELL(\"contents\",'1-1経営改善の計画'!X5))","v":0},"→一人当たり家計費は、全体の家計"]
[null,null,"⑦償還財源（前期繰越は含まない）",null,null,null,null,"千円",{"$f":"CELL(\"contents\",'3-1借換後の計画'!J45)","v":0},null,{"$f":"CELL(\"contents\",'3-1借換後の計画'!K45)","v":0},null,{"$f":"CELL(\"contents\",'3-1借換後の計画'!M45)","v":0},null,{"$f":"CELL(\"contents\",'3-1借換後の計画'!N45)","v":0},null,{"$f":"CELL(\"contents\",'3-1借換後の計画'!P45)","v":0},null,{"$f":"CELL(\"contents\",'3-1借換後の計画'!R45)","v":0},null,{"$f":"CELL(\"contents\",'3-1借換後の計画'!T45)","v":0},null,{"$f":"CELL(\"contents\",'3-1借換後の計画'!U45)","v":0},null,{"$f":"CELL(\"contents\",'3-1借換後の計画'!V45)","v":0},null,{"$f":"CELL(\"contents\",'3-1借換後の計画'!W45)","v":0},null,{"$f":"CELL(\"contents\",'3-1借換後の計画'!X45)","v":0},null,{"$f":"CELL(\"contents\",'3-1借換後の計画'!Y45)","v":0},null,{"$f":"CELL(\"contents\",'3-1借換後の計画'!Z45)","v":0},null,{"$f":"CELL(\"contents\",'3-1借換後の計画'!AA45)","v":0},null,"　費を同居の家族数で除して求める"]
[null,null,"⑧約定償還金",null,null,"元金",null,"千円",{"$f":"CELL(\"contents\",'6償還表(条件緩和後)'!M109) + CELL(\"contents\",'3-1借換後の計画'!J55)","v":0},null,{"$f":"CELL(\"contents\",'6償還表(条件緩和後)'!N109) + CELL(\"contents\",'3-1借換後の計画'!K55)","v":0},null,{"$f":"CELL(\"contents\",'6償還表(条件緩和後)'!O109) + CELL(\"contents\",'3-1借換後の計画'!M55)","v":0},null,{"$f":"CELL(\"contents\",'6償還表(条件緩和後)'!P109) + CELL(\"contents\",'3-1借換後の計画'!N55)","v":0},null,{"$f":"CELL(\"contents\",'6償還表(条件緩和後)'!Q109) + CELL(\"contents\",'3-1借換後の計画'!P55)","v":0},null,{"$f":"CELL(\"contents\",'6償還表(条件緩和後)'!R109) + CELL(\"contents\",'3-1借換後の計画'!R55)","v":0},null,{"$f":"CELL(\"contents\",'6償還表(条件緩和後)'!S109) + CELL(\"contents\",'3-1借換後の計画'!T55)","v":0},null,{"$f":"CELL(\"contents\",'6償還表(条件緩和後)'!T109) + CELL(\"contents\",'3-1借換後の計画'!U55)","v":0},null,{"$f":"CELL(\"contents\",'6償還表(条件緩和後)'!U109) + CELL(\"contents\",'3-1借換後の計画'!V55)","v":0},null,{"$f":"CELL(\"contents\",'6償還表(条件緩和後)'!V109) + CELL(\"contents\",'3-1借換後の計画'!W55)","v":0},null,{"$f":"CELL(\"contents\",'6償還表(条件緩和後)'!W109) + CELL(\"contents\",'3-1借換後の計画'!X55)","v":0},null,{"$f":"CELL(\"contents\",'6償還表(条件緩和後)'!X109) + CELL(\"contents\",'3-1借換後の計画'!Y55)","v":0},null,{"$f":"CELL(\"contents\",'6償還表(条件緩和後)'!Y109) + CELL(\"contents\",'3-1借換後の計画'!Z55)","v":0},null,{"$f":"CELL(\"contents\",'6償還表(条件緩和後)'!Z109) + CELL(\"contents\",'3-1借換後の計画'!AA55)","v":0}]
[null,null,null,null,null,"利息",null,"千円",{"$f":"CELL(\"contents\",'3-1借換後の計画'!J42) - (CELL(\"contents\",'6償還表(条件緩和後)'!M109) + CELL(\"contents\",'3-1借換後の計画'!J55))","v":0},null,{"$f":"CELL(\"contents\",'3-1借換後の計画'!K42) - (CELL(\"contents\",'6償還表(条件緩和後)'!N109) + CELL(\"contents\",'3-1借換後の計画'!K55))","v":0},null,{"$f":"CELL(\"contents\",'3-1借換後の計画'!M42) - (CELL(\"contents\",'6償還表(条件緩和後)'!O109) + CELL(\"contents\",'3-1借換後の計画'!M55))","v":0},null,{"$f":"CELL(\"contents\",'3-1借換後の計画'!N42) - (CELL(\"contents\",'6償還表(条件緩和後)'!P109) + CELL(\"contents\",'3-1借換後の計画'!N55))","v":0},null,{"$f":"CELL(\"contents\",'3-1借換後の計画'!P42) - (CELL(\"contents\",'6償還表(条件緩和後)'!Q109) + CELL(\"contents\",'3-1借換後の計画'!P55))","v":0},null,{"$f":"CELL(\"contents\",'3-1借換後の計画'!R42) - (CELL(\"contents\",'6償還表(条件緩和後)'!R109) + CELL(\"contents\",'3-1借換後の計画'!R55))","v":0},null,{"$f":"CELL(\"contents\",'3-1借換後の計画'!T42) - (CELL(\"contents\",'6償還表(条件緩和後)'!S109) + CELL(\"contents\",'3-1借換後の計画'!T55))","v":0},null,{"$f":"CELL(\"contents\",'3-1借換後の計画'!U42) - (CELL(\"contents\",'6償還表(条件緩和後)'!T109) + CELL(\"contents\",'3-1借換後の計画'!U55))","v":0},null,{"$f":"CELL(\"contents\",'3-1借換後の計画'!V42) - (CELL(\"contents\",'6償還表(条件緩和後)'!U109) + CELL(\"contents\",'3-1借換後の計画'!V55))","v":0},null,{"$f":"CELL(\"contents\",'3-1借換後の計画'!W42) - (CELL(\"contents\",'6償還表(条件緩和後)'!V109) + CELL(\"contents\",'3-1借換後の計画'!W55))","v":0},null,{"$f":"CELL(\"contents\",'3-1借換後の計画'!X42) - (CELL(\"contents\",'6償還表(条件緩和後)'!W109) + CELL(\"contents\",'3-1借換後の計画'!X55))","v":0},null,{"$f":"CELL(\"contents\",'3-1借換後の計画'!Y42) - (CELL(\"contents\",'6償還表(条件緩和後)'!X109) + CELL(\"contents\",'3-1借換後の計画'!Y55))","v":0},null,{"$f":"CELL(\"contents\",'3-1借換後の計画'!Z42) - (CELL(\"contents\",'6償還表(条件緩和後)'!Y109) + CELL(\"contents\",'3-1借換後の計画'!Z55))","v":0},null,{"$f":"CELL(\"contents\",'3-1借換後の計画'!AA42) - (CELL(\"contents\",'6償還表(条件緩和後)'!Z109) + CELL(\"contents\",'3-1借換後の計画'!AA55))","v":0}]
[null,null,null,null,null,"計",null,"千円",{"$f":"CELL(\"contents\",'3-1借換後の計画'!J42)","v":0},null,{"$f":"CELL(\"contents\",'3-1借換後の計画'!K42)","v":0},null,{"$f":"CELL(\"contents\",'3-1借換後の計画'!M42)","v":0},null,{"$f":"CELL(\"contents\",'3-1借換後の計画'!N42)","v":0},null,{"$f":"CELL(\"contents\",'3-1借換後の計画'!P42)","v":0},null,{"$f":"CELL(\"contents\",'3-1借換後の計画'!R42)","v":0},null,{"$f":"CELL(\"contents\",'3-1借換後の計画'!T42)","v":0},null,{"$f":"CELL(\"contents\",'3-1借換後の計画'!U42)","v":0},null,{"$f":"CELL(\"contents\",'3-1借換後の計画'!V42)","v":0},null,{"$f":"CELL(\"contents\",'3-1借換後の計画'!W42)","v":0},null,{"$f":"CELL(\"contents\",'3-1借換後の計画'!X42)","v":0},null,{"$f":"CELL(\"contents\",'3-1借換後の計画'!Y42)","v":0},null,{"$f":"CELL(\"contents\",'3-1借換後の計画'!Z42)","v":0},null,{"$f":"CELL(\"contents\",'3-1借換後の計画'!AA42)","v":0}]
[null,null,"⑨過不足（⑦－⑧）",null,null,null,null,"千円",{"$f":"CELL(\"contents\",'3-1借換後の計画'!J45)-CELL(\"contents\",'3-1借換後の計画'!J42)","v":0},null,{"$f":"CELL(\"contents\",'3-1借換後の計画'!K45)-CELL(\"contents\",'3-1借換後の計画'!K42)","v":0},null,{"$f":"CELL(\"contents\",'3-1借換後の計画'!M45)-CELL(\"contents\",'3-1借換後の計画'!M42)","v":0},null,{"$f":"CELL(\"contents\",'3-1借換後の計画'!N45)-CELL(\"contents\",'3-1借換後の計画'!N42)","v":0},null,{"$f":"CELL(\"contents\",'3-1借換後の計画'!P45)-CELL(\"contents\",'3-1借換後の計画'!P42)","v":0},null,{"$f":"CELL(\"contents\",'3-1借換後の計画'!R45)-CELL(\"contents\",'3-1借換後の計画'!R42)","v":0},null,{"$f":"CELL(\"contents\",'3-1借換後の計画'!T45)-CELL(\"contents\",'3-1借換後の計画'!T42)","v":0},null,{"$f":"CELL(\"contents\",'3-1借換後の計画'!U45)-CELL(\"contents\",'3-1借換後の計画'!U42)","v":0},null,{"$f":"CELL(\"contents\",'3-1借換後の計画'!V45)-CELL(\"contents\",'3-1借換後の計画'!V42)","v":0},null,{"$f":"CELL(\"contents\",'3-1借換後の計画'!W45)-CELL(\"contents\",'3-1借換後の計画'!W42)","v":0},null,{"$f":"CELL(\"contents\",'3-1借換後の計画'!X45)-CELL(\"contents\",'3-1借換後の計画'!X42)","v":0},null,{"$f":"CELL(\"contents\",'3-1借換後の計画'!Y45)-CELL(\"contents\",'3-1借換後の計画'!Y42)","v":0},null,{"$f":"CELL(\"contents\",'3-1借換後の計画'!Z45)-CELL(\"contents\",'3-1借換後の計画'!Z42)","v":0},null,{"$f":"CELL(\"contents\",'3-1借換後の計画'!AA45)-CELL(\"contents\",'3-1借換後の計画'!AA42)","v":0}]
[null,null,null,"経済階層の区分（下記注参照）",null,null,null,"階層",{"$f":"IF(OR(I47=0,I46=0),\"\",I51)","v":""},null,{"$f":"IF(OR(K47=0,K46=0),\"\",K51)","v":""},null,{"$f":"IF(OR(M47=0,M46=0),\"\",M51)","v":""},null,{"$f":"IF(OR(O47=0,O46=0),\"\",O51)","v":""},null,{"$f":"IF(OR(Q47=0,Q46=0),\"\",Q51)","v":""},null,{"$f":"IF(OR(S47=0,S46=0),\"\",S51)","v":""},null,{"$f":"IF(OR(U47=0,U46=0),\"\",U51)","v":""},null,{"$f":"IF(OR(W47=0,W46=0),\"\",W51)","v":""},null,{"$f":"IF(OR(Y47=0,Y46=0),\"\",Y51)","v":""},null,{"$f":"IF(OR(AA47=0,AA46=0),\"\",AA51)","v":""},null,{"$f":"IF(OR(AC47=0,AC46=0),\"\",AC51)","v":""},null,{"$f":"IF(OR(AE47=0,AE46=0),\"\",AE51)","v":""},null,{"$f":"IF(OR(AG47=0,AG46=0),\"\",AG51)","v":""},null,{"$f":"IF(OR(AI47=0,AI46=0),\"\",AI51)","v":""}]
[null,null,{"$f":"\"⑩\"&IF(配列シート!G3=0,\"\",IF(配列シート!G3=1,配列シート!H20,配列シート!H21)&\"対策額\")","v":"⑩"},null,null,null,null,"千円",{"$f":"I58","v":0},null,{"$f":"K58","v":0},null,{"$f":"M58","v":0},null,{"$f":"O58","v":0},null,{"$f":"Q58","v":0},null,{"$f":"S58","v":0},null,{"$f":"U58","v":0},null,{"$f":"W58","v":0},null,{"$f":"Y58","v":0},null,{"$f":"AA58","v":0},null,{"$f":"AC58","v":0},null,{"$f":"AE58","v":0},null,{"$f":"AG58","v":0},null,{"$f":"AI58","v":0}]
[]
[null,"既借入金残高（各年末時点）",null,null,null,null,null,"千円",{"$f":"CELL(\"contents\",'6償還表(条件緩和後)'!$AA$113)","v":0},null,{"$f":"CELL(\"contents\",'6償還表(条件緩和後)'!$AB$113)","v":0},null,{"$f":"CELL(\"contents\",'6償還表(条件緩和後)'!$AC$113)","v":0},null,{"$f":"CELL(\"contents\",'6償還表(条件緩和後)'!$AD$113)","v":0},null,{"$f":"CELL(\"contents\",'6償還表(条件緩和後)'!$AE$113)","v":0},null,{"$f":"CELL(\"contents\",'6償還表(条件緩和後)'!$AF$113)","v":0},null,{"$f":"CELL(\"contents\",'6償還表(条件緩和後)'!$AG$113)","v":0},null,{"$f":"CELL(\"contents\",'6償還表(条件緩和後)'!$AH$113)","v":0},null,{"$f":"CELL(\"contents\",'6償還表(条件緩和後)'!$AI$113)","v":0},null,{"$f":"CELL(\"contents\",'6償還表(条件緩和後)'!$AJ$113)","v":0},null,{"$f":"CELL(\"contents\",'6償還表(条件緩和後)'!$AK$113)","v":0},null,{"$f":"CELL(\"contents\",'6償還表(条件緩和後)'!$AL$113)","v":0},null,{"$f":"CELL(\"contents\",'6償還表(条件緩和後)'!$AM$113)","v":0},null,{"$f":"CELL(\"contents\",'6償還表(条件緩和後)'!$AN$113)","v":0},null,"資金名"]
[null,null,"うち畜産特別資金",null,null,null,null,"千円",{"$f":"CELL(\"contents\",'6償還表(条件緩和後)'!$AA$63)","v":0},null,{"$f":"CELL(\"contents\",'6償還表(条件緩和後)'!$AB$63)","v":0},null,{"$f":"CELL(\"contents\",'6償還表(条件緩和後)'!$AC$63)","v":0},null,{"$f":"CELL(\"contents\",'6償還表(条件緩和後)'!$AD$63)","v":0},null,{"$f":"CELL(\"contents\",'6償還表(条件緩和後)'!$AE$63)","v":0},null,{"$f":"CELL(\"contents\",'6償還表(条件緩和後)'!$AF$63)","v":0},null,{"$f":"CELL(\"contents\",'6償還表(条件緩和後)'!$AG$63)","v":0},null,{"$f":"CELL(\"contents\",'6償還表(条件緩和後)'!$AH$63)","v":0},null,{"$f":"CELL(\"contents\",'6償還表(条件緩和後)'!$AI$63)","v":0},null,{"$f":"CELL(\"contents\",'6償還表(条件緩和後)'!$AJ$63)","v":0},null,{"$f":"CELL(\"contents\",'6償還表(条件緩和後)'!$AK$63)","v":0},null,{"$f":"CELL(\"contents\",'6償還表(条件緩和後)'!$AL$63)","v":0},null,{"$f":"CELL(\"contents\",'6償還表(条件緩和後)'!$AM$63)","v":0},null,{"$f":"CELL(\"contents\",'6償還表(条件緩和後)'!$AN$63)","v":0},null,"近代化資金、"]
[null,"買掛未払金等残高（各年末時点）",null,null,null,null,null,"千円",{"$f":"CELL(\"contents\",'6償還表(条件緩和後)'!$AA$114)","v":0},null,{"$f":"CELL(\"contents\",'6償還表(条件緩和後)'!$AB$114)","v":0},null,{"$f":"CELL(\"contents\",'6償還表(条件緩和後)'!$AC$114)","v":0},null,{"$f":"CELL(\"contents\",'6償還表(条件緩和後)'!$AD$114)","v":0},null,{"$f":"CELL(\"contents\",'6償還表(条件緩和後)'!$AE$114)","v":0},null,{"$f":"CELL(\"contents\",'6償還表(条件緩和後)'!$AF$114)","v":0},null,{"$f":"CELL(\"contents\",'6償還表(条件緩和後)'!$AG$114)","v":0},null,{"$f":"CELL(\"contents\",'6償還表(条件緩和後)'!$AH$114)","v":0},null,{"$f":"CELL(\"contents\",'6償還表(条件緩和後)'!$AI$114)","v":0},null,{"$f":"CELL(\"contents\",'6償還表(条件緩和後)'!$AJ$114)","v":0},null,{"$f":"CELL(\"contents\",'6償還表(条件緩和後)'!$AK$114)","v":0},null,{"$f":"CELL(\"contents\",'6償還表(条件緩和後)'!$AL$114)","v":0},null,{"$f":"CELL(\"contents\",'6償還表(条件緩和後)'!$AM$114)","v":0},null,{"$f":"CELL(\"contents\",'6償還表(条件緩和後)'!$AN$114)","v":0},null,"養豚特別支援(新)資金、"]
[null,"平均払仮払金（各年末時点）",null,null,null,null,null,"千円",null,null,null,null,null,null,null,null,null,null,null,null,null,null,null,null,null,null,null,null,null,null,null,null,null,null,null,null,"農協系統一般資金"]
[]
[null,"（注）経済階層は、⑨過不足の程度により以下の区分で記入する。（アルファベットのみ）"]
[null,"・ＳＡ層＝目標所得に既に到達している者"]
[null,"・Ａ　層＝約定償還元利金の支払が可能"]
[null,"・Ｂ　層＝約定償還利息全額、約定償還元金の一部が返済可能"]
[null,"・Ｃ　層＝約定償還利息の一部が返済可能"]
[null,"・Ｄ　層＝目約定償還元利金の返済が全く不可能"]
[null,"（注）目標年次と当年の可処分収入を入力しないと表示されません。"]
[]
[]
[null,null,null,null,"①'修正経常利益（目標年次）：",null,null,null,{"$f":"IF(OR(配列シート!$B$8+10<配列シート!$B$9,配列シート!$B$8>配列シート!$B$9),0,HLOOKUP(配列シート!$B$9,'2-1経営収支計画・個人'!$M$3:$Z$33,31,FALSE))","v":0},null,{"$f":"IF(OR(配列シート!$B$8+10<配列シート!$B$9,配列シート!$B$8>配列シート!$B$9),0,HLOOKUP(配列シート!$B$9,'2-1経営収支計画・個人'!$M$3:$Z$33,31,FALSE))","v":0},null,{"$f":"IF(OR(配列シート!$B$8+10<配列シート!$B$9,配列シート!$B$8>配列シート!$B$9),0,HLOOKUP(配列シート!$B$9,'2-1経営収支計画・個人'!$M$3:$Z$33,31,FALSE))","v":0},null,{"$f":"IF(OR(配列シート!$B$8+10<配列シート!$B$9,配列シート!$B$8>配列シート!$B$9),0,HLOOKUP(配列シート!$B$9,'2-1経営収支計画・個人'!$M$3:$Z$33,31,FALSE))","v":0},null,{"$f":"IF(OR(配列シート!$B$8+10<配列シート!$B$9,配列シート!$B$8>配列シート!$B$9),0,HLOOKUP(配列シート!$B$9,'2-1経営収支計画・個人'!$M$3:$Z$33,31,FALSE))","v":0},null,{"$f":"IF(OR(配列シート!$B$8+10<配列シート!$B$9,配列シート!$B$8>配列シート!$B$9),0,HLOOKUP(配列シート!$B$9,'2-1経営収支計画・個人'!$M$3:$Z$33,31,FALSE))","v":0},null,{"$f":"IF(OR(配列シート!$B$8+10<配列シート!$B$9,配列シート!$B$8>配列シート!$B$9),0,HLOOKUP(配列シート!$B$9,'2-1経営収支計画・個人'!$M$3:$Z$33,31,FALSE))","v":0},null,{"$f":"IF(OR(配列シート!$B$8+10<配列シート!$B$9,配列シート!$B$8>配列シート!$B$9),0,HLOOKUP(配列シート!$B$9,'2-1経営収支計画・個人'!$M$3:$Z$33,31,FALSE))","v":0},null,{"$f":"IF(OR(配列シート!$B$8+10<配列シート!$B$9,配列シート!$B$8>配列シート!$B$9),0,HLOOKUP(配列シート!$B$9,'2-1経営収支計画・個人'!$M$3:$Z$33,31,FALSE))","v":0},null,{"$f":"IF(OR(配列シート!$B$8+10<配列シート!$B$9,配列シート!$B$8>配列シート!$B$9),0,HLOOKUP(配列シート!$B$9,'2-1経営収支計画・個人'!$M$3:$Z$33,31,FALSE))","v":0},null,{"$f":"IF(OR(配列シート!$B$8+10<配列シート!$B$9,配列シート!$B$8>配列シート!$B$9),0,HLOOKUP(配列シート!$B$9,'2-1経営収支計画・個人'!$M$3:$Z$33,31,FALSE))","v":0},null,{"$f":"IF(OR(配列シート!$B$8+10<配列シート!$B$9,配列シート!$B$8>配列シート!$B$9),0,HLOOKUP(配列シート!$B$9,'2-1経営収支計画・個人'!$M$3:$Z$33,31,FALSE))","v":0},null,{"$f":"IF(OR(配列シート!$B$8+10<配列シート!$B$9,配列シート!$B$8>配列シート!$B$9),0,HLOOKUP(配列シート!$B$9,'2-1経営収支計画・個人'!$M$3:$Z$33,31,FALSE))","v":0},null,{"$f":"IF(OR(配列シート!$B$8+10<配列シート!$B$9,配列シート!$B$8>配列シート!$B$9),0,HLOOKUP(配列シート!$B$9,'2-1経営収支計画・個人'!$M$3:$Z$33,31,FALSE))","v":0}]
[null,null,null,null,"①修正経常利益：",null,null,null,{"$f":"CELL(\"contents\",'2-1経営収支計画・個人'!I33)","v":0},null,{"$f":"CELL(\"contents\",'2-1経営収支計画・個人'!J33)","v":0},null,{"$f":"CELL(\"contents\",'2-1経営収支計画・個人'!L33)","v":0},null,{"$f":"CELL(\"contents\",'2-1経営収支計画・個人'!M33)","v":0},null,{"$f":"CELL(\"contents\",'2-1経営収支計画・個人'!O33)","v":0},null,{"$f":"CELL(\"contents\",'2-1経営収支計画・個人'!Q33)","v":0},null,{"$f":"CELL(\"contents\",'2-1経営収支計画・個人'!S33)","v":0},null,{"$f":"CELL(\"contents\",'2-1経営収支計画・個人'!T33)","v":0},null,{"$f":"CELL(\"contents\",'2-1経営収支計画・個人'!U33)","v":0},null,{"$f":"CELL(\"contents\",'2-1経営収支計画・個人'!V33)","v":0},null,{"$f":"CELL(\"contents\",'2-1経営収支計画・個人'!W33)","v":0},null,{"$f":"CELL(\"contents\",'2-1経営収支計画・個人'!X33)","v":0},null,{"$f":"CELL(\"contents\",'2-1経営収支計画・個人'!Y33)","v":0},null,{"$f":"CELL(\"contents\",'2-1経営収支計画・個人'!Z33)","v":0}]
[null,null,null,null,"②要償還額：",null,null,null,{"$f":"IF(OR(CELL(\"contents\",'3-1借換後の計画'!J76)>0,CELL(\"contents\",'3-1借換後の計画'!J79)>0),I62,I66)","v":0},null,{"$f":"IF(OR(CELL(\"contents\",'3-1借換後の計画'!K76)>0,CELL(\"contents\",'3-1借換後の計画'!K79)>0),K62,K66)","v":0},null,{"$f":"IF(OR(CELL(\"contents\",'3-1借換後の計画'!M76)>0,CELL(\"contents\",'3-1借換後の計画'!M79)>0),M62,M66)","v":0},null,{"$f":"IF(OR(CELL(\"contents\",'3-1借換後の計画'!N76)>0,CELL(\"contents\",'3-1借換後の計画'!N79)>0),O62,O66)","v":0},null,{"$f":"IF(OR(CELL(\"contents\",'3-1借換後の計画'!P76)>0,CELL(\"contents\",'3-1借換後の計画'!P79)>0),Q62,Q66)","v":0},null,{"$f":"IF(OR(CELL(\"contents\",'3-1借換後の計画'!R76)>0,CELL(\"contents\",'3-1借換後の計画'!R79)>0),S62,S66)","v":0},null,{"$f":"IF(OR(CELL(\"contents\",'3-1借換後の計画'!T76)>0,CELL(\"contents\",'3-1借換後の計画'!T79)>0),U62,U66)","v":0},null,{"$f":"IF(OR(CELL(\"contents\",'3-1借換後の計画'!U76)>0,CELL(\"contents\",'3-1借換後の計画'!U79)>0),W62,W66)","v":0},null,{"$f":"IF(OR(CELL(\"contents\",'3-1借換後の計画'!V76)>0,CELL(\"contents\",'3-1借換後の計画'!V79)>0),Y62,Y66)","v":0},null,{"$f":"IF(OR(CELL(\"contents\",'3-1借換後の計画'!W76)>0,CELL(\"contents\",'3-1借換後の計画'!W79)>0),AA62,AA66)","v":0},null,{"$f":"IF(OR(CELL(\"contents\",'3-1借換後の計画'!X76)>0,CELL(\"contents\",'3-1借換後の計画'!X79)>0),AC62,AC66)","v":0},null,{"$f":"IF(OR(CELL(\"contents\",'3-1借換後の計画'!Y76)>0,CELL(\"contents\",'3-1借換後の計画'!Y79)>0),AE62,AE66)","v":0},null,{"$f":"IF(OR(CELL(\"contents\",'3-1借換後の計画'!Z76)>0,CELL(\"contents\",'3-1借換後の計画'!Z79)>0),AG62,AG66)","v":0},null,{"$f":"IF(OR(CELL(\"contents\",'3-1借換後の計画'!AA76)>0,CELL(\"contents\",'3-1借換後の計画'!AA79)>0),AI62,AI66)","v":0}]
[null,null,null,null,"③要償還額－要償還額元金：",null,null,null,{"$f":"IF(OR(CELL(\"contents\",'3-1借換後の計画'!J77)>0,CELL(\"contents\",'3-1借換後の計画'!J80)>0),I63,I67)","v":0},null,{"$f":"IF(OR(CELL(\"contents\",'3-1借換後の計画'!K77)>0,CELL(\"contents\",'3-1借換後の計画'!K80)>0),K63,K67)","v":0},null,{"$f":"IF(OR(CELL(\"contents\",'3-1借換後の計画'!M77)>0,CELL(\"contents\",'3-1借換後の計画'!M80)>0),M63,M67)","v":0},null,{"$f":"IF(OR(CELL(\"contents\",'3-1借換後の計画'!N77)>0,CELL(\"contents\",'3-1借換後の計画'!N80)>0),O63,O67)","v":0},null,{"$f":"IF(OR(CELL(\"contents\",'3-1借換後の計画'!P77)>0,CELL(\"contents\",'3-1借換後の計画'!P80)>0),Q63,Q67)","v":0},null,{"$f":"IF(OR(CELL(\"contents\",'3-1借換後の計画'!R77)>0,CELL(\"contents\",'3-1借換後の計画'!R80)>0),S63,S67)","v":0},null,{"$f":"IF(OR(CELL(\"contents\",'3-1借換後の計画'!T77)>0,CELL(\"contents\",'3-1借換後の計画'!T80)>0),U63,U67)","v":0},null,{"$f":"IF(OR(CELL(\"contents\",'3-1借換後の計画'!U77)>0,CELL(\"contents\",'3-1借換後の計画'!U80)>0),W63,W67)","v":0},null,{"$f":"IF(OR(CELL(\"contents\",'3-1借換後の計画'!V77)>0,CELL(\"contents\",'3-1借換後の計画'!V80)>0),Y63,Y67)","v":0},null,{"$f":"IF(OR(CELL(\"contents\",'3-1借換後の計画'!W77)>0,CELL(\"contents\",'3-1借換後の計画'!W80)>0),AA63,AA67)","v":0},null,{"$f":"IF(OR(CELL(\"contents\",'3-1借換後の計画'!X77)>0,CELL(\"contents\",'3-1借換後の計画'!X80)>0),AC63,AC67)","v":0},null,{"$f":"IF(OR(CELL(\"contents\",'3-1借換後の計画'!Y77)>0,CELL(\"contents\",'3-1借換後の計画'!Y80)>0),AE63,AE67)","v":0},null,{"$f":"IF(OR(CELL(\"contents\",'3-1借換後の計画'!Z77)>0,CELL(\"contents\",'3-1借換後の計画'!Z80)>0),AG63,AG67)","v":0},null,{"$f":"IF(OR(CELL(\"contents\",'3-1借換後の計画'!AA77)>0,CELL(\"contents\",'3-1借換後の計画'!AA80)>0),AI63,AI67)","v":0}]
[null,null,null,null,"④0（ゼロ）",null,null,null,{"$f":"CELL(\"contents\",'2-1経営収支計画・個人'!I34)","v":0},null,{"$f":"CELL(\"contents\",'2-1経営収支計画・個人'!J34)","v":0},null,{"$f":"CELL(\"contents\",'2-1経営収支計画・個人'!L34)","v":0},null,{"$f":"CELL(\"contents\",'2-1経営収支計画・個人'!M34)","v":0},null,{"$f":"CELL(\"contents\",'2-1経営収支計画・個人'!O34)","v":0},null,{"$f":"CELL(\"contents\",'2-1経営収支計画・個人'!Q34)","v":0},null,{"$f":"CELL(\"contents\",'2-1経営収支計画・個人'!S34)","v":0},null,{"$f":"CELL(\"contents\",'2-1経営収支計画・個人'!T34)","v":0},null,{"$f":"CELL(\"contents\",'2-1経営収支計画・個人'!W34)","v":0},null,{"$f":"CELL(\"contents\",'2-1経営収支計画・個人'!V34)","v":0},null,{"$f":"CELL(\"contents\",'2-1経営収支計画・個人'!W34)","v":0},null,{"$f":"CELL(\"contents\",'2-1経営収支計画・個人'!X34)","v":0},null,{"$f":"CELL(\"contents\",'2-1経営収支計画・個人'!Y34)","v":0},null,{"$f":"CELL(\"contents\",'2-1経営収支計画・個人'!Z34)","v":0}]
[null,null,null,null,"経済階層の区分",null,null,null,{"$f":"IF(AND(I47>=I46,I47>=I48),\"SA\",IF(I47>=I48,\"A\",IF(AND(I48>I47,I47>=I49),\"B\",IF(AND(I49>I47,I47>=I50),\"C\",\"D\"))))","v":"SA"},null,{"$f":"IF(AND(K47>=K46,K47>=K48),\"SA\",IF(K47>=K48,\"A\",IF(AND(K48>K47,K47>=K49),\"B\",IF(AND(K49>K47,K47>=K50),\"C\",\"D\"))))","v":"SA"},null,{"$f":"IF(AND(M47>=M46,M47>=M48),\"SA\",IF(M47>=M48,\"A\",IF(AND(M48>M47,M47>=M49),\"B\",IF(AND(M49>M47,M47>=M50),\"C\",\"D\"))))","v":"SA"},null,{"$f":"IF(AND(O47>=O46,O47>=O48),\"SA\",IF(O47>=O48,\"A\",IF(AND(O48>O47,O47>=O49),\"B\",IF(AND(O49>O47,O47>=O50),\"C\",\"D\"))))","v":"SA"},null,{"$f":"IF(AND(Q47>=Q46,Q47>=Q48),\"SA\",IF(Q47>=Q48,\"A\",IF(AND(Q48>Q47,Q47>=Q49),\"B\",IF(AND(Q49>Q47,Q47>=Q50),\"C\",\"D\"))))","v":"SA"},null,{"$f":"IF(AND(S47>=S46,S47>=S48),\"SA\",IF(S47>=S48,\"A\",IF(AND(S48>S47,S47>=S49),\"B\",IF(AND(S49>S47,S47>=S50),\"C\",\"D\"))))","v":"SA"},null,{"$f":"IF(AND(U47>=U46,U47>=U48),\"SA\",IF(U47>=U48,\"A\",IF(AND(U48>U47,U47>=U49),\"B\",IF(AND(U49>U47,U47>=U50),\"C\",\"D\"))))","v":"SA"},null,{"$f":"IF(AND(W47>=W46,W47>=W48),\"SA\",IF(W47>=W48,\"A\",IF(AND(W48>W47,W47>=W49),\"B\",IF(AND(W49>W47,W47>=W50),\"C\",\"D\"))))","v":"SA"},null,{"$f":"IF(AND(Y47>=Y46,Y47>=Y48),\"SA\",IF(Y47>=Y48,\"A\",IF(AND(Y48>Y47,Y47>=Y49),\"B\",IF(AND(Y49>Y47,Y47>=Y50),\"C\",\"D\"))))","v":"SA"},null,{"$f":"IF(AND(AA47>=AA46,AA47>=AA48),\"SA\",IF(AA47>=AA48,\"A\",IF(AND(AA48>AA47,AA47>=AA49),\"B\",IF(AND(AA49>AA47,AA47>=AA50),\"C\",\"D\"))))","v":"SA"},null,{"$f":"IF(AND(AC47>=AC46,AC47>=AC48),\"SA\",IF(AC47>=AC48,\"A\",IF(AND(AC48>AC47,AC47>=AC49),\"B\",IF(AND(AC49>AC47,AC47>=AC50),\"C\",\"D\"))))","v":"SA"},null,{"$f":"IF(AND(AE47>=AE46,AE47>=AE48),\"SA\",IF(AE47>=AE48,\"A\",IF(AND(AE48>AE47,AE47>=AE49),\"B\",IF(AND(AE49>AE47,AE47>=AE50),\"C\",\"D\"))))","v":"SA"},null,{"$f":"IF(AND(AG47>=AG46,AG47>=AG48),\"SA\",IF(AG47>=AG48,\"A\",IF(AND(AG48>AG47,AG47>=AG49),\"B\",IF(AND(AG49>AG47,AG47>=AG50),\"C\",\"D\"))))","v":"SA"},null,{"$f":"IF(AND(AI47>=AI46,AI47>=AI48),\"SA\",IF(AI47>=AI48,\"A\",IF(AND(AI48>AI47,AI47>=AI49),\"B\",IF(AND(AI49>AI47,AI47>=AI50),\"C\",\"D\"))))","v":"SA"}]
[]
[null,null,null,null,"25年度",null,null,null,{"$f":"CELL(\"contents\",'3-2借換額内訳'!$I$7)","v":0},null,{"$f":"CELL(\"contents\",'3-2借換額内訳'!$I$7)","v":0},null,{"$f":"CELL(\"contents\",'3-2借換額内訳'!$I$7)","v":0},null,{"$f":"CELL(\"contents\",'3-2借換額内訳'!$I$7)","v":0},null,{"$f":"CELL(\"contents\",'3-2借換額内訳'!$I$7)","v":0},null,{"$f":"CELL(\"contents\",'3-2借換額内訳'!$I$7)","v":0},null,{"$f":"CELL(\"contents\",'3-2借換額内訳'!$I$7)","v":0},null,{"$f":"CELL(\"contents\",'3-2借換額内訳'!$I$7)","v":0},null,{"$f":"CELL(\"contents\",'3-2借換額内訳'!$I$7)","v":0},null,{"$f":"CELL(\"contents\",'3-2借換額内訳'!$I$7)","v":0},null,{"$f":"CELL(\"contents\",'3-2借換額内訳'!$I$7)","v":0},null,{"$f":"CELL(\"contents\",'3-2借換額内訳'!$I$7)","v":0},null,{"$f":"CELL(\"contents\",'3-2借換額内訳'!$I$7)","v":0},null,{"$f":"CELL(\"contents\",'3-2借換額内訳'!$I$7)","v":0}]
[null,null,null,null,"26年度",null,null,null,{"$f":"CELL(\"contents\",'3-2借換額内訳'!$I$8)","v":0},null,{"$f":"CELL(\"contents\",'3-2借換額内訳'!$I$8)","v":0},null,{"$f":"CELL(\"contents\",'3-2借換額内訳'!$I$8)","v":0},null,{"$f":"CELL(\"contents\",'3-2借換額内訳'!$I$8)","v":0},null,{"$f":"CELL(\"contents\",'3-2借換額内訳'!$I$8)","v":0},null,{"$f":"CELL(\"contents\",'3-2借換額内訳'!$I$8)","v":0},null,{"$f":"CELL(\"contents\",'3-2借換額内訳'!$I$8)","v":0},null,{"$f":"CELL(\"contents\",'3-2借換額内訳'!$I$8)","v":0},null,{"$f":"CELL(\"contents\",'3-2借換額内訳'!$I$8)","v":0},null,{"$f":"CELL(\"contents\",'3-2借換額内訳'!$I$8)","v":0},null,{"$f":"CELL(\"contents\",'3-2借換額内訳'!$I$8)","v":0},null,{"$f":"CELL(\"contents\",'3-2借換額内訳'!$I$8)","v":0},null,{"$f":"CELL(\"contents\",'3-2借換額内訳'!$I$8)","v":0},null,{"$f":"CELL(\"contents\",'3-2借換額内訳'!$I$8)","v":0}]
[null,null,null,null,"27年度",null,null,null,{"$f":"CELL(\"contents\",'3-2借換額内訳'!$I$9)","v":0},null,{"$f":"CELL(\"contents\",'3-2借換額内訳'!$I$9)","v":0},null,{"$f":"CELL(\"contents\",'3-2借換額内訳'!$I$9)","v":0},null,{"$f":"CELL(\"contents\",'3-2借換額内訳'!$I$9)","v":0},null,{"$f":"CELL(\"contents\",'3-2借換額内訳'!$I$9)","v":0},null,{"$f":"CELL(\"contents\",'3-2借換額内訳'!$I$9)","v":0},null,{"$f":"CELL(\"contents\",'3-2借換額内訳'!$I$9)","v":0},null,{"$f":"CELL(\"contents\",'3-2借換額内訳'!$I$9)","v":0},null,{"$f":"CELL(\"contents\",'3-2借換額内訳'!$I$9)","v":0},null,{"$f":"CELL(\"contents\",'3-2借換額内訳'!$I$9)","v":0},null,{"$f":"CELL(\"contents\",'3-2借換額内訳'!$I$9)","v":0},null,{"$f":"CELL(\"contents\",'3-2借換額内訳'!$I$9)","v":0},null,{"$f":"CELL(\"contents\",'3-2借換額内訳'!$I$9)","v":0},null,{"$f":"CELL(\"contents\",'3-2借換額内訳'!$I$9)","v":0}]
[null,null,null,null,"28年度",null,null,null,{"$f":"CELL(\"contents\",'3-2借換額内訳'!$I$10)","v":0},null,{"$f":"CELL(\"contents\",'3-2借換額内訳'!$I$10)","v":0},null,{"$f":"CELL(\"contents\",'3-2借換額内訳'!$I$10)","v":0},null,{"$f":"CELL(\"contents\",'3-2借換額内訳'!$I$10)","v":0},null,{"$f":"CELL(\"contents\",'3-2借換額内訳'!$I$10)","v":0},null,{"$f":"CELL(\"contents\",'3-2借換額内訳'!$I$10)","v":0},null,{"$f":"CELL(\"contents\",'3-2借換額内訳'!$I$10)","v":0},null,{"$f":"CELL(\"contents\",'3-2借換額内訳'!$I$10)","v":0},null,{"$f":"CELL(\"contents\",'3-2借換額内訳'!$I$10)","v":0},null,{"$f":"CELL(\"contents\",'3-2借換額内訳'!$I$10)","v":0},null,{"$f":"CELL(\"contents\",'3-2借換額内訳'!$I$10)","v":0},null,{"$f":"CELL(\"contents\",'3-2借換額内訳'!$I$10)","v":0},null,{"$f":"CELL(\"contents\",'3-2借換額内訳'!$I$10)","v":0},null,{"$f":"CELL(\"contents\",'3-2借換額内訳'!$I$10)","v":0}]
[null,null,null,null,"29年度",null,null,null,{"$f":"CELL(\"contents\",'3-2借換額内訳'!$I$11)","v":0},null,{"$f":"CELL(\"contents\",'3-2借換額内訳'!$I$11)","v":0},null,{"$f":"CELL(\"contents\",'3-2借換額内訳'!$I$11)","v":0},null,{"$f":"CELL(\"contents\",'3-2借換額内訳'!$I$11)","v":0},null,{"$f":"CELL(\"contents\",'3-2借換額内訳'!$I$11)","v":0},null,{"$f":"CELL(\"contents\",'3-2借換額内訳'!$I$11)","v":0},null,{"$f":"CELL(\"contents\",'3-2借換額内訳'!$I$11)","v":0},null,{"$f":"CELL(\"contents\",'3-2借換額内訳'!$I$11)","v":0},null,{"$f":"CELL(\"contents\",'3-2借換額内訳'!$I$11)","v":0},null,{"$f":"CELL(\"contents\",'3-2借換額内訳'!$I$11)","v":0},null,{"$f":"CELL(\"contents\",'3-2借換額内訳'!$I$11)","v":0},null,{"$f":"CELL(\"contents\",'3-2借換額内訳'!$I$11)","v":0},null,{"$f":"CELL(\"contents\",'3-2借換額内訳'!$I$11)","v":0},null,{"$f":"CELL(\"contents\",'3-2借換額内訳'!$I$11)","v":0}]
[null,null,null,null,"対策額",null,null,null,{"$f":"IF(I3=25,I53,IF(I3=26,I54,IF(I3=27,I55,IF(I3=28,I56,IF(I3=29,I57,0)))))","v":0},null,{"$f":"IF(K3=25,K53,IF(K3=26,K54,IF(K3=27,K55,IF(K3=28,K56,IF(K3=29,K57,0)))))","v":0},null,{"$f":"IF(M3=25,M53,IF(M3=26,M54,IF(M3=27,M55,IF(M3=28,M56,IF(M3=29,M57,0)))))","v":0},null,{"$f":"IF(O3=25,O53,IF(O3=26,O54,IF(O3=27,O55,IF(O3=28,O56,IF(O3=29,O57,0)))))","v":0},null,{"$f":"IF(Q3=25,Q53,IF(Q3=26,Q54,IF(Q3=27,Q55,IF(Q3=28,Q56,IF(Q3=29,Q57,0)))))","v":0},null,{"$f":"IF(S3=25,S53,IF(S3=26,S54,IF(S3=27,S55,IF(S3=28,S56,IF(S3=29,S57,0)))))","v":0},null,{"$f":"IF(U3=25,U53,IF(U3=26,U54,IF(U3=27,U55,IF(U3=28,U56,IF(U3=29,U57,0)))))","v":0},null,{"$f":"IF(W3=25,W53,IF(W3=26,W54,IF(W3=27,W55,IF(W3=28,W56,IF(W3=29,W57,0)))))","v":0},null,{"$f":"IF(Y3=25,Y53,IF(Y3=26,Y54,IF(Y3=27,Y55,IF(Y3=28,Y56,IF(Y3=29,Y57,0)))))","v":0},null,{"$f":"IF(AA3=25,AA53,IF(AA3=26,AA54,IF(AA3=27,AA55,IF(AA3=28,AA56,IF(AA3=29,AA57,0)))))","v":0},null,{"$f":"IF(AC3=25,AC53,IF(AC3=26,AC54,IF(AC3=27,AC55,IF(AC3=28,AC56,IF(AC3=29,AC57,0)))))","v":0},null,{"$f":"IF(AE3=25,AE53,IF(AE3=26,AE54,IF(AE3=27,AE55,IF(AE3=28,AE56,IF(AE3=29,AE57,0)))))","v":0},null,{"$f":"IF(AG3=25,AG53,IF(AG3=26,AG54,IF(AG3=27,AG55,IF(AG3=28,AG56,IF(AG3=29,AG57,0)))))","v":0},null,{"$f":"IF(AI3=25,AI53,IF(AI3=26,AI54,IF(AI3=27,AI55,IF(AI3=28,AI56,IF(AI3=29,AI57,0)))))","v":0}]
[]
[null,null,null,"a.","残高一括借換＞0 OR",null,null,null,"元利金：5償還表（条件緩和前） 約定償還額　元利金の合計＋3.負債整理計画･(1)借換後の計画 償還額　元利金の合計（うち残高一括借換、経営継承資金を除く）"]
[null,null,null,null,"経営継承資金＞0",null,null,null,"元　　金：元利金ー5償還表（条件緩和前） 約定償還額　元金の合計ー3.負債整理計画･(1)借換後の計画 償還額　元金の合計（うち残高一括借換、経営継承資金を除く）"]
[null,null,null,null,"②要償還額",null,null,null,{"$f":"CELL(\"contents\",'2-1経営収支計画・個人'!I34)+CELL(\"contents\",'5償還表(条件緩和前)'!M108)+CELL(\"contents\",'3-1借換後の計画'!J86)","v":0},null,{"$f":"CELL(\"contents\",'2-1経営収支計画・個人'!J34)+CELL(\"contents\",'5償還表(条件緩和前)'!N108)+CELL(\"contents\",'3-1借換後の計画'!K86)","v":0},null,{"$f":"CELL(\"contents\",'2-1経営収支計画・個人'!L34)+CELL(\"contents\",'5償還表(条件緩和前)'!O108)+CELL(\"contents\",'3-1借換後の計画'!M86)","v":0},null,{"$f":"CELL(\"contents\",'2-1経営収支計画・個人'!M34)+CELL(\"contents\",'5償還表(条件緩和前)'!P108)+CELL(\"contents\",'3-1借換後の計画'!N86)","v":0},null,{"$f":"CELL(\"contents\",'2-1経営収支計画・個人'!O34)+CELL(\"contents\",'5償還表(条件緩和前)'!Q108)+CELL(\"contents\",'3-1借換後の計画'!P86)","v":0},null,{"$f":"CELL(\"contents\",'2-1経営収支計画・個人'!Q34)+CELL(\"contents\",'5償還表(条件緩和前)'!R108)+CELL(\"contents\",'3-1借換後の計画'!R86)","v":0},null,{"$f":"CELL(\"contents\",'2-1経営収支計画・個人'!S34)+CELL(\"contents\",'5償還表(条件緩和前)'!S108)+CELL(\"contents\",'3-1借換後の計画'!T86)","v":0},null,{"$f":"CELL(\"contents\",'2-1経営収支計画・個人'!T34)+CELL(\"contents\",'5償還表(条件緩和前)'!T108)+CELL(\"contents\",'3-1借換後の計画'!U86)","v":0},null,{"$f":"CELL(\"contents\",'2-1経営収支計画・個人'!U34)+CELL(\"contents\",'5償還表(条件緩和前)'!U108)+CELL(\"contents\",'3-1借換後の計画'!V86)","v":0},null,{"$f":"CELL(\"contents\",'2-1経営収支計画・個人'!V34)+CELL(\"contents\",'5償還表(条件緩和前)'!V108)+CELL(\"contents\",'3-1借換後の計画'!W86)","v":0},null,{"$f":"CELL(\"contents\",'2-1経営収支計画・個人'!W34)+CELL(\"contents\",'5償還表(条件緩和前)'!W108)+CELL(\"contents\",'3-1借換後の計画'!X86)","v":0},null,{"$f":"CELL(\"contents\",'2-1経営収支計画・個人'!X34)+CELL(\"contents\",'5償還表(条件緩和前)'!X108)+CELL(\"contents\",'3-1借換後の計画'!Y86)","v":0},null,{"$f":"CELL(\"contents\",'2-1経営収支計画・個人'!Y34)+CELL(\"contents\",'5償還表(条件緩和前)'!Y108)+CELL(\"contents\",'3-1借換後の計画'!Z86)","v":0},null,{"$f":"CELL(\"contents\",'2-1経営収支計画・個人'!Z34)+CELL(\"contents\",'5償還表(条件緩和前)'!Z108)+CELL(\"contents\",'3-1借換後の計画'!AA86)","v":0}]
[null,null,null,null,"③要償還額－要償還額元金：",null,null,null,{"$f":"I62-CELL(\"contents\",'5償還表(条件緩和前)'!M109)-CELL(\"contents\",'3-1借換後の計画'!J85)","v":0},null,{"$f":"K62-CELL(\"contents\",'5償還表(条件緩和前)'!N109)-CELL(\"contents\",'3-1借換後の計画'!K85)","v":0},null,{"$f":"M62-CELL(\"contents\",'5償還表(条件緩和前)'!O109)-CELL(\"contents\",'3-1借換後の計画'!M85)","v":0},null,{"$f":"O62-CELL(\"contents\",'5償還表(条件緩和前)'!P109)-CELL(\"contents\",'3-1借換後の計画'!N85)","v":0},null,{"$f":"Q62-CELL(\"contents\",'5償還表(条件緩和前)'!Q109)-CELL(\"contents\",'3-1借換後の計画'!P85)","v":0},null,{"$f":"S62-CELL(\"contents\",'5償還表(条件緩和前)'!R109)-CELL(\"contents\",'3-1借換後の計画'!R85)","v":0},null,{"$f":"U62- CELL(\"contents\",'5償還表(条件緩和前)'!S109)-CELL(\"contents\",'3-1借換後の計画'!T85)","v":0},null,{"$f":"W62- CELL(\"contents\",'5償還表(条件緩和前)'!T109)-CELL(\"contents\",'3-1借換後の計画'!U85)","v":0},null,{"$f":"Y62- CELL(\"contents\",'5償還表(条件緩和前)'!U109)-CELL(\"contents\",'3-1借換後の計画'!V85)","v":0},null,{"$f":"AA62- CELL(\"contents\",'5償還表(条件緩和前)'!V109)-CELL(\"contents\",'3-1借換後の計画'!W85)","v":0},null,{"$f":"AC62- CELL(\"contents\",'5償還表(条件緩和前)'!W109)-CELL(\"contents\",'3-1借換後の計画'!X85)","v":0},null,{"$f":"AE62- CELL(\"contents\",'5償還表(条件緩和前)'!X109)-CELL(\"contents\",'3-1借換後の計画'!Y85)","v":0},null,{"$f":"AG62- CELL(\"contents\",'5償還表(条件緩和前)'!Y109)-CELL(\"contents\",'3-1借換後の計画'!Z85)","v":0},null,{"$f":"AI62- CELL(\"contents\",'5償還表(条件緩和前)'!Z109)-CELL(\"contents\",'3-1借換後の計画'!AA85)","v":0}]
[]
[null,null,null,"b.","a以外のとき",null,null,null,"J",null,"K",null,"M",null,"N",null,"P",null,"R",null,"T",null,"U",null,"V",null,"W",null,"X",null,"Y",null,"Z",null,"AA"]
[null,null,null,null,"②要償還額",null,null,null,{"$f":"CELL(\"contents\",'2-1経営収支計画・個人'!I34) + CELL(\"contents\",'3-1借換後の計画'!J12) + CELL(\"contents\",'3-1借換後の計画'!J41)","v":0},null,{"$f":"CELL(\"contents\",'2-1経営収支計画・個人'!J34) + CELL(\"contents\",'3-1借換後の計画'!K12) + CELL(\"contents\",'3-1借換後の計画'!K41)","v":0},null,{"$f":"CELL(\"contents\",'2-1経営収支計画・個人'!L34) + CELL(\"contents\",'3-1借換後の計画'!M12) + CELL(\"contents\",'3-1借換後の計画'!M41)","v":0},null,{"$f":"CELL(\"contents\",'2-1経営収支計画・個人'!M34) + CELL(\"contents\",'3-1借換後の計画'!N12) + CELL(\"contents\",'3-1借換後の計画'!N41)","v":0},null,{"$f":"CELL(\"contents\",'2-1経営収支計画・個人'!O34) + CELL(\"contents\",'3-1借換後の計画'!P12) + CELL(\"contents\",'3-1借換後の計画'!P41)","v":0},null,{"$f":"CELL(\"contents\",'2-1経営収支計画・個人'!Q34) + CELL(\"contents\",'3-1借換後の計画'!R12) + CELL(\"contents\",'3-1借換後の計画'!R41)","v":0},null,{"$f":"CELL(\"contents\",'2-1経営収支計画・個人'!S34) + CELL(\"contents\",'3-1借換後の計画'!T12) + CELL(\"contents\",'3-1借換後の計画'!T41)","v":0},null,{"$f":"CELL(\"contents\",'2-1経営収支計画・個人'!T34) + CELL(\"contents\",'3-1借換後の計画'!U12) + CELL(\"contents\",'3-1借換後の計画'!U41)","v":0},null,{"$f":"CELL(\"contents\",'2-1経営収支計画・個人'!U34) + CELL(\"contents\",'3-1借換後の計画'!V12) + CELL(\"contents\",'3-1借換後の計画'!V41)","v":0},null,{"$f":"CELL(\"contents\",'2-1経営収支計画・個人'!V34) + CELL(\"contents\",'3-1借換後の計画'!W12) + CELL(\"contents\",'3-1借換後の計画'!W41)","v":0},null,{"$f":"CELL(\"contents\",'2-1経営収支計画・個人'!W34) + CELL(\"contents\",'3-1借換後の計画'!X12) + CELL(\"contents\",'3-1借換後の計画'!X41)","v":0},null,{"$f":"CELL(\"contents\",'2-1経営収支計画・個人'!X34) + CELL(\"contents\",'3-1借換後の計画'!Y12) + CELL(\"contents\",'3-1借換後の計画'!Y41)","v":0},null,{"$f":"CELL(\"contents\",'2-1経営収支計画・個人'!Y34) + CELL(\"contents\",'3-1借換後の計画'!Z12) + CELL(\"contents\",'3-1借換後の計画'!Z41)","v":0},null,{"$f":"CELL(\"contents\",'2-1経営収支計画・個人'!Z34) + CELL(\"contents\",'3-1借換後の計画'!AA12) + CELL(\"contents\",'3-1借換後の計画'!AA41)","v":0}]
[null,null,null,null,"③要償還額－要償還額元金：",null,null,null,{"$f":"I66-(CELL(\"contents\",'6償還表(条件緩和後)'!M109) + CELL(\"contents\",'3-1借換後の計画'!J55))","v":0},null,{"$f":"K66-(CELL(\"contents\",'6償還表(条件緩和後)'!N109) + CELL(\"contents\",'3-1借換後の計画'!K55))","v":0},null,{"$f":"M66-(CELL(\"contents\",'6償還表(条件緩和後)'!O109) + CELL(\"contents\",'3-1借換後の計画'!M55))","v":0},null,{"$f":"O66-(CELL(\"contents\",'6償還表(条件緩和後)'!P109) + CELL(\"contents\",'3-1借換後の計画'!N55))","v":0},null,{"$f":"Q66-(CELL(\"contents\",'6償還表(条件緩和後)'!Q109) + CELL(\"contents\",'3-1借換後の計画'!P55))","v":0},null,{"$f":"S66-(CELL(\"contents\",'6償還表(条件緩和後)'!R109) + CELL(\"contents\",'3-1借換後の計画'!R55))","v":0},null,{"$f":"U66-(CELL(\"contents\",'6償還表(条件緩和後)'!S109) + CELL(\"contents\",'3-1借換後の計画'!T55))","v":0},null,{"$f":"W66-(CELL(\"contents\",'6償還表(条件緩和後)'!T109) + CELL(\"contents\",'3-1借換後の計画'!U55))","v":0},null,{"$f":"Y66-(CELL(\"contents\",'6償還表(条件緩和後)'!U109) + CELL(\"contents\",'3-1借換後の計画'!V55))","v":0},null,{"$f":"AA66-(CELL(\"contents\",'6償還表(条件緩和後)'!V109) + CELL(\"contents\",'3-1借換後の計画'!W55))","v":0},null,{"$f":"AC66-(CELL(\"contents\",'6償還表(条件緩和後)'!W109) + CELL(\"contents\",'3-1借換後の計画'!X55))","v":0},null,{"$f":"AE66-(CELL(\"contents\",'6償還表(条件緩和後)'!X109) + CELL(\"contents\",'3-1借換後の計画'!Y55))","v":0},null,{"$f":"AG66-(CELL(\"contents\",'6償還表(条件緩和後)'!Y109) + CELL(\"contents\",'3-1借換後の計画'!Z55))","v":0},null,{"$f":"AI66-(CELL(\"contents\",'6償還表(条件緩和後)'!Z109) + CELL(\"contents\",'3-1借換後の計画'!AA55))","v":0}]
[]
[]
[]
[]
[null,null,"経営収支状況",null,"⑧約定償還金",null,"元金",null,{"$f":"CELL(\"contents\",'6償還表(条件緩和後)'!M109) + CELL(\"contents\",'3-1借換後の計画'!J55)","v":0},null,{"$f":"CELL(\"contents\",'6償還表(条件緩和後)'!N109) + CELL(\"contents\",'3-1借換後の計画'!K55)","v":0},null,{"$f":"CELL(\"contents\",'6償還表(条件緩和後)'!O109) + CELL(\"contents\",'3-1借換後の計画'!M55)","v":0},null,{"$f":"CELL(\"contents\",'6償還表(条件緩和後)'!P109) + CELL(\"contents\",'3-1借換後の計画'!N55)","v":0},null,{"$f":"CELL(\"contents\",'6償還表(条件緩和後)'!Q109) + CELL(\"contents\",'3-1借換後の計画'!P55)","v":0},null,{"$f":"CELL(\"contents\",'6償還表(条件緩和後)'!R109) + CELL(\"contents\",'3-1借換後の計画'!R55)","v":0},null,{"$f":"CELL(\"contents\",'6償還表(条件緩和後)'!S109) + CELL(\"contents\",'3-1借換後の計画'!T55)","v":0},null,{"$f":"CELL(\"contents\",'6償還表(条件緩和後)'!T109) + CELL(\"contents\",'3-1借換後の計画'!U55)","v":0},null,{"$f":"CELL(\"contents\",'6償還表(条件緩和後)'!U109) + CELL(\"contents\",'3-1借換後の計画'!V55)","v":0},null,{"$f":"CELL(\"contents\",'6償還表(条件緩和後)'!V109) + CELL(\"contents\",'3-1借換後の計画'!W55)","v":0},null,{"$f":"CELL(\"contents\",'6償還表(条件緩和後)'!W109) + CELL(\"contents\",'3-1借換後の計画'!X55)","v":0},null,{"$f":"CELL(\"contents\",'6償還表(条件緩和後)'!X109) + CELL(\"contents\",'3-1借換後の計画'!Y55)","v":0},null,{"$f":"CELL(\"contents\",'6償還表(条件緩和後)'!Y109) + CELL(\"contents\",'3-1借換後の計画'!Z55)","v":0}]
[null,null,null,null,null,null,"利息",null,{"$f":"CELL(\"contents\",'3-1借換後の計画'!J42) - (CELL(\"contents\",'6償還表(条件緩和後)'!M109) + CELL(\"contents\",'3-1借換後の計画'!J55))","v":0},null,{"$f":"CELL(\"contents\",'3-1借換後の計画'!K42) - (CELL(\"contents\",'6償還表(条件緩和後)'!N109) + CELL(\"contents\",'3-1借換後の計画'!K55))","v":0},null,{"$f":"CELL(\"contents\",'3-1借換後の計画'!M42) - (CELL(\"contents\",'6償還表(条件緩和後)'!O109) + CELL(\"contents\",'3-1借換後の計画'!M55))","v":0},null,{"$f":"CELL(\"contents\",'3-1借換後の計画'!N42) - (CELL(\"contents\",'6償還表(条件緩和後)'!P109) + CELL(\"contents\",'3-1借換後の計画'!N55))","v":0},null,{"$f":"CELL(\"contents\",'3-1借換後の計画'!P42) - (CELL(\"contents\",'6償還表(条件緩和後)'!Q109) + CELL(\"contents\",'3-1借換後の計画'!P55))","v":0},null,{"$f":"CELL(\"contents\",'3-1借換後の計画'!R42) - (CELL(\"contents\",'6償還表(条件緩和後)'!R109) + CELL(\"contents\",'3-1借換後の計画'!R55))","v":0},null,{"$f":"CELL(\"contents\",'3-1借換後の計画'!T42) - (CELL(\"contents\",'6償還表(条件緩和後)'!S109) + CELL(\"contents\",'3-1借換後の計画'!T55))","v":0},null,{"$f":"CELL(\"contents\",'3-1借換後の計画'!U42) - (CELL(\"contents\",'6償還表(条件緩和後)'!T109) + CELL(\"contents\",'3-1借換後の計画'!U55))","v":0},null,{"$f":"CELL(\"contents\",'3-1借換後の計画'!V42) - (CELL(\"contents\",'6償還表(条件緩和後)'!U109) + CELL(\"contents\",'3-1借換後の計画'!V55))","v":0},null,{"$f":"CELL(\"contents\",'3-1借換後の計画'!W42) - (CELL(\"contents\",'6償還表(条件緩和後)'!V109) + CELL(\"contents\",'3-1借換後の計画'!W55))","v":0},null,{"$f":"CELL(\"contents\",'3-1借換後の計画'!X42) - (CELL(\"contents\",'6償還表(条件緩和後)'!W109) + CELL(\"contents\",'3-1借換後の計画'!X55))","v":0},null,{"$f":"CELL(\"contents\",'3-1借換後の計画'!Y42) - (CELL(\"contents\",'6償還表(条件緩和後)'!X109) + CELL(\"contents\",'3-1借換後の計画'!Y55))","v":0},null,{"$f":"CELL(\"contents\",'3-1借換後の計画'!Z42) - (CELL(\"contents\",'6償還表(条件緩和後)'!Y109) + CELL(\"contents\",'3-1借換後の計画'!Z55))","v":0}]
[]
[null,null,"経済階層の区分（下記注参照）",null,null,null,null,null,{"$f":"IF(OR(I47=0,I46=0),\"\",I51)","v":""},null,{"$f":"IF(OR(K47=0,K46=0),\"\",K51)","v":""},null,{"$f":"IF(OR(M47=0,M46=0),\"\",M51)","v":""},null,{"$f":"IF(OR(O47=0,O46=0),\"\",O51)","v":""},null,{"$f":"IF(OR(Q47=0,Q46=0),\"\",Q51)","v":""},null,{"$f":"IF(OR(S47=0,S46=0),\"\",S51)","v":""},null,{"$f":"IF(OR(U47=0,U46=0),\"\",U51)","v":""},null,{"$f":"IF(OR(W47=0,W46=0),\"\",W51)","v":""},null,{"$f":"IF(OR(Y47=0,Y46=0),\"\",Y51)","v":""},null,{"$f":"IF(OR(AA47=0,AA46=0),\"\",AA51)","v":""},null,{"$f":"IF(OR(AC47=0,AC46=0),\"\",AC51)","v":""},null,{"$f":"IF(OR(AE47=0,AE46=0),\"\",AE51)","v":""},null,{"$f":"IF(OR(AG47=0,AG46=0),\"\",AG51)","v":""}]
[]
[null,null,"既借入金残高（各年末時点）",null,null,null,null,null,{"$f":"CELL(\"contents\",'6償還表(条件緩和後)'!$AA$113)","v":0},null,{"$f":"CELL(\"contents\",'6償還表(条件緩和後)'!$AB$113)","v":0},null,{"$f":"CELL(\"contents\",'6償還表(条件緩和後)'!$AC$113)","v":0},null,{"$f":"CELL(\"contents\",'6償還表(条件緩和後)'!$AD$113)","v":0},null,{"$f":"CELL(\"contents\",'6償還表(条件緩和後)'!$AE$113)","v":0},null,{"$f":"CELL(\"contents\",'6償還表(条件緩和後)'!$AF$113)","v":0},null,{"$f":"CELL(\"contents\",'6償還表(条件緩和後)'!$AG$113)","v":0},null,{"$f":"CELL(\"contents\",'6償還表(条件緩和後)'!$AH$113)","v":0},null,{"$f":"CELL(\"contents\",'6償還表(条件緩和後)'!$AI$113)","v":0},null,{"$f":"CELL(\"contents\",'6償還表(条件緩和後)'!$AJ$113)","v":0},null,{"$f":"CELL(\"contents\",'6償還表(条件緩和後)'!$AK$113)","v":0},null,{"$f":"CELL(\"contents\",'6償還表(条件緩和後)'!$AL$113)","v":0},null,{"$f":"CELL(\"contents\",'6償還表(条件緩和後)'!$AM$113)","v":0}]
[null,null,null,"　　うち畜産特別資金",null,null,null,null,{"$f":"CELL(\"contents\",'6償還表(条件緩和後)'!$AA$63)","v":0},null,{"$f":"CELL(\"contents\",'6償還表(条件緩和後)'!$AB$63)","v":0},null,{"$f":"CELL(\"contents\",'6償還表(条件緩和後)'!$AC$63)","v":0},null,{"$f":"CELL(\"contents\",'6償還表(条件緩和後)'!$AD$63)","v":0},null,{"$f":"CELL(\"contents\",'6償還表(条件緩和後)'!$AE$63)","v":0},null,{"$f":"CELL(\"contents\",'6償還表(条件緩和後)'!$AF$63)","v":0},null,{"$f":"CELL(\"contents\",'6償還表(条件緩和後)'!$AG$63)","v":0},null,{"$f":"CELL(\"contents\",'6償還表(条件緩和後)'!$AH$63)","v":0},null,{"$f":"CELL(\"contents\",'6償還表(条件緩和後)'!$AI$63)","v":0},null,{"$f":"CELL(\"contents\",'6償還表(条件緩和後)'!$AJ$63)","v":0},null,{"$f":"CELL(\"contents\",'6償還表(条件緩和後)'!$AK$63)","v":0},null,{"$f":"CELL(\"contents\",'6償還表(条件緩和後)'!$AL$63)","v":0},null,{"$f":"CELL(\"contents\",'6償還表(条件緩和後)'!$AM$63)","v":0}]
[null,null,"買掛未払金等残高（各年末時点）",null,null,null,null,null,{"$f":"CELL(\"contents\",'6償還表(条件緩和後)'!$AA$114)","v":0},null,{"$f":"CELL(\"contents\",'6償還表(条件緩和後)'!$AB$114)","v":0},null,{"$f":"CELL(\"contents\",'6償還表(条件緩和後)'!$AC$114)","v":0},null,{"$f":"CELL(\"contents\",'6償還表(条件緩和後)'!$AD$114)","v":0},null,{"$f":"CELL(\"contents\",'6償還表(条件緩和後)'!$AE$114)","v":0},null,{"$f":"CELL(\"contents\",'6償還表(条件緩和後)'!$AF$114)","v":0},null,{"$f":"CELL(\"contents\",'6償還表(条件緩和後)'!$AG$114)","v":0},null,{"$f":"CELL(\"contents\",'6償還表(条件緩和後)'!$AH$114)","v":0},null,{"$f":"CELL(\"contents\",'6償還表(条件緩和後)'!$AI$114)","v":0},null,{"$f":"CELL(\"contents\",'6償還表(条件緩和後)'!$AJ$114)","v":0},null,{"$f":"CELL(\"contents\",'6償還表(条件緩和後)'!$AK$114)","v":0},null,{"$f":"CELL(\"contents\",'6償還表(条件緩和後)'!$AL$114)","v":0},null,{"$f":"CELL(\"contents\",'6償還表(条件緩和後)'!$AM$114)","v":0}]

{"sheet":"7-4経営の概況・法人","index":20,"n_rows":96,"n_cols":39,"rows_kept":96,"cut":false,"hidden":false,"merged":[[29,30,29,31],[29,32,29,33],[30,22,30,23],[30,24,30,25],[30,26,30,27],[30,28,30,29],[30,30,30,31],[30,32,30,33],[21,22,21,23],[21,24,21,25],[21,26,21,27],[21,28,21,29],[21,30,21,31],[21,32,21,33],[22,22,22,23],[22,24,22,25],[22,26,22,27],[22,28,22,29],[22,30,22,31],[22,32,22,33],[19,22,19,23],[19,24,19,25],[19,26,19,27],[19,28,19,29],[19,30,19,31],[19,32,19,33],[20,22,20,23],[20,24,20,25],[20,26,20,27],[20,28,20,29],[20,30,20,31],[20,32,20,33],[4,24,4,25],[4,26,4,27],[4,28,4,29],[4,30,4,31],[4,32,4,33],[18,30,18,31],[18,32,18,33],[3,28,3,29],[3,30,3,31],[50,20,50,21],[50,34,50,35],[51,8,51,9],[51,10,51,11],[51,12,51,13],[51,14,51,15],[51,16,51,17],[51,18,51,19],[51,20,51,21],[50,8,50,9],[50,10,50,11],[50,12,50,13],[50,14,50,15],[50,16,50,17],[50,18,50,19],[51,34,51,35],[50,22,50,23],[50,24,50,25],[50,26,50,27],[50,28,50,29],[50,30,50,31],[50,32,50,33],[51,22,51,23],[51,24,51,25],[49,8,49,9],[49,10,49,11],[49,12,49,13],[49,14,49,15],[49,16,49,17],[49,18,49,19],[49,20,49,21],[49,34,49,35],[49,22,49,23],[49,24,49,25],[49,26,49,27],[49,28,49,29],[49,30,49,31],[49,32,49,33],[48,8,48,9],[48,10,48,11],[48,12,48,13],[48,14,48,15],[48,16,48,17],[48,18,48,19],[48,20,48,21],[48,34,48,35],[48,22,48,23],[48,24,48,25],[48,26,48,27],[48,28,48,29],[48,30,48,31],[48,32,48,33],[44,34,44,35],[44,22,44,23],[44,24,44,25],[44,26,44,27],[44,28,44,29],[44,30,44,31],[44,32,44,33],[45,8,45,9],[45,10,45,11],[45,12,45,13],[45,14,45,15],[45,16,45,17],[45,18,45,19],[45,20,45,21],[45,34,45,35],[45,22,45,23],[45,24,45,25],[45,26,45,27],[45,28,45,29],[45,30,45,31],[45,32,45,33],[42,22,42,23],[42,24,42,25],[42,26,42,27],[42,28,42,29],[42,30,42,31],[42,32,42,33],[43,22,43,23],[43,24,43,25],[43,26,43,27],[43,28,43,29],[43,30,43,31],[43,32,43,33],[41,34,41,35],[40,22,40,23],[40,24,40,25],[40,26,40,27],[40,28,40,29],[40,30,40,31],[40,32,40,33],[41,22,41,23],[41,24,41,25],[41,26,41,27],[41,28,41,29],[41,30,41,31],[41,32,41,33],[40,2,42,4],[40,8,40,9],[40,10,40,11],[40,12,40,13],[40,14,40,15],[40,16,40,17],[40,18,40,19],[40,20,40,21],[40,34,40,35],[42,8,42,9],[42,10,42,11],[42,12,42,13],[42,14,42,15],[42,16,42,17],[42,18,42,19],[42,20,42,21],[42,34,42,35],[41,8,41,9],[41,10,41,11],[41,12,41,13],[41,14,41,15],[41,16,41,17],[41,18,41,19],[41,20,41,21],[38,8,38,9],[38,10,38,11],[38,12,38,13],[38,14,38,15],[38,16,38,17],[38,18,38,19],[38,20,38,21],[38,34,38,35],[38,22,38,23],[38,24,38,25],[38,26,38,27],[38,28,38,29],[38,30,38,31],[38,32,38,33],[37,8,37,9],[37,10,37,11],[37,12,37,13],[37,14,37,15],[37,16,37,17],[37,18,37,19],[37,20,37,21],[37,34,37,35],[37,22,37,23],[37,24,37,25],[37,26,37,27],[37,28,37,29],[37,30,37,31],[37,32,37,33],[36,8,36,9],[36,10,36,11],[36,12,36,13],[36,14,36,15],[36,16,36,17],[36,18,36,19],[36,20,36,21],[36,34,36,35],[36,22,36,23],[36,24,36,25],[36,26,36,27],[36,28,36,29],[36,30,36,31],[36,32,36,33],[35,8,35,9],[35,10,35,11],[35,12,35,13],[35,14,35,15],[35,16,35,17],[35,18,35,19],[35,20,35,21],[35,34,35,35],[35,22,35,23],[35,24,35,25],[35,26,35,27],[35,28,35,29],[35,30,35,31],[35,32,35,33],[34,8,34,9],[34,10,34,11],[34,12,34,13],[34,14,34,15],[34,16,34,17],[34,18,34,19],[34,20,34,21],[34,34,34,35],[34,22,34,23],[34,24,34,25],[34,26,34,27],[34,28,34,29],[34,30,34,31],[34,32,34,33],[33,8,33,9],[33,10,33,11],[33,12,33,13],[33,14,33,15],[33,16,33,17],[33,18,33,19],[33,20,33,21],[33,34,33,35],[33,22,33,23],[33,24,33,25],[33,26,33,27],[33,28,33,29],[33,30,33,31],[33,32,33,33],[32,8,32,9],[32,10,32,11],[32,12,32,13],[32,14,32,15],[32,16,32,17],[32,18,32,19],[32,20,32,21],[32,34,32,35],[32,22,32,23],[32,24,32,25],[32,26,32,27],[32,28,32,29],[32,30,32,31],[32,32,32,33],[30,8,30,9],[30,10,30,11],[30,12,30,13],[30,14,30,15],[30,16,30,17],[30,18,30,19],[30,20,30,21],[30,34,30,35],[31,8,31,9],[31,10,31,11],[31,12,31,13],[31,14,31,15],[31,16,31,17],[31,18,31,19],[31,20,31,21],[31,34,31,35],[31,22,31,23],[31,24,31,25],[31,26,31,27],[31,28,31,29],[31,30,31,31],[31,32,31,33],[28,12,28,13],[28,14,28,15],[28,16,28,17],[28,18,28,19],[28,20,28,21],[28,34,28,35],[29,8,29,9],[29,10,29,11],[29,12,29,13],[29,14,29,15],[29,16,29,17],[29,18,29,19],[29,20,29,21],[29,34,29,35],[28,22,28,23],[28,24,28,25],[28,26,28,27],[28,28,28,29],[28,30,28,31],[28,32,28,33],[29,22,29,23],[29,24,29,25],[29,26,29,27],[29,28,29,29],[26,16,26,17],[26,18,26,19],[26,20,26,21],[26,34,26,35],[27,8,27,9],[27,10,27,11],[27,12,27,13],[27,14,27,15],[27,16,27,17],[27,18,27,19],[27,20,27,21],[27,34,27,35],[26,22,26,23],[26,24,26,25],[26,26,26,27],[26,28,26,29],[26,30,26,31],[26,32,26,33],[27,22,27,23],[27,24,27,25],[27,26,27,27],[27,28,27,29],[27,30,27,31],[27,32,27,33],[24,16,24,17],[24,18,24,19],[24,20,24,21],[24,34,24,35],[25,8,25,9],[25,10,25,11],[25,12,25,13],[25,14,25,15],[25,16,25,17],[25,18,25,19],[25,20,25,21],[25,34,25,35],[24,22,24,23],[24,24,24,25],[24,26,24,27],[24,28,24,29],[24,30,24,31],[24,32,24,33],[25,22,25,23],[25,24,25,25],[25,26,25,27],[25,28,25,29],[25,30,25,31],[25,32,25,33],[22,34,22,35],[23,8,23,9],[23,10,23,11],[23,12,23,13],[23,14,23,15],[23,16,23,17],[23,18,23,19],[23,20,23,21],[23,34,23,35],[23,22,23,23],[23,24,23,25],[23,26,23,27],[23,28,23,29],[23,30,23,31],[23,32,23,33],[19,16,19,17],[19,18,19,19],[19,20,19,21],[19,34,19,35],[20,2,27,2],[20,8,20,9],[20,10,20,11],[20,12,20,13],[20,14,20,15],[20,16,20,17],[20,18,20,19],[20,20,20,21],[20,34,20,35],[21,8,21,9],[21,10,21,11],[21,12,21,13],[21,14,21,15],[21,16,21,17],[21,18,21,19],[21,20,21,21],[21,34,21,35],[22,16,22,17],[22,18,22,19],[22,20,22,21],[17,16,17,17],[17,18,17,19],[17,20,17,21],[17,34,17,35],[18,8,18,9],[18,10,18,11],[18,12,18,13],[18,14,18,15],[18,16,18,17],[18,18,18,19],[18,20,18,21],[18,34,18,35],[17,22,17,23],[17,24,17,25],[17,26,17,27],[17,28,17,29],[17,30,17,31],[17,32,17,33],[18,22,18,23],[18,24,18,25],[18,26,18,27],[18,28,18,29],[17,1,45,1],[17,2,19,2],[17,8,17,9],[17,10,17,11],[17,12,17,13],[17,14,17,15],[24,8,24,9],[24,10,24,11],[24,12,24,13],[24,14,24,15],[19,8,19,9],[19,10,19,11],[19,12,19,13],[19,14,19,15],[22,8,22,9],[22,10,22,11],[22,12,22,13],[22,14,22,15],[26,8,26,9],[26,10,26,11],[26,12,26,13],[26,14,26,15],[28,8,28,9],[28,10,28,11],[16,8,16,9],[16,10,16,11],[16,12,16,13],[16,14,16,15],[16,16,16,17],[16,18,16,19],[16,20,16,21],[16,34,16,35],[16,22,16,23],[16,24,16,25],[16,26,16,27],[16,28,16,29],[16,30,16,31],[16,32,16,33],[15,8,15,9],[15,10,15,11],[15,12,15,13],[15,14,15,15],[15,16,15,17],[15,18,15,19],[15,20,15,21],[15,34,15,35],[15,22,15,23],[15,24,15,25],[15,26,15,27],[15,28,15,29],[15,30,15,31],[15,32,15,33],[14,8,14,9],[14,10,14,11],[14,12,14,13],[14,14,14,15],[14,16,14,17],[14,18,14,19],[14,20,14,21],[14,34,14,35],[14,22,14,23],[14,24,14,25],[14,26,14,27],[14,28,14,29],[14,30,14,31],[14,32,14,33],[13,8,13,9],[13,10,13,11],[13,12,13,13],[13,14,13,15],[13,16,13,17],[13,18,13,19],[13,20,13,21],[13,34,13,35],[13,22,13,23],[13,24,13,25],[13,26,13,27],[13,28,13,29],[13,30,13,31],[13,32,13,33],[12,8,12,9],[12,10,12,11],[12,12,12,13],[12,14,12,15],[12,16,12,17],[12,18,12,19],[12,20,12,21],[12,34,12,35],[12,22,12,23],[12,24,12,25],[12,26,12,27],[12,28,12,29],[12,30,12,31],[12,32,12,33],[11,8,11,9],[11,10,11,11],[11,12,11,13],[11,14,11,15],[11,16,11,17],[11,18,11,19],[11,20,11,21],[11,34,11,35],[11,22,11,23],[11,24,11,25],[11,26,11,27],[11,28,11,29],[11,30,11,31],[11,32,11,33],[9,34,9,35],[10,8,10,9],[10,10,10,11],[10,12,10,13],[10,14,10,15],[10,16,10,17],[10,18,10,19],[10,20,10,21],[10,34,10,35],[9,22,9,23],[9,24,9,25],[9,26,9,27],[9,28,9,29],[9,30,9,31],[9,32,9,33],[10,22,10,23],[10,24,10,25],[10,26,10,27],[10,28,10,29],[10,30,10,31],[10,32,10,33],[9,20,9,21],[8,8,8,9],[8,10,8,11],[8,12,8,13],[8,14,8,15],[8,16,8,17],[8,18,8,19],[8,20,8,21],[8,34,8,35],[7,22,7,23],[7,24,7,25],[7,26,7,27],[7,28,7,29],[7,30,7,31],[7,32,7,33],[8,22,8,23],[8,24,8,25],[8,26,8,27],[8,28,8,29],[8,30,8,31],[8,32,8,33],[11,2,16,2],[5,34,5,35],[6,8,6,9],[6,10,6,11],[6,12,6,13],[6,14,6,15],[6,16,6,17],[6,18,6,19],[6,20,6,21],[6,34,6,35],[5,22,5,23],[5,24,5,25],[5,26,5,27],[5,28,5,29],[5,30,5,31],[5,32,5,33],[6,22,6,23],[6,24,6,25],[6,26,6,27],[6,28,6,29],[6,30,6,31],[6,32,6,33],[7,34,7,35],[7,3,7,6],[5,1,16,1],[5,2,10,2],[5,8,5,9],[5,10,5,11],[5,12,5,13],[5,14,5,15],[5,16,5,17],[5,18,5,19],[5,20,5,21],[7,8,7,9],[7,10,7,11],[7,12,7,13],[7,14,7,15],[7,16,7,17],[7,18,7,19],[7,20,7,21],[9,8,9,9],[9,10,9,11],[9,12,9,13],[9,14,9,15],[9,16,9,17],[9,18,9,19],[5,3,5,6],[6,3,6,6],[2,1,2,7],[2,36,2,38],[3,1,4,1],[3,8,3,9],[3,10,3,11],[3,12,3,13],[3,14,3,15],[3,16,3,17],[3,18,3,19],[3,20,3,21],[3,34,3,35],[4,8,4,9],[4,10,4,11],[4,12,4,13],[4,14,4,15],[4,16,4,17],[4,18,4,19],[4,20,4,21],[4,34,4,35],[3,22,3,23],[3,24,3,25],[3,26,3,27],[3,32,3,33],[4,22,4,23],[89,18,89,19],[89,20,89,21],[89,22,89,23],[89,24,89,25],[89,26,89,27],[89,28,89,29],[89,30,89,31],[89,32,89,33],[89,34,89,35],[91,22,91,23],[91,26,91,27],[91,28,91,29],[91,30,91,31],[91,32,91,33],[91,34,91,35],[88,2,89,3],[88,4,89,5],[88,6,88,7],[88,8,88,9],[88,10,88,11],[88,12,88,13],[88,14,88,15],[88,16,88,17],[88,18,88,19],[88,20,88,21],[88,22,88,23],[88,34,88,35],[89,6,89,7],[89,8,89,9],[89,10,89,11],[89,12,89,13],[89,14,89,15],[89,16,89,17],[93,18,93,19],[93,20,93,21],[93,24,93,25],[93,26,93,27],[93,28,93,29],[93,30,93,31],[93,32,93,33],[93,34,93,35],[93,22,93,23],[95,24,95,25],[95,26,95,27],[95,28,95,29],[95,30,95,31],[95,32,95,33],[95,34,95,35],[94,3,94,7],[94,8,94,9],[94,10,94,11],[94,12,94,13],[94,14,94,15],[94,16,94,17],[94,18,94,19],[94,20,94,21],[94,22,94,23],[95,2,95,7],[95,8,95,9],[95,10,95,11],[95,12,95,13],[95,14,95,15],[95,16,95,17],[95,18,95,19],[95,20,95,21],[95,22,95,23],[53,1,53,38],[54,1,54,38],[55,1,55,38],[56,1,56,38],[57,1,57,38],[58,1,58,38],[59,1,59,38],[60,1,60,38],[94,34,94,35],[91,24,91,25],[91,2,91,7],[91,8,91,9],[91,10,91,11],[91,12,91,13],[91,14,91,15],[91,16,91,17],[91,18,91,19],[91,20,91,21],[93,2,93,7],[93,8,93,9],[93,10,93,11],[93,12,93,13],[93,14,93,15],[93,16,93,17],[94,24,94,25],[94,26,94,27],[94,28,94,29],[94,30,94,31],[94,32,94,33],[88,24,88,25],[88,26,88,27],[88,28,88,29],[88,30,88,31],[88,32,88,33],[43,2,43,6],[44,3,44,6],[49,36,49,38],[50,36,50,38],[51,36,51,38],[51,26,51,27],[51,28,51,29],[51,30,51,31],[51,32,51,33],[43,8,43,9],[43,10,43,11],[43,12,43,13],[43,14,43,15],[43,16,43,17],[43,18,43,19],[43,20,43,21],[43,34,43,35],[44,8,44,9],[44,10,44,11],[44,12,44,13],[44,14,44,15],[44,16,44,17],[44,18,44,19],[44,20,44,21],[39,20,39,21],[39,34,39,35],[39,8,39,9],[39,10,39,11],[39,12,39,13],[39,14,39,15],[39,16,39,17],[39,18,39,19],[39,22,39,23],[39,24,39,25],[39,26,39,27],[39,28,39,29],[39,30,39,31],[39,32,39,33]]}
[]
[null,"４　経営の概況"]
[null,"項目",null,null,null,null,null,null,{"$f":"配列シート!$B$8-3","v":-3},"実績",{"$f":"I3+1","v":-2},"実績",{"$f":"K3+1","v":-1},"実績",{"$f":"M3+1","v":0},{"$f":"IF(配列シート!$B$9=O3,\"計画(目標年次)\",\"計画\")","v":"計画(目標年次)"},{"$f":"O3+1","v":1},{"$f":"IF(配列シート!$B$9=Q3,\"計画(目標年次)\",\"計画\")","v":"計画"},{"$f":"Q3+1","v":2},{"$f":"IF(配列シート!$B$9=S3,\"計画(目標年次)\",\"計画\")","v":"計画"},{"$f":"S3+1","v":3},{"$f":"IF(配列シート!$B$9=U3,\"計画(目標年次)\",\"計画\")","v":"計画"},{"$f":"U3+1","v":4},{"$f":"IF(配列シート!$B$9=W3,\"計画(目標年次)\",\"計画\")","v":"計画"},{"$f":"W3+1","v":5},{"$f":"IF(配列シート!$B$9=Y3,\"計画(目標年次)\",\"計画\")","v":"計画"},{"$f":"Y3+1","v":6},{"$f":"IF(配列シート!$B$9=AA3,\"計画(目標年次)\",\"計画\")","v":"計画"},{"$f":"AA3+1","v":7},{"$f":"IF(配列シート!$B$9=AC3,\"計画(目標年次)\",\"計画\")","v":"計画"},{"$f":"AC3+1","v":8},{"$f":"IF(配列シート!$B$9=AE3,\"計画(目標年次)\",\"計画\")","v":"計画"},{"$f":"AE3+1","v":9},{"$f":"IF(配列シート!$B$9=AG3,\"計画(目標年次)\",\"計画\")","v":"計画"},{"$f":"AG3+1","v":10},{"$f":"IF(配列シート!$B$9=AI3,\"計画(目標年次)\",\"計画\")","v":"計画"},"備考"]
[null,"頭数","子取り用めす豚",null,null,null,null,"頭",{"$f":"CELL(\"contents\",'1-1経営改善の計画'!G16)","v":0},null,{"$f":"CELL(\"contents\",'1-1経営改善の計画'!H16)","v":0},null,{"$f":"CELL(\"contents\",'1-1経営改善の計画'!J16)","v":0},null,{"$f":"CELL(\"contents\",'1-1経営改善の計画'!K16)","v":0},null,{"$f":"CELL(\"contents\",'1-1経営改善の計画'!M16)","v":0},null,{"$f":"CELL(\"contents\",'1-1経営改善の計画'!O16)","v":0},null,{"$f":"CELL(\"contents\",'1-1経営改善の計画'!Q16)","v":0},null,{"$f":"CELL(\"contents\",'1-1経営改善の計画'!R16)","v":0},null,{"$f":"CELL(\"contents\",'1-1経営改善の計画'!S16)","v":0},null,{"$f":"CELL(\"contents\",'1-1経営改善の計画'!T16)","v":0},null,{"$f":"CELL(\"contents\",'1-1経営改善の計画'!U16)","v":0},null,{"$f":"CELL(\"contents\",'1-1経営改善の計画'!V16)","v":0},null,{"$f":"CELL(\"contents\",'1-1経営改善の計画'!W16)","v":0},null,{"$f":"CELL(\"contents\",'1-1経営改善の計画'!X16)","v":0},null,"米",null,"ha"]
[null,null,"肥育豚",null,null,null,null,"頭",{"$f":"CELL(\"contents\",'1-1経営改善の計画'!G17)","v":0},null,{"$f":"CELL(\"contents\",'1-1経営改善の計画'!H17)","v":0},null,{"$f":"CELL(\"contents\",'1-1経営改善の計画'!J17)","v":0},null,{"$f":"CELL(\"contents\",'1-1経営改善の計画'!K17)","v":0},null,{"$f":"CELL(\"contents\",'1-1経営改善の計画'!M17)","v":0},null,{"$f":"CELL(\"contents\",'1-1経営改善の計画'!O17)","v":0},null,{"$f":"CELL(\"contents\",'1-1経営改善の計画'!Q17)","v":0},null,{"$f":"CELL(\"contents\",'1-1経営改善の計画'!R17)","v":0},null,{"$f":"CELL(\"contents\",'1-1経営改善の計画'!S17)","v":0},null,{"$f":"CELL(\"contents\",'1-1経営改善の計画'!T17)","v":0},null,{"$f":"CELL(\"contents\",'1-1経営改善の計画'!U17)","v":0},null,{"$f":"CELL(\"contents\",'1-1経営改善の計画'!V17)","v":0},null,{"$f":"CELL(\"contents\",'1-1経営改善の計画'!W17)","v":0},null,{"$f":"CELL(\"contents\",'1-1経営改善の計画'!X17)","v":0},null,"果樹",null,"ha"]
[null,"生産状況","子取り","一腹当たり正常子豚生産頭数",null,null,null,"頭",{"$f":"CELL(\"contents\",'1-1経営改善の計画'!G19)","v":0},null,{"$f":"CELL(\"contents\",'1-1経営改善の計画'!H19)","v":0},null,{"$f":"CELL(\"contents\",'1-1経営改善の計画'!J19)","v":0},null,{"$f":"CELL(\"contents\",'1-1経営改善の計画'!K19)","v":0},null,{"$f":"CELL(\"contents\",'1-1経営改善の計画'!M19)","v":0},null,{"$f":"CELL(\"contents\",'1-1経営改善の計画'!O19)","v":0},null,{"$f":"CELL(\"contents\",'1-1経営改善の計画'!Q19)","v":0},null,{"$f":"CELL(\"contents\",'1-1経営改善の計画'!R19)","v":0},null,{"$f":"CELL(\"contents\",'1-1経営改善の計画'!S19)","v":0},null,{"$f":"CELL(\"contents\",'1-1経営改善の計画'!T19)","v":0},null,{"$f":"CELL(\"contents\",'1-1経営改善の計画'!U19)","v":0},null,{"$f":"CELL(\"contents\",'1-1経営改善の計画'!V19)","v":0},null,{"$f":"CELL(\"contents\",'1-1経営改善の計画'!W19)","v":0},null,{"$f":"CELL(\"contents\",'1-1経営改善の計画'!X19)","v":0},null,"野菜",null,"ha"]
[null,null,null,"種雌豚1頭当たり年間平均分娩回数",null,null,null,"回",{"$f":"CELL(\"contents\",'1-1経営改善の計画'!G20)","v":0},null,{"$f":"CELL(\"contents\",'1-1経営改善の計画'!H20)","v":0},null,{"$f":"CELL(\"contents\",'1-1経営改善の計画'!J20)","v":0},null,{"$f":"CELL(\"contents\",'1-1経営改善の計画'!K20)","v":0},null,{"$f":"CELL(\"contents\",'1-1経営改善の計画'!M20)","v":0},null,{"$f":"CELL(\"contents\",'1-1経営改善の計画'!O20)","v":0},null,{"$f":"CELL(\"contents\",'1-1経営改善の計画'!Q20)","v":0},null,{"$f":"CELL(\"contents\",'1-1経営改善の計画'!R20)","v":0},null,{"$f":"CELL(\"contents\",'1-1経営改善の計画'!S20)","v":0},null,{"$f":"CELL(\"contents\",'1-1経営改善の計画'!T20)","v":0},null,{"$f":"CELL(\"contents\",'1-1経営改善の計画'!U20)","v":0},null,{"$f":"CELL(\"contents\",'1-1経営改善の計画'!V20)","v":0},null,{"$f":"CELL(\"contents\",'1-1経営改善の計画'!W20)","v":0},null,{"$f":"CELL(\"contents\",'1-1経営改善の計画'!X20)","v":0},null,"飼料　延べ",null,"ha"]
[null,null,null,"　　〃　　年間正常子豚生産頭数",null,null,null,"頭",{"$f":"CELL(\"contents\",'1-1経営改善の計画'!G21)","v":0},null,{"$f":"CELL(\"contents\",'1-1経営改善の計画'!H21)","v":0},null,{"$f":"CELL(\"contents\",'1-1経営改善の計画'!J21)","v":0},null,{"$f":"CELL(\"contents\",'1-1経営改善の計画'!K21)","v":0},null,{"$f":"CELL(\"contents\",'1-1経営改善の計画'!M21)","v":0},null,{"$f":"CELL(\"contents\",'1-1経営改善の計画'!O21)","v":0},null,{"$f":"CELL(\"contents\",'1-1経営改善の計画'!Q21)","v":0},null,{"$f":"CELL(\"contents\",'1-1経営改善の計画'!R21)","v":0},null,{"$f":"CELL(\"contents\",'1-1経営改善の計画'!S21)","v":0},null,{"$f":"CELL(\"contents\",'1-1経営改善の計画'!T21)","v":0},null,{"$f":"CELL(\"contents\",'1-1経営改善の計画'!U21)","v":0},null,{"$f":"CELL(\"contents\",'1-1経営改善の計画'!V21)","v":0},null,{"$f":"CELL(\"contents\",'1-1経営改善の計画'!W21)","v":0},null,{"$f":"CELL(\"contents\",'1-1経営改善の計画'!X21)","v":0}]
[null,null,null,"育成率",null,null,null,"%",{"$f":"CELL(\"contents\",'1-1経営改善の計画'!G22)","v":0},null,{"$f":"CELL(\"contents\",'1-1経営改善の計画'!H22)","v":0},null,{"$f":"CELL(\"contents\",'1-1経営改善の計画'!J22)","v":0},null,{"$f":"CELL(\"contents\",'1-1経営改善の計画'!K22)","v":0},null,{"$f":"CELL(\"contents\",'1-1経営改善の計画'!M22)","v":0},null,{"$f":"CELL(\"contents\",'1-1経営改善の計画'!O22)","v":0},null,{"$f":"CELL(\"contents\",'1-1経営改善の計画'!Q22)","v":0},null,{"$f":"CELL(\"contents\",'1-1経営改善の計画'!R22)","v":0},null,{"$f":"CELL(\"contents\",'1-1経営改善の計画'!S22)","v":0},null,{"$f":"CELL(\"contents\",'1-1経営改善の計画'!T22)","v":0},null,{"$f":"CELL(\"contents\",'1-1経営改善の計画'!U22)","v":0},null,{"$f":"CELL(\"contents\",'1-1経営改善の計画'!V22)","v":0},null,{"$f":"CELL(\"contents\",'1-1経営改善の計画'!W22)","v":0},null,{"$f":"CELL(\"contents\",'1-1経営改善の計画'!X22)","v":0}]
[null,null,null,"子豚出荷頭数",null,null,null,"頭",{"$f":"CELL(\"contents\",'1-1経営改善の計画'!G23)","v":0},null,{"$f":"CELL(\"contents\",'1-1経営改善の計画'!H23)","v":0},null,{"$f":"CELL(\"contents\",'1-1経営改善の計画'!J23)","v":0},null,{"$f":"CELL(\"contents\",'1-1経営改善の計画'!K23)","v":0},null,{"$f":"CELL(\"contents\",'1-1経営改善の計画'!M23)","v":0},null,{"$f":"CELL(\"contents\",'1-1経営改善の計画'!O23)","v":0},null,{"$f":"CELL(\"contents\",'1-1経営改善の計画'!Q23)","v":0},null,{"$f":"CELL(\"contents\",'1-1経営改善の計画'!R23)","v":0},null,{"$f":"CELL(\"contents\",'1-1経営改善の計画'!S23)","v":0},null,{"$f":"CELL(\"contents\",'1-1経営改善の計画'!T23)","v":0},null,{"$f":"CELL(\"contents\",'1-1経営改善の計画'!U23)","v":0},null,{"$f":"CELL(\"contents\",'1-1経営改善の計画'!V23)","v":0},null,{"$f":"CELL(\"contents\",'1-1経営改善の計画'!W23)","v":0},null,{"$f":"CELL(\"contents\",'1-1経営改善の計画'!X23)","v":0}]
[null,null,null,"子豚出荷価格",null,null,null,"千円",{"$f":"CELL(\"contents\",'1-1経営改善の計画'!G26)","v":0},null,{"$f":"CELL(\"contents\",'1-1経営改善の計画'!H26)","v":0},null,{"$f":"CELL(\"contents\",'1-1経営改善の計画'!J26)","v":0},null,{"$f":"CELL(\"contents\",'1-1経営改善の計画'!K26)","v":0},null,{"$f":"CELL(\"contents\",'1-1経営改善の計画'!M26)","v":0},null,{"$f":"CELL(\"contents\",'1-1経営改善の計画'!O26)","v":0},null,{"$f":"CELL(\"contents\",'1-1経営改善の計画'!Q26)","v":0},null,{"$f":"CELL(\"contents\",'1-1経営改善の計画'!R26)","v":0},null,{"$f":"CELL(\"contents\",'1-1経営改善の計画'!S26)","v":0},null,{"$f":"CELL(\"contents\",'1-1経営改善の計画'!T26)","v":0},null,{"$f":"CELL(\"contents\",'1-1経営改善の計画'!U26)","v":0},null,{"$f":"CELL(\"contents\",'1-1経営改善の計画'!V26)","v":0},null,{"$f":"CELL(\"contents\",'1-1経営改善の計画'!W26)","v":0},null,{"$f":"CELL(\"contents\",'1-1経営改善の計画'!X26)","v":0}]
[null,null,"肥育","肥育豚出荷頭数",null,null,null,"頭",{"$f":"CELL(\"contents\",'1-1経営改善の計画'!G31)","v":0},null,{"$f":"CELL(\"contents\",'1-1経営改善の計画'!H31)","v":0},null,{"$f":"CELL(\"contents\",'1-1経営改善の計画'!J31)","v":0},null,{"$f":"CELL(\"contents\",'1-1経営改善の計画'!K31)","v":0},null,{"$f":"CELL(\"contents\",'1-1経営改善の計画'!M31)","v":0},null,{"$f":"CELL(\"contents\",'1-1経営改善の計画'!O31)","v":0},null,{"$f":"CELL(\"contents\",'1-1経営改善の計画'!Q31)","v":0},null,{"$f":"CELL(\"contents\",'1-1経営改善の計画'!R31)","v":0},null,{"$f":"CELL(\"contents\",'1-1経営改善の計画'!S31)","v":0},null,{"$f":"CELL(\"contents\",'1-1経営改善の計画'!T31)","v":0},null,{"$f":"CELL(\"contents\",'1-1経営改善の計画'!U31)","v":0},null,{"$f":"CELL(\"contents\",'1-1経営改善の計画'!V31)","v":0},null,{"$f":"CELL(\"contents\",'1-1経営改善の計画'!W31)","v":0},null,{"$f":"CELL(\"contents\",'1-1経営改善の計画'!X31)","v":0}]
[null,null,null,"肥育豚出荷価格",null,null,null,"千円",{"$f":"CELL(\"contents\",'1-1経営改善の計画'!G34)","v":0},null,{"$f":"CELL(\"contents\",'1-1経営改善の計画'!H34)","v":0},null,{"$f":"CELL(\"contents\",'1-1経営改善の計画'!J34)","v":0},null,{"$f":"CELL(\"contents\",'1-1経営改善の計画'!K34)","v":0},null,{"$f":"CELL(\"contents\",'1-1経営改善の計画'!M34)","v":0},null,{"$f":"CELL(\"contents\",'1-1経営改善の計画'!O34)","v":0},null,{"$f":"CELL(\"contents\",'1-1経営改善の計画'!Q34)","v":0},null,{"$f":"CELL(\"contents\",'1-1経営改善の計画'!R34)","v":0},null,{"$f":"CELL(\"contents\",'1-1経営改善の計画'!S34)","v":0},null,{"$f":"CELL(\"contents\",'1-1経営改善の計画'!T34)","v":0},null,{"$f":"CELL(\"contents\",'1-1経営改善の計画'!U34)","v":0},null,{"$f":"CELL(\"contents\",'1-1経営改善の計画'!V34)","v":0},null,{"$f":"CELL(\"contents\",'1-1経営改善の計画'!W34)","v":0},null,{"$f":"CELL(\"contents\",'1-1経営改善の計画'!X34)","v":0}]
[null,null,null,"平均肥育日数",null,null,null,"日",{"$f":"CELL(\"contents\",'1-1経営改善の計画'!G35)","v":0},null,{"$f":"CELL(\"contents\",'1-1経営改善の計画'!H35)","v":0},null,{"$f":"CELL(\"contents\",'1-1経営改善の計画'!J35)","v":0},null,{"$f":"CELL(\"contents\",'1-1経営改善の計画'!K35)","v":0},null,{"$f":"CELL(\"contents\",'1-1経営改善の計画'!M35)","v":0},null,{"$f":"CELL(\"contents\",'1-1経営改善の計画'!O35)","v":0},null,{"$f":"CELL(\"contents\",'1-1経営改善の計画'!Q35)","v":0},null,{"$f":"CELL(\"contents\",'1-1経営改善の計画'!R35)","v":0},null,{"$f":"CELL(\"contents\",'1-1経営改善の計画'!S35)","v":0},null,{"$f":"CELL(\"contents\",'1-1経営改善の計画'!T35)","v":0},null,{"$f":"CELL(\"contents\",'1-1経営改善の計画'!U35)","v":0},null,{"$f":"CELL(\"contents\",'1-1経営改善の計画'!V35)","v":0},null,{"$f":"CELL(\"contents\",'1-1経営改善の計画'!W35)","v":0},null,{"$f":"CELL(\"contents\",'1-1経営改善の計画'!X35)","v":0}]
[null,null,null,"1日当たり増体重量",null,null,null,"g",{"$f":"CELL(\"contents\",'1-1経営改善の計画'!G36)","v":0},null,{"$f":"CELL(\"contents\",'1-1経営改善の計画'!H36)","v":0},null,{"$f":"CELL(\"contents\",'1-1経営改善の計画'!J36)","v":0},null,{"$f":"CELL(\"contents\",'1-1経営改善の計画'!K36)","v":0},null,{"$f":"CELL(\"contents\",'1-1経営改善の計画'!M36)","v":0},null,{"$f":"CELL(\"contents\",'1-1経営改善の計画'!O36)","v":0},null,{"$f":"CELL(\"contents\",'1-1経営改善の計画'!Q36)","v":0},null,{"$f":"CELL(\"contents\",'1-1経営改善の計画'!R36)","v":0},null,{"$f":"CELL(\"contents\",'1-1経営改善の計画'!S36)","v":0},null,{"$f":"CELL(\"contents\",'1-1経営改善の計画'!T36)","v":0},null,{"$f":"CELL(\"contents\",'1-1経営改善の計画'!U36)","v":0},null,{"$f":"CELL(\"contents\",'1-1経営改善の計画'!V36)","v":0},null,{"$f":"CELL(\"contents\",'1-1経営改善の計画'!W36)","v":0},null,{"$f":"CELL(\"contents\",'1-1経営改善の計画'!X36)","v":0}]
[null,null,null,"事故率",null,null,null,"%",{"$f":"CELL(\"contents\",'1-1経営改善の計画'!G37)","v":0},null,{"$f":"CELL(\"contents\",'1-1経営改善の計画'!H37)","v":0},null,{"$f":"CELL(\"contents\",'1-1経営改善の計画'!J37)","v":0},null,{"$f":"CELL(\"contents\",'1-1経営改善の計画'!K37)","v":0},null,{"$f":"CELL(\"contents\",'1-1経営改善の計画'!M37)","v":0},null,{"$f":"CELL(\"contents\",'1-1経営改善の計画'!O37)","v":0},null,{"$f":"CELL(\"contents\",'1-1経営改善の計画'!Q37)","v":0},null,{"$f":"CELL(\"contents\",'1-1経営改善の計画'!R37)","v":0},null,{"$f":"CELL(\"contents\",'1-1経営改善の計画'!S37)","v":0},null,{"$f":"CELL(\"contents\",'1-1経営改善の計画'!T37)","v":0},null,{"$f":"CELL(\"contents\",'1-1経営改善の計画'!U37)","v":0},null,{"$f":"CELL(\"contents\",'1-1経営改善の計画'!V37)","v":0},null,{"$f":"CELL(\"contents\",'1-1経営改善の計画'!W37)","v":0},null,{"$f":"CELL(\"contents\",'1-1経営改善の計画'!X37)","v":0}]
[null,null,null,"肥育素豚自家産割合",null,null,null,"%",{"$f":"CELL(\"contents\",'1-1経営改善の計画'!G38)","v":0},null,{"$f":"CELL(\"contents\",'1-1経営改善の計画'!H38)","v":0},null,{"$f":"CELL(\"contents\",'1-1経営改善の計画'!J38)","v":0},null,{"$f":"CELL(\"contents\",'1-1経営改善の計画'!K38)","v":0},null,{"$f":"CELL(\"contents\",'1-1経営改善の計画'!M38)","v":0},null,{"$f":"CELL(\"contents\",'1-1経営改善の計画'!O38)","v":0},null,{"$f":"CELL(\"contents\",'1-1経営改善の計画'!Q38)","v":0},null,{"$f":"CELL(\"contents\",'1-1経営改善の計画'!R38)","v":0},null,{"$f":"CELL(\"contents\",'1-1経営改善の計画'!S38)","v":0},null,{"$f":"CELL(\"contents\",'1-1経営改善の計画'!T38)","v":0},null,{"$f":"CELL(\"contents\",'1-1経営改善の計画'!U38)","v":0},null,{"$f":"CELL(\"contents\",'1-1経営改善の計画'!V38)","v":0},null,{"$f":"CELL(\"contents\",'1-1経営改善の計画'!W38)","v":0},null,{"$f":"CELL(\"contents\",'1-1経営改善の計画'!X38)","v":0}]
[null,"経営収支状況","売上高","畜産部門",null,null,null,"千円",{"$f":"CELL(\"contents\",'2-1経営収支計画・法人'!G$6)","v":0},null,{"$f":"CELL(\"contents\",'2-1経営収支計画・法人'!H$6)","v":0},null,{"$f":"CELL(\"contents\",'2-1経営収支計画・法人'!J$6)","v":0},null,{"$f":"CELL(\"contents\",'2-1経営収支計画・法人'!K$6)","v":0},null,{"$f":"CELL(\"contents\",'2-1経営収支計画・法人'!M$6)","v":0},null,{"$f":"CELL(\"contents\",'2-1経営収支計画・法人'!O$6)","v":0},null,{"$f":"CELL(\"contents\",'2-1経営収支計画・法人'!Q$6)","v":0},null,{"$f":"CELL(\"contents\",'2-1経営収支計画・法人'!R$6)","v":0},null,{"$f":"CELL(\"contents\",'2-1経営収支計画・法人'!S$6)","v":0},null,{"$f":"CELL(\"contents\",'2-1経営収支計画・法人'!T$6)","v":0},null,{"$f":"CELL(\"contents\",'2-1経営収支計画・法人'!U$6)","v":0},null,{"$f":"CELL(\"contents\",'2-1経営収支計画・法人'!V$6)","v":0},null,{"$f":"CELL(\"contents\",'2-1経営収支計画・法人'!W$6)","v":0},null,{"$f":"CELL(\"contents\",'2-1経営収支計画・法人'!X$6)","v":0}]
[null,null,null,"その他部門",null,null,null,"千円",{"$f":"CELL(\"contents\",'2-1経営収支計画・法人'!G$7)","v":0},null,{"$f":"CELL(\"contents\",'2-1経営収支計画・法人'!H$7)","v":0},null,{"$f":"CELL(\"contents\",'2-1経営収支計画・法人'!J$7)","v":0},null,{"$f":"CELL(\"contents\",'2-1経営収支計画・法人'!K$7)","v":0},null,{"$f":"CELL(\"contents\",'2-1経営収支計画・法人'!M$7)","v":0},null,{"$f":"CELL(\"contents\",'2-1経営収支計画・法人'!O$7)","v":0},null,{"$f":"CELL(\"contents\",'2-1経営収支計画・法人'!Q$7)","v":0},null,{"$f":"CELL(\"contents\",'2-1経営収支計画・法人'!R$7)","v":0},null,{"$f":"CELL(\"contents\",'2-1経営収支計画・法人'!S$7)","v":0},null,{"$f":"CELL(\"contents\",'2-1経営収支計画・法人'!T$7)","v":0},null,{"$f":"CELL(\"contents\",'2-1経営収支計画・法人'!U$7)","v":0},null,{"$f":"CELL(\"contents\",'2-1経営収支計画・法人'!V$7)","v":0},null,{"$f":"CELL(\"contents\",'2-1経営収支計画・法人'!W$7)","v":0},null,{"$f":"CELL(\"contents\",'2-1経営収支計画・法人'!X$7)","v":0}]
[null,null,null,null,"①計",null,null,"千円",{"$f":"CELL(\"contents\",'2-1経営収支計画・法人'!G$8)","v":0},null,{"$f":"CELL(\"contents\",'2-1経営収支計画・法人'!H$8)","v":0},null,{"$f":"CELL(\"contents\",'2-1経営収支計画・法人'!J$8)","v":0},null,{"$f":"CELL(\"contents\",'2-1経営収支計画・法人'!K$8)","v":0},null,{"$f":"CELL(\"contents\",'2-1経営収支計画・法人'!M$8)","v":0},null,{"$f":"CELL(\"contents\",'2-1経営収支計画・法人'!O$8)","v":0},null,{"$f":"CELL(\"contents\",'2-1経営収支計画・法人'!Q$8)","v":0},null,{"$f":"CELL(\"contents\",'2-1経営収支計画・法人'!R$8)","v":0},null,{"$f":"CELL(\"contents\",'2-1経営収支計画・法人'!S$8)","v":0},null,{"$f":"CELL(\"contents\",'2-1経営収支計画・法人'!T$8)","v":0},null,{"$f":"CELL(\"contents\",'2-1経営収支計画・法人'!U$8)","v":0},null,{"$f":"CELL(\"contents\",'2-1経営収支計画・法人'!V$8)","v":0},null,{"$f":"CELL(\"contents\",'2-1経営収支計画・法人'!W$8)","v":0},null,{"$f":"CELL(\"contents\",'2-1経営収支計画・法人'!X$8)","v":0}]
[null,null,"売上原価","②期首棚卸高",null,null,null,"千円",{"$f":"CELL(\"contents\",'2-1経営収支計画・法人'!G$9)","v":0},null,{"$f":"CELL(\"contents\",'2-1経営収支計画・法人'!H$9)","v":0},null,{"$f":"CELL(\"contents\",'2-1経営収支計画・法人'!J$9)","v":0},null,{"$f":"CELL(\"contents\",'2-1経営収支計画・法人'!K$9)","v":0},null,{"$f":"CELL(\"contents\",'2-1経営収支計画・法人'!M$9)","v":0},null,{"$f":"CELL(\"contents\",'2-1経営収支計画・法人'!O$9)","v":0},null,{"$f":"CELL(\"contents\",'2-1経営収支計画・法人'!Q$9)","v":0},null,{"$f":"CELL(\"contents\",'2-1経営収支計画・法人'!R$9)","v":0},null,{"$f":"CELL(\"contents\",'2-1経営収支計画・法人'!S$9)","v":0},null,{"$f":"CELL(\"contents\",'2-1経営収支計画・法人'!T$9)","v":0},null,{"$f":"CELL(\"contents\",'2-1経営収支計画・法人'!U$9)","v":0},null,{"$f":"CELL(\"contents\",'2-1経営収支計画・法人'!V$9)","v":0},null,{"$f":"CELL(\"contents\",'2-1経営収支計画・法人'!W$9)","v":0},null,{"$f":"CELL(\"contents\",'2-1経営収支計画・法人'!X$9)","v":0}]
[null,null,null,"③当期製造原価",null,null,null,"千円",{"$f":"CELL(\"contents\",'2-1経営収支計画・法人'!G$10)","v":0},null,{"$f":"CELL(\"contents\",'2-1経営収支計画・法人'!H$10)","v":0},null,{"$f":"CELL(\"contents\",'2-1経営収支計画・法人'!J$10)","v":0},null,{"$f":"CELL(\"contents\",'2-1経営収支計画・法人'!K$10)","v":0},null,{"$f":"CELL(\"contents\",'2-1経営収支計画・法人'!M$10)","v":0},null,{"$f":"CELL(\"contents\",'2-1経営収支計画・法人'!O$10)","v":0},null,{"$f":"CELL(\"contents\",'2-1経営収支計画・法人'!Q$10)","v":0},null,{"$f":"CELL(\"contents\",'2-1経営収支計画・法人'!R$10)","v":0},null,{"$f":"CELL(\"contents\",'2-1経営収支計画・法人'!S$10)","v":0},null,{"$f":"CELL(\"contents\",'2-1経営収支計画・法人'!T$10)","v":0},null,{"$f":"CELL(\"contents\",'2-1経営収支計画・法人'!U$10)","v":0},null,{"$f":"CELL(\"contents\",'2-1経営収支計画・法人'!V$10)","v":0},null,{"$f":"CELL(\"contents\",'2-1経営収支計画・法人'!W$10)","v":0},null,{"$f":"CELL(\"contents\",'2-1経営収支計画・法人'!X$10)","v":0}]
[null,null,null,null,"うち家畜購入費",null,null,"千円",{"$f":"CELL(\"contents\",'2-1経営収支計画・法人'!G$11)","v":0},null,{"$f":"CELL(\"contents\",'2-1経営収支計画・法人'!H$11)","v":0},null,{"$f":"CELL(\"contents\",'2-1経営収支計画・法人'!J$11)","v":0},null,{"$f":"CELL(\"contents\",'2-1経営収支計画・法人'!K$11)","v":0},null,{"$f":"CELL(\"contents\",'2-1経営収支計画・法人'!M$11)","v":0},null,{"$f":"CELL(\"contents\",'2-1経営収支計画・法人'!O$11)","v":0},null,{"$f":"CELL(\"contents\",'2-1経営収支計画・法人'!Q$11)","v":0},null,{"$f":"CELL(\"contents\",'2-1経営収支計画・法人'!R$11)","v":0},null,{"$f":"CELL(\"contents\",'2-1経営収支計画・法人'!S$11)","v":0},null,{"$f":"CELL(\"contents\",'2-1経営収支計画・法人'!T$11)","v":0},null,{"$f":"CELL(\"contents\",'2-1経営収支計画・法人'!U$11)","v":0},null,{"$f":"CELL(\"contents\",'2-1経営収支計画・法人'!V$11)","v":0},null,{"$f":"CELL(\"contents\",'2-1経営収支計画・法人'!W$11)","v":0},null,{"$f":"CELL(\"contents\",'2-1経営収支計画・法人'!X$11)","v":0}]
[null,null,null,null,"うち飼料購入費",null,null,"千円",{"$f":"CELL(\"contents\",'2-1経営収支計画・法人'!G$12)","v":0},null,{"$f":"CELL(\"contents\",'2-1経営収支計画・法人'!H$12)","v":0},null,{"$f":"CELL(\"contents\",'2-1経営収支計画・法人'!J$12)","v":0},null,{"$f":"CELL(\"contents\",'2-1経営収支計画・法人'!K$12)","v":0},null,{"$f":"CELL(\"contents\",'2-1経営収支計画・法人'!M$12)","v":0},null,{"$f":"CELL(\"contents\",'2-1経営収支計画・法人'!O$12)","v":0},null,{"$f":"CELL(\"contents\",'2-1経営収支計画・法人'!Q$12)","v":0},null,{"$f":"CELL(\"contents\",'2-1経営収支計画・法人'!R$12)","v":0},null,{"$f":"CELL(\"contents\",'2-1経営収支計画・法人'!S$12)","v":0},null,{"$f":"CELL(\"contents\",'2-1経営収支計画・法人'!T$12)","v":0},null,{"$f":"CELL(\"contents\",'2-1経営収支計画・法人'!U$12)","v":0},null,{"$f":"CELL(\"contents\",'2-1経営収支計画・法人'!V$12)","v":0},null,{"$f":"CELL(\"contents\",'2-1経営収支計画・法人'!W$12)","v":0},null,{"$f":"CELL(\"contents\",'2-1経営収支計画・法人'!X$12)","v":0}]
[null,null,null,null,"④うち減価償却費",null,null,"千円",{"$f":"CELL(\"contents\",'2-1経営収支計画・法人'!G$13)","v":0},null,{"$f":"CELL(\"contents\",'2-1経営収支計画・法人'!H$13)","v":0},null,{"$f":"CELL(\"contents\",'2-1経営収支計画・法人'!J$13)","v":0},null,{"$f":"CELL(\"contents\",'2-1経営収支計画・法人'!K$13)","v":0},null,{"$f":"CELL(\"contents\",'2-1経営収支計画・法人'!M$13)","v":0},null,{"$f":"CELL(\"contents\",'2-1経営収支計画・法人'!O$13)","v":0},null,{"$f":"CELL(\"contents\",'2-1経営収支計画・法人'!Q$13)","v":0},null,{"$f":"CELL(\"contents\",'2-1経営収支計画・法人'!R$13)","v":0},null,{"$f":"CELL(\"contents\",'2-1経営収支計画・法人'!S$13)","v":0},null,{"$f":"CELL(\"contents\",'2-1経営収支計画・法人'!T$13)","v":0},null,{"$f":"CELL(\"contents\",'2-1経営収支計画・法人'!U$13)","v":0},null,{"$f":"CELL(\"contents\",'2-1経営収支計画・法人'!V$13)","v":0},null,{"$f":"CELL(\"contents\",'2-1経営収支計画・法人'!W$13)","v":0},null,{"$f":"CELL(\"contents\",'2-1経営収支計画・法人'!X$13)","v":0}]
[null,null,null,"⑤期中成畜振替額",null,null,null,"千円",{"$f":"CELL(\"contents\",'2-1経営収支計画・法人'!G$14)","v":0},null,{"$f":"CELL(\"contents\",'2-1経営収支計画・法人'!H$14)","v":0},null,{"$f":"CELL(\"contents\",'2-1経営収支計画・法人'!J$14)","v":0},null,{"$f":"CELL(\"contents\",'2-1経営収支計画・法人'!K$14)","v":0},null,{"$f":"CELL(\"contents\",'2-1経営収支計画・法人'!M$14)","v":0},null,{"$f":"CELL(\"contents\",'2-1経営収支計画・法人'!O$14)","v":0},null,{"$f":"CELL(\"contents\",'2-1経営収支計画・法人'!Q$14)","v":0},null,{"$f":"CELL(\"contents\",'2-1経営収支計画・法人'!R$14)","v":0},null,{"$f":"CELL(\"contents\",'2-1経営収支計画・法人'!S$14)","v":0},null,{"$f":"CELL(\"contents\",'2-1経営収支計画・法人'!T$14)","v":0},null,{"$f":"CELL(\"contents\",'2-1経営収支計画・法人'!U$14)","v":0},null,{"$f":"CELL(\"contents\",'2-1経営収支計画・法人'!V$14)","v":0},null,{"$f":"CELL(\"contents\",'2-1経営収支計画・法人'!W$14)","v":0},null,{"$f":"CELL(\"contents\",'2-1経営収支計画・法人'!X$14)","v":0}]
[null,null,null,"⑥期末棚卸高",null,null,null,"千円",{"$f":"CELL(\"contents\",'2-1経営収支計画・法人'!G$15)","v":0},null,{"$f":"CELL(\"contents\",'2-1経営収支計画・法人'!H$15)","v":0},null,{"$f":"CELL(\"contents\",'2-1経営収支計画・法人'!J$15)","v":0},null,{"$f":"CELL(\"contents\",'2-1経営収支計画・法人'!K$15)","v":0},null,{"$f":"CELL(\"contents\",'2-1経営収支計画・法人'!M$15)","v":0},null,{"$f":"CELL(\"contents\",'2-1経営収支計画・法人'!O$15)","v":0},null,{"$f":"CELL(\"contents\",'2-1経営収支計画・法人'!Q$15)","v":0},null,{"$f":"CELL(\"contents\",'2-1経営収支計画・法人'!R$15)","v":0},null,{"$f":"CELL(\"contents\",'2-1経営収支計画・法人'!S$15)","v":0},null,{"$f":"CELL(\"contents\",'2-1経営収支計画・法人'!T$15)","v":0},null,{"$f":"CELL(\"contents\",'2-1経営収支計画・法人'!U$15)","v":0},null,{"$f":"CELL(\"contents\",'2-1経営収支計画・法人'!V$15)","v":0},null,{"$f":"CELL(\"contents\",'2-1経営収支計画・法人'!W$15)","v":0},null,{"$f":"CELL(\"contents\",'2-1経営収支計画・法人'!X$15)","v":0}]
[null,null,null,"⑦計（②＋③－⑤－⑥）",null,null,null,"千円",{"$f":"CELL(\"contents\",'2-1経営収支計画・法人'!G$16)","v":0},null,{"$f":"CELL(\"contents\",'2-1経営収支計画・法人'!H$16)","v":0},null,{"$f":"CELL(\"contents\",'2-1経営収支計画・法人'!J$16)","v":0},null,{"$f":"CELL(\"contents\",'2-1経営収支計画・法人'!K$16)","v":0},null,{"$f":"CELL(\"contents\",'2-1経営収支計画・法人'!M$16)","v":0},null,{"$f":"CELL(\"contents\",'2-1経営収支計画・法人'!O$16)","v":0},null,{"$f":"CELL(\"contents\",'2-1経営収支計画・法人'!Q$16)","v":0},null,{"$f":"CELL(\"contents\",'2-1経営収支計画・法人'!R$16)","v":0},null,{"$f":"CELL(\"contents\",'2-1経営収支計画・法人'!S$16)","v":0},null,{"$f":"CELL(\"contents\",'2-1経営収支計画・法人'!T$16)","v":0},null,{"$f":"CELL(\"contents\",'2-1経営収支計画・法人'!U$16)","v":0},null,{"$f":"CELL(\"contents\",'2-1経営収支計画・法人'!V$16)","v":0},null,{"$f":"CELL(\"contents\",'2-1経営収支計画・法人'!W$16)","v":0},null,{"$f":"CELL(\"contents\",'2-1経営収支計画・法人'!X$16)","v":0}]
[null,null,"⑧売上利益（①－⑦）",null,null,null,null,"千円",{"$f":"CELL(\"contents\",'2-1経営収支計画・法人'!G$17)","v":0},null,{"$f":"CELL(\"contents\",'2-1経営収支計画・法人'!H$17)","v":0},null,{"$f":"CELL(\"contents\",'2-1経営収支計画・法人'!J$17)","v":0},null,{"$f":"CELL(\"contents\",'2-1経営収支計画・法人'!K$17)","v":0},null,{"$f":"CELL(\"contents\",'2-1経営収支計画・法人'!M$17)","v":0},null,{"$f":"CELL(\"contents\",'2-1経営収支計画・法人'!O$17)","v":0},null,{"$f":"CELL(\"contents\",'2-1経営収支計画・法人'!Q$17)","v":0},null,{"$f":"CELL(\"contents\",'2-1経営収支計画・法人'!R$17)","v":0},null,{"$f":"CELL(\"contents\",'2-1経営収支計画・法人'!S$17)","v":0},null,{"$f":"CELL(\"contents\",'2-1経営収支計画・法人'!T$17)","v":0},null,{"$f":"CELL(\"contents\",'2-1経営収支計画・法人'!U$17)","v":0},null,{"$f":"CELL(\"contents\",'2-1経営収支計画・法人'!V$17)","v":0},null,{"$f":"CELL(\"contents\",'2-1経営収支計画・法人'!W$17)","v":0},null,{"$f":"CELL(\"contents\",'2-1経営収支計画・法人'!X$17)","v":0}]
[null,null,"⑨販売費及び一般管理費",null,null,null,null,"千円",{"$f":"CELL(\"contents\",'2-1経営収支計画・法人'!G$18)","v":0},null,{"$f":"CELL(\"contents\",'2-1経営収支計画・法人'!H$18)","v":0},null,{"$f":"CELL(\"contents\",'2-1経営収支計画・法人'!J$18)","v":0},null,{"$f":"CELL(\"contents\",'2-1経営収支計画・法人'!K$18)","v":0},null,{"$f":"CELL(\"contents\",'2-1経営収支計画・法人'!M$18)","v":0},null,{"$f":"CELL(\"contents\",'2-1経営収支計画・法人'!O$18)","v":0},null,{"$f":"CELL(\"contents\",'2-1経営収支計画・法人'!Q$18)","v":0},null,{"$f":"CELL(\"contents\",'2-1経営収支計画・法人'!R$18)","v":0},null,{"$f":"CELL(\"contents\",'2-1経営収支計画・法人'!S$18)","v":0},null,{"$f":"CELL(\"contents\",'2-1経営収支計画・法人'!T$18)","v":0},null,{"$f":"CELL(\"contents\",'2-1経営収支計画・法人'!U$18)","v":0},null,{"$f":"CELL(\"contents\",'2-1経営収支計画・法人'!V$18)","v":0},null,{"$f":"CELL(\"contents\",'2-1経営収支計画・法人'!W$18)","v":0},null,{"$f":"CELL(\"contents\",'2-1経営収支計画・法人'!X$18)","v":0}]
[null,null,null,"うち役員報酬",null,null,null,"千円",{"$f":"CELL(\"contents\",'2-1経営収支計画・法人'!G$19)","v":0},null,{"$f":"CELL(\"contents\",'2-1経営収支計画・法人'!H$19)","v":0},null,{"$f":"CELL(\"contents\",'2-1経営収支計画・法人'!J$19)","v":0},null,{"$f":"CELL(\"contents\",'2-1経営収支計画・法人'!K$19)","v":0},null,{"$f":"CELL(\"contents\",'2-1経営収支計画・法人'!M$19)","v":0},null,{"$f":"CELL(\"contents\",'2-1経営収支計画・法人'!O$19)","v":0},null,{"$f":"CELL(\"contents\",'2-1経営収支計画・法人'!Q$19)","v":0},null,{"$f":"CELL(\"contents\",'2-1経営収支計画・法人'!R$19)","v":0},null,{"$f":"CELL(\"contents\",'2-1経営収支計画・法人'!S$19)","v":0},null,{"$f":"CELL(\"contents\",'2-1経営収支計画・法人'!T$19)","v":0},null,{"$f":"CELL(\"contents\",'2-1経営収支計画・法人'!U$19)","v":0},null,{"$f":"CELL(\"contents\",'2-1経営収支計画・法人'!V$19)","v":0},null,{"$f":"CELL(\"contents\",'2-1経営収支計画・法人'!W$19)","v":0},null,{"$f":"CELL(\"contents\",'2-1経営収支計画・法人'!X$19)","v":0}]
[null,null,"⑩事業利益（⑧－⑨）",null,null,null,null,"千円",{"$f":"CELL(\"contents\",'2-1経営収支計画・法人'!G$20)","v":0},null,{"$f":"CELL(\"contents\",'2-1経営収支計画・法人'!H$20)","v":0},null,{"$f":"CELL(\"contents\",'2-1経営収支計画・法人'!J$20)","v":0},null,{"$f":"CELL(\"contents\",'2-1経営収支計画・法人'!K$20)","v":0},null,{"$f":"CELL(\"contents\",'2-1経営収支計画・法人'!M$20)","v":0},null,{"$f":"CELL(\"contents\",'2-1経営収支計画・法人'!O$20)","v":0},null,{"$f":"CELL(\"contents\",'2-1経営収支計画・法人'!Q$20)","v":0},null,{"$f":"CELL(\"contents\",'2-1経営収支計画・法人'!R$20)","v":0},null,{"$f":"CELL(\"contents\",'2-1経営収支計画・法人'!S$20)","v":0},null,{"$f":"CELL(\"contents\",'2-1経営収支計画・法人'!T$20)","v":0},null,{"$f":"CELL(\"contents\",'2-1経営収支計画・法人'!U$20)","v":0},null,{"$f":"CELL(\"contents\",'2-1経営収支計画・法人'!V$20)","v":0},null,{"$f":"CELL(\"contents\",'2-1経営収支計画・法人'!W$20)","v":0},null,{"$f":"CELL(\"contents\",'2-1経営収支計画・法人'!X$20)","v":0}]
[null,null,"⑪事業外収入",null,null,null,null,"千円",{"$f":"CELL(\"contents\",'2-1経営収支計画・法人'!G$21)","v":0},null,{"$f":"CELL(\"contents\",'2-1経営収支計画・法人'!H$21)","v":0},null,{"$f":"CELL(\"contents\",'2-1経営収支計画・法人'!J$21)","v":0},null,{"$f":"CELL(\"contents\",'2-1経営収支計画・法人'!K$21)","v":0},null,{"$f":"CELL(\"contents\",'2-1経営収支計画・法人'!M$21)","v":0},null,{"$f":"CELL(\"contents\",'2-1経営収支計画・法人'!O$21)","v":0},null,{"$f":"CELL(\"contents\",'2-1経営収支計画・法人'!Q$21)","v":0},null,{"$f":"CELL(\"contents\",'2-1経営収支計画・法人'!R$21)","v":0},null,{"$f":"CELL(\"contents\",'2-1経営収支計画・法人'!S$21)","v":0},null,{"$f":"CELL(\"contents\",'2-1経営収支計画・法人'!T$21)","v":0},null,{"$f":"CELL(\"contents\",'2-1経営収支計画・法人'!U$21)","v":0},null,{"$f":"CELL(\"contents\",'2-1経営収支計画・法人'!V$21)","v":0},null,{"$f":"CELL(\"contents\",'2-1経営収支計画・法人'!W$21)","v":0},null,{"$f":"CELL(\"contents\",'2-1経営収支計画・法人'!X$21)","v":0}]
[null,null,null,"うち国の奨励金",null,null,null,"千円",{"$f":"CELL(\"contents\",'2-1経営収支計画・法人'!G$22)","v":0},null,{"$f":"CELL(\"contents\",'2-1経営収支計画・法人'!H$22)","v":0},null,{"$f":"CELL(\"contents\",'2-1経営収支計画・法人'!J$22)","v":0},null,{"$f":"CELL(\"contents\",'2-1経営収支計画・法人'!K$22)","v":0},null,{"$f":"CELL(\"contents\",'2-1経営収支計画・法人'!M$22)","v":0},null,{"$f":"CELL(\"contents\",'2-1経営収支計画・法人'!O$22)","v":0},null,{"$f":"CELL(\"contents\",'2-1経営収支計画・法人'!Q$22)","v":0},null,{"$f":"CELL(\"contents\",'2-1経営収支計画・法人'!R$22)","v":0},null,{"$f":"CELL(\"contents\",'2-1経営収支計画・法人'!S$22)","v":0},null,{"$f":"CELL(\"contents\",'2-1経営収支計画・法人'!T$22)","v":0},null,{"$f":"CELL(\"contents\",'2-1経営収支計画・法人'!U$22)","v":0},null,{"$f":"CELL(\"contents\",'2-1経営収支計画・法人'!V$22)","v":0},null,{"$f":"CELL(\"contents\",'2-1経営収支計画・法人'!W$22)","v":0},null,{"$f":"CELL(\"contents\",'2-1経営収支計画・法人'!X$22)","v":0}]
[null,null,"⑫事業外費用",null,null,null,null,"千円",{"$f":"CELL(\"contents\",'2-1経営収支計画・法人'!G$23)","v":0},null,{"$f":"CELL(\"contents\",'2-1経営収支計画・法人'!H$23)","v":0},null,{"$f":"CELL(\"contents\",'2-1経営収支計画・法人'!J$23)","v":0},null,{"$f":"CELL(\"contents\",'2-1経営収支計画・法人'!K$23)","v":0},null,{"$f":"CELL(\"contents\",'2-1経営収支計画・法人'!M$23)","v":0},null,{"$f":"CELL(\"contents\",'2-1経営収支計画・法人'!O$23)","v":0},null,{"$f":"CELL(\"contents\",'2-1経営収支計画・法人'!Q$23)","v":0},null,{"$f":"CELL(\"contents\",'2-1経営収支計画・法人'!R$23)","v":0},null,{"$f":"CELL(\"contents\",'2-1経営収支計画・法人'!S$23)","v":0},null,{"$f":"CELL(\"contents\",'2-1経営収支計画・法人'!T$23)","v":0},null,{"$f":"CELL(\"contents\",'2-1経営収支計画・法人'!U$23)","v":0},null,{"$f":"CELL(\"contents\",'2-1経営収支計画・法人'!V$23)","v":0},null,{"$f":"CELL(\"contents\",'2-1経営収支計画・法人'!W$23)","v":0},null,{"$f":"CELL(\"contents\",'2-1経営収支計画・法人'!X$23)","v":0}]
[null,null,null,"⑬うち支払利息",null,null,null,"千円",{"$f":"CELL(\"contents\",'2-1経営収支計画・法人'!G$24)","v":0},null,{"$f":"CELL(\"contents\",'2-1経営収支計画・法人'!H$24)","v":0},null,{"$f":"CELL(\"contents\",'2-1経営収支計画・法人'!J$24)","v":0},null,{"$f":"CELL(\"contents\",'2-1経営収支計画・法人'!K$24)","v":0},null,{"$f":"CELL(\"contents\",'2-1経営収支計画・法人'!M$24)","v":0},null,{"$f":"CELL(\"contents\",'2-1経営収支計画・法人'!O$24)","v":0},null,{"$f":"CELL(\"contents\",'2-1経営収支計画・法人'!Q$24)","v":0},null,{"$f":"CELL(\"contents\",'2-1経営収支計画・法人'!R$24)","v":0},null,{"$f":"CELL(\"contents\",'2-1経営収支計画・法人'!S$24)","v":0},null,{"$f":"CELL(\"contents\",'2-1経営収支計画・法人'!T$24)","v":0},null,{"$f":"CELL(\"contents\",'2-1経営収支計画・法人'!U$24)","v":0},null,{"$f":"CELL(\"contents\",'2-1経営収支計画・法人'!V$24)","v":0},null,{"$f":"CELL(\"contents\",'2-1経営収支計画・法人'!W$24)","v":0},null,{"$f":"CELL(\"contents\",'2-1経営収支計画・法人'!X$24)","v":0}]
[null,null,"⑭経常利益（⑩＋⑪－⑫）",null,null,null,null,"千円",{"$f":"CELL(\"contents\",'2-1経営収支計画・法人'!G$25)","v":0},null,{"$f":"CELL(\"contents\",'2-1経営収支計画・法人'!H$25)","v":0},null,{"$f":"CELL(\"contents\",'2-1経営収支計画・法人'!J$25)","v":0},null,{"$f":"CELL(\"contents\",'2-1経営収支計画・法人'!K$25)","v":0},null,{"$f":"CELL(\"contents\",'2-1経営収支計画・法人'!M$25)","v":0},null,{"$f":"CELL(\"contents\",'2-1経営収支計画・法人'!O$25)","v":0},null,{"$f":"CELL(\"contents\",'2-1経営収支計画・法人'!Q$25)","v":0},null,{"$f":"CELL(\"contents\",'2-1経営収支計画・法人'!R$25)","v":0},null,{"$f":"CELL(\"contents\",'2-1経営収支計画・法人'!S$25)","v":0},null,{"$f":"CELL(\"contents\",'2-1経営収支計画・法人'!T$25)","v":0},null,{"$f":"CELL(\"contents\",'2-1経営収支計画・法人'!U$25)","v":0},null,{"$f":"CELL(\"contents\",'2-1経営収支計画・法人'!V$25)","v":0},null,{"$f":"CELL(\"contents\",'2-1経営収支計画・法人'!W$25)","v":0},null,{"$f":"CELL(\"contents\",'2-1経営収支計画・法人'!X$25)","v":0}]
[null,null,"⑮資産処分・預貯金充当",null,null,null,null,"千円",{"$f":"CELL(\"contents\",'2-1経営収支計画・法人'!G$26)","v":0},null,{"$f":"CELL(\"contents\",'2-1経営収支計画・法人'!H$26)","v":0},null,{"$f":"CELL(\"contents\",'2-1経営収支計画・法人'!J$26)","v":0},null,{"$f":"CELL(\"contents\",'2-1経営収支計画・法人'!K$26)","v":0},null,{"$f":"CELL(\"contents\",'2-1経営収支計画・法人'!M$26)","v":0},null,{"$f":"CELL(\"contents\",'2-1経営収支計画・法人'!O$26)","v":0},null,{"$f":"CELL(\"contents\",'2-1経営収支計画・法人'!Q$26)","v":0},null,{"$f":"CELL(\"contents\",'2-1経営収支計画・法人'!R$26)","v":0},null,{"$f":"CELL(\"contents\",'2-1経営収支計画・法人'!S$26)","v":0},null,{"$f":"CELL(\"contents\",'2-1経営収支計画・法人'!T$26)","v":0},null,{"$f":"CELL(\"contents\",'2-1経営収支計画・法人'!U$26)","v":0},null,{"$f":"CELL(\"contents\",'2-1経営収支計画・法人'!V$26)","v":0},null,{"$f":"CELL(\"contents\",'2-1経営収支計画・法人'!W$26)","v":0},null,{"$f":"CELL(\"contents\",'2-1経営収支計画・法人'!X$26)","v":0}]
[null,null,"⑯償還財源（⑭＋⑮）",null,null,null,null,"千円",{"$f":"CELL(\"contents\",'2-1経営収支計画・法人'!G$27)","v":0},null,{"$f":"CELL(\"contents\",'2-1経営収支計画・法人'!H$27)","v":0},null,{"$f":"CELL(\"contents\",'2-1経営収支計画・法人'!J$27)","v":0},null,{"$f":"CELL(\"contents\",'2-1経営収支計画・法人'!K$27)","v":0},null,{"$f":"CELL(\"contents\",'2-1経営収支計画・法人'!M$27)","v":0},null,{"$f":"CELL(\"contents\",'2-1経営収支計画・法人'!O$27)","v":0},null,{"$f":"CELL(\"contents\",'2-1経営収支計画・法人'!Q$27)","v":0},null,{"$f":"CELL(\"contents\",'2-1経営収支計画・法人'!R$27)","v":0},null,{"$f":"CELL(\"contents\",'2-1経営収支計画・法人'!S$27)","v":0},null,{"$f":"CELL(\"contents\",'2-1経営収支計画・法人'!T$27)","v":0},null,{"$f":"CELL(\"contents\",'2-1経営収支計画・法人'!U$27)","v":0},null,{"$f":"CELL(\"contents\",'2-1経営収支計画・法人'!V$27)","v":0},null,{"$f":"CELL(\"contents\",'2-1経営収支計画・法人'!W$27)","v":0},null,{"$f":"CELL(\"contents\",'2-1経営収支計画・法人'!X$27)","v":0}]
[null,null,"⑰（修正）償還財源",null,null,null,null,"千円",{"$f":"CELL(\"contents\",'2-1経営収支計画・法人'!G$37)","v":0},null,{"$f":"CELL(\"contents\",'2-1経営収支計画・法人'!H$37)","v":0},null,{"$f":"CELL(\"contents\",'2-1経営収支計画・法人'!J$37)","v":0},null,{"$f":"CELL(\"contents\",'2-1経営収支計画・法人'!K$37)","v":0},null,{"$f":"CELL(\"contents\",'2-1経営収支計画・法人'!M$37)","v":0},null,{"$f":"CELL(\"contents\",'2-1経営収支計画・法人'!O$37)","v":0},null,{"$f":"CELL(\"contents\",'2-1経営収支計画・法人'!Q$37)","v":0},null,{"$f":"CELL(\"contents\",'2-1経営収支計画・法人'!R$37)","v":0},null,{"$f":"CELL(\"contents\",'2-1経営収支計画・法人'!S$37)","v":0},null,{"$f":"CELL(\"contents\",'2-1経営収支計画・法人'!T$37)","v":0},null,{"$f":"CELL(\"contents\",'2-1経営収支計画・法人'!U$37)","v":0},null,{"$f":"CELL(\"contents\",'2-1経営収支計画・法人'!V$37)","v":0},null,{"$f":"CELL(\"contents\",'2-1経営収支計画・法人'!W$37)","v":0},null,{"$f":"CELL(\"contents\",'2-1経営収支計画・法人'!X$37)","v":0}]
[null,null,"⑱約定償還金",null,null,"元金",null,"千円",{"$f":"CELL(\"contents\",'6償還表(条件緩和後)'!M109) + CELL(\"contents\",'3-1借換後の計画'!J55)","v":0},null,{"$f":"CELL(\"contents\",'6償還表(条件緩和後)'!N109) + CELL(\"contents\",'3-1借換後の計画'!K55)","v":0},null,{"$f":"CELL(\"contents\",'6償還表(条件緩和後)'!O109) + CELL(\"contents\",'3-1借換後の計画'!M55)","v":0},null,{"$f":"CELL(\"contents\",'6償還表(条件緩和後)'!P109) + CELL(\"contents\",'3-1借換後の計画'!N55)","v":0},null,{"$f":"CELL(\"contents\",'6償還表(条件緩和後)'!Q109) + CELL(\"contents\",'3-1借換後の計画'!P55)","v":0},null,{"$f":"CELL(\"contents\",'6償還表(条件緩和後)'!R109) + CELL(\"contents\",'3-1借換後の計画'!R55)","v":0},null,{"$f":"CELL(\"contents\",'6償還表(条件緩和後)'!S109) + CELL(\"contents\",'3-1借換後の計画'!T55)","v":0},null,{"$f":"CELL(\"contents\",'6償還表(条件緩和後)'!T109) + CELL(\"contents\",'3-1借換後の計画'!U55)","v":0},null,{"$f":"CELL(\"contents\",'6償還表(条件緩和後)'!U109) + CELL(\"contents\",'3-1借換後の計画'!V55)","v":0},null,{"$f":"CELL(\"contents\",'6償還表(条件緩和後)'!V109) + CELL(\"contents\",'3-1借換後の計画'!W55)","v":0},null,{"$f":"CELL(\"contents\",'6償還表(条件緩和後)'!W109) + CELL(\"contents\",'3-1借換後の計画'!X55)","v":0},null,{"$f":"CELL(\"contents\",'6償還表(条件緩和後)'!X109) + CELL(\"contents\",'3-1借換後の計画'!Y55)","v":0},null,{"$f":"CELL(\"contents\",'6償還表(条件緩和後)'!Y109) + CELL(\"contents\",'3-1借換後の計画'!Z55)","v":0},null,{"$f":"CELL(\"contents\",'6償還表(条件緩和後)'!Z109) + CELL(\"contents\",'3-1借換後の計画'!AA55)","v":0}]
[null,null,null,null,null,"利息",null,"千円",{"$f":"CELL(\"contents\",'3-1借換後の計画'!J42) - (CELL(\"contents\",'6償還表(条件緩和後)'!M109) + CELL(\"contents\",'3-1借換後の計画'!J55))","v":0},null,{"$f":"CELL(\"contents\",'3-1借換後の計画'!K42) - (CELL(\"contents\",'6償還表(条件緩和後)'!N109) + CELL(\"contents\",'3-1借換後の計画'!K55))","v":0},null,{"$f":"CELL(\"contents\",'3-1借換後の計画'!M42) - (CELL(\"contents\",'6償還表(条件緩和後)'!O109) + CELL(\"contents\",'3-1借換後の計画'!M55))","v":0},null,{"$f":"CELL(\"contents\",'3-1借換後の計画'!N42) - (CELL(\"contents\",'6償還表(条件緩和後)'!P109) + CELL(\"contents\",'3-1借換後の計画'!N55))","v":0},null,{"$f":"CELL(\"contents\",'3-1借換後の計画'!P42) - (CELL(\"contents\",'6償還表(条件緩和後)'!Q109) + CELL(\"contents\",'3-1借換後の計画'!P55))","v":0},null,{"$f":"CELL(\"contents\",'3-1借換後の計画'!R42) - (CELL(\"contents\",'6償還表(条件緩和後)'!R109) + CELL(\"contents\",'3-1借換後の計画'!R55))","v":0},null,{"$f":"CELL(\"contents\",'3-1借換後の計画'!T42) - (CELL(\"contents\",'6償還表(条件緩和後)'!S109) + CELL(\"contents\",'3-1借換後の計画'!T55))","v":0},null,{"$f":"CELL(\"contents\",'3-1借換後の計画'!U42) - (CELL(\"contents\",'6償還表(条件緩和後)'!T109) + CELL(\"contents\",'3-1借換後の計画'!U55))","v":0},null,{"$f":"CELL(\"contents\",'3-1借換後の計画'!V42) - (CELL(\"contents\",'6償還表(条件緩和後)'!U109) + CELL(\"contents\",'3-1借換後の計画'!V55))","v":0},null,{"$f":"CELL(\"contents\",'3-1借換後の計画'!W42) - (CELL(\"contents\",'6償還表(条件緩和後)'!V109) + CELL(\"contents\",'3-1借換後の計画'!W55))","v":0},null,{"$f":"CELL(\"contents\",'3-1借換後の計画'!X42) - (CELL(\"contents\",'6償還表(条件緩和後)'!W109) + CELL(\"contents\",'3-1借換後の計画'!X55))","v":0},null,{"$f":"CELL(\"contents\",'3-1借換後の計画'!Y42) - (CELL(\"contents\",'6償還表(条件緩和後)'!X109) + CELL(\"contents\",'3-1借換後の計画'!Y55))","v":0},null,{"$f":"CELL(\"contents\",'3-1借換後の計画'!Z42) - (CELL(\"contents\",'6償還表(条件緩和後)'!Y109) + CELL(\"contents\",'3-1借換後の計画'!Z55))","v":0},null,{"$f":"CELL(\"contents\",'3-1借換後の計画'!AA42) - (CELL(\"contents\",'6償還表(条件緩和後)'!Z109) + CELL(\"contents\",'3-1借換後の計画'!AA55))","v":0}]
[null,null,null,null,null,"計",null,"千円",{"$f":"CELL(\"contents\",'3-1借換後の計画'!J42)","v":0},null,{"$f":"CELL(\"contents\",'3-1借換後の計画'!K42)","v":0},null,{"$f":"CELL(\"contents\",'3-1借換後の計画'!M42)","v":0},null,{"$f":"CELL(\"contents\",'3-1借換後の計画'!N42)","v":0},null,{"$f":"CELL(\"contents\",'3-1借換後の計画'!P42)","v":0},null,{"$f":"CELL(\"contents\",'3-1借換後の計画'!R42)","v":0},null,{"$f":"CELL(\"contents\",'3-1借換後の計画'!T42)","v":0},null,{"$f":"CELL(\"contents\",'3-1借換後の計画'!U42)","v":0},null,{"$f":"CELL(\"contents\",'3-1借換後の計画'!V42)","v":0},null,{"$f":"CELL(\"contents\",'3-1借換後の計画'!W42)","v":0},null,{"$f":"CELL(\"contents\",'3-1借換後の計画'!X42)","v":0},null,{"$f":"CELL(\"contents\",'3-1借換後の計画'!Y42)","v":0},null,{"$f":"CELL(\"contents\",'3-1借換後の計画'!Z42)","v":0},null,{"$f":"CELL(\"contents\",'3-1借換後の計画'!AA42)","v":0}]
[null,null,"⑲過不足（償還財源－約定償還金計）",null,null,null,null,"千円",{"$f":"I40-I43","v":0},null,{"$f":"K40-K43","v":0},null,{"$f":"M40-M43","v":0},null,{"$f":"O40-O43","v":0},null,{"$f":"Q40-Q43","v":0},null,{"$f":"S40-S43","v":0},null,{"$f":"U40-U43","v":0},null,{"$f":"W40-W43","v":0},null,{"$f":"Y40-Y43","v":0},null,{"$f":"AA40-AA43","v":0},null,{"$f":"AC40-AC43","v":0},null,{"$f":"AE40-AE43","v":0},null,{"$f":"AG40-AG43","v":0},null,{"$f":"AI40-AI43","v":0}]
[null,null,null,"経済階層の区分（下記注参照）",null,null,null,"階層",{"$f":"IF(OR(I64=0,I63=0),\"\",I68)","v":""},null,{"$f":"IF(OR(K64=0,K63=0),\"\",K68)","v":""},null,{"$f":"IF(OR(M64=0,M63=0),\"\",M68)","v":""},null,{"$f":"IF(OR(O64=0,O63=0),\"\",O68)","v":""},null,{"$f":"IF(OR(Q64=0,Q63=0),\"\",Q68)","v":""},null,{"$f":"IF(OR(S64=0,S63=0),\"\",S68)","v":""},null,{"$f":"IF(OR(U64=0,U63=0),\"\",U68)","v":""},null,{"$f":"IF(OR(W64=0,W63=0),\"\",W68)","v":""},null,{"$f":"IF(OR(Y64=0,Y63=0),\"\",Y68)","v":""},null,{"$f":"IF(OR(AA64=0,AA63=0),\"\",AA68)","v":""},null,{"$f":"IF(OR(AC64=0,AC63=0),\"\",AC68)","v":""},null,{"$f":"IF(OR(AE64=0,AE63=0),\"\",AE68)","v":""},null,{"$f":"IF(OR(AG64=0,AG63=0),\"\",AG68)","v":""},null,{"$f":"IF(OR(AI64=0,AI63=0),\"\",AI68)","v":""}]
[null,null,{"$f":"\"⑳\"&IF(配列シート!G3=0,\"\",IF(配列シート!G3=1,配列シート!H20,配列シート!H21)&\"対策額\")","v":"⑳"},null,null,null,null,"千円",{"$f":"I75","v":0},null,{"$f":"K75","v":0},null,{"$f":"M75","v":0},null,{"$f":"O75","v":0},null,{"$f":"Q75","v":0},null,{"$f":"S75","v":0},null,{"$f":"U75","v":0},null,{"$f":"W75","v":0},null,{"$f":"Y75","v":0},null,{"$f":"AA75","v":0},null,{"$f":"AC75","v":0},null,{"$f":"AE75","v":0},null,{"$f":"AG75","v":0},null,{"$f":"AI75","v":0}]
[null,"（注）経営収支状況の実績は確定申告書の写しを添付することで省略できる。"]
[]
[null,"既借入金残高（各年末時点）",null,null,null,null,null,"千円",{"$f":"CELL(\"contents\",'6償還表(条件緩和後)'!$AA$113)","v":0},null,{"$f":"CELL(\"contents\",'6償還表(条件緩和後)'!$AB$113)","v":0},null,{"$f":"CELL(\"contents\",'6償還表(条件緩和後)'!$AC$113)","v":0},null,{"$f":"CELL(\"contents\",'6償還表(条件緩和後)'!$AD$113)","v":0},null,{"$f":"CELL(\"contents\",'6償還表(条件緩和後)'!$AE$113)","v":0},null,{"$f":"CELL(\"contents\",'6償還表(条件緩和後)'!$AF$113)","v":0},null,{"$f":"CELL(\"contents\",'6償還表(条件緩和後)'!$AG$113)","v":0},null,{"$f":"CELL(\"contents\",'6償還表(条件緩和後)'!$AH$113)","v":0},null,{"$f":"CELL(\"contents\",'6償還表(条件緩和後)'!$AI$113)","v":0},null,{"$f":"CELL(\"contents\",'6償還表(条件緩和後)'!$AJ$113)","v":0},null,{"$f":"CELL(\"contents\",'6償還表(条件緩和後)'!$AK$113)","v":0},null,{"$f":"CELL(\"contents\",'6償還表(条件緩和後)'!$AL$113)","v":0},null,{"$f":"CELL(\"contents\",'6償還表(条件緩和後)'!$AM$113)","v":0},null,{"$f":"CELL(\"contents\",'6償還表(条件緩和後)'!$AN$113)","v":0},null,"資金名"]
[null,null,"うち畜産特別資金",null,null,null,null,"千円",{"$f":"CELL(\"contents\",'6償還表(条件緩和後)'!$AA$63)","v":0},null,{"$f":"CELL(\"contents\",'6償還表(条件緩和後)'!$AB$63)","v":0},null,{"$f":"CELL(\"contents\",'6償還表(条件緩和後)'!$AC$63)","v":0},null,{"$f":"CELL(\"contents\",'6償還表(条件緩和後)'!$AD$63)","v":0},null,{"$f":"CELL(\"contents\",'6償還表(条件緩和後)'!$AE$63)","v":0},null,{"$f":"CELL(\"contents\",'6償還表(条件緩和後)'!$AF$63)","v":0},null,{"$f":"CELL(\"contents\",'6償還表(条件緩和後)'!$AG$63)","v":0},null,{"$f":"CELL(\"contents\",'6償還表(条件緩和後)'!$AH$63)","v":0},null,{"$f":"CELL(\"contents\",'6償還表(条件緩和後)'!$AI$63)","v":0},null,{"$f":"CELL(\"contents\",'6償還表(条件緩和後)'!$AJ$63)","v":0},null,{"$f":"CELL(\"contents\",'6償還表(条件緩和後)'!$AK$63)","v":0},null,{"$f":"CELL(\"contents\",'6償還表(条件緩和後)'!$AL$63)","v":0},null,{"$f":"CELL(\"contents\",'6償還表(条件緩和後)'!$AM$63)","v":0},null,{"$f":"CELL(\"contents\",'6償還表(条件緩和後)'!$AN$63)","v":0},null,"近代化資金、養豚特別支援"]
[null,"買掛未払金等残高（各年末時点）",null,null,null,null,null,"千円",{"$f":"CELL(\"contents\",'6償還表(条件緩和後)'!$AA$114)","v":0},null,{"$f":"CELL(\"contents\",'6償還表(条件緩和後)'!$AB$114)","v":0},null,{"$f":"CELL(\"contents\",'6償還表(条件緩和後)'!$AC$114)","v":0},null,{"$f":"CELL(\"contents\",'6償還表(条件緩和後)'!$AD$114)","v":0},null,{"$f":"CELL(\"contents\",'6償還表(条件緩和後)'!$AE$114)","v":0},null,{"$f":"CELL(\"contents\",'6償還表(条件緩和後)'!$AF$114)","v":0},null,{"$f":"CELL(\"contents\",'6償還表(条件緩和後)'!$AG$114)","v":0},null,{"$f":"CELL(\"contents\",'6償還表(条件緩和後)'!$AH$114)","v":0},null,{"$f":"CELL(\"contents\",'6償還表(条件緩和後)'!$AI$114)","v":0},null,{"$f":"CELL(\"contents\",'6償還表(条件緩和後)'!$AJ$114)","v":0},null,{"$f":"CELL(\"contents\",'6償還表(条件緩和後)'!$AK$114)","v":0},null,{"$f":"CELL(\"contents\",'6償還表(条件緩和後)'!$AL$114)","v":0},null,{"$f":"CELL(\"contents\",'6償還表(条件緩和後)'!$AM$114)","v":0},null,{"$f":"CELL(\"contents\",'6償還表(条件緩和後)'!$AN$114)","v":0},null,"(新)資金、農協系統一般資金"]
[null,"平均払仮払金（各年末時点）",null,null,null,null,null,"千円",null,null,null,null,null,null,null,null,null,null,null,null,null,null,null,null,null,null,null,null,null,null,null,null,null,null,null,null,"公庫資金、その他（　）"]
[]
[null,"（注）経済階層は、⑲過不足の程度により以下の区分で記入する。（アルファベットのみ）"]
[null,"・ＳＡ層＝目標所得に既に到達している者"]
[null,"・Ａ　層＝約定償還元利金の支払が可能"]
[null,"・Ｂ　層＝約定償還利息全額、約定償還元金の一部が返済可能"]
[null,"・Ｃ　層＝約定償還利息の一部が返済可能"]
[null,"・Ｄ　層＝目約定償還元利金の返済が全く不可能"]
[null,"（注）目標年次と当年の修正経常利益を入力しないと表示されません。"]
[null,"（注）⑲過不足は、「⑰－⑱」。"]
[]
[null,null,null,null,"①'修正経常利益（目標年次）：",null,null,null,{"$f":"IF(OR(配列シート!$B$8+10<配列シート!$B$9,配列シート!$B$8>配列シート!$B$9),0,HLOOKUP(配列シート!$B$9,'2-1経営収支計画・法人'!$K$3:$Z$39,37,FALSE))","v":0},null,{"$f":"IF(OR(配列シート!$B$8+10<配列シート!$B$9,配列シート!$B$8>配列シート!$B$9),0,HLOOKUP(配列シート!$B$9,'2-1経営収支計画・法人'!$K$3:$Z$39,37,FALSE))","v":0},null,{"$f":"IF(OR(配列シート!$B$8+10<配列シート!$B$9,配列シート!$B$8>配列シート!$B$9),0,HLOOKUP(配列シート!$B$9,'2-1経営収支計画・法人'!$K$3:$Z$39,37,FALSE))","v":0},null,{"$f":"IF(OR(配列シート!$B$8+10<配列シート!$B$9,配列シート!$B$8>配列シート!$B$9),0,HLOOKUP(配列シート!$B$9,'2-1経営収支計画・法人'!$K$3:$Z$39,37,FALSE))","v":0},null,{"$f":"IF(OR(配列シート!$B$8+10<配列シート!$B$9,配列シート!$B$8>配列シート!$B$9),0,HLOOKUP(配列シート!$B$9,'2-1経営収支計画・法人'!$K$3:$Z$39,37,FALSE))","v":0},null,{"$f":"IF(OR(配列シート!$B$8+10<配列シート!$B$9,配列シート!$B$8>配列シート!$B$9),0,HLOOKUP(配列シート!$B$9,'2-1経営収支計画・法人'!$K$3:$Z$39,37,FALSE))","v":0},null,{"$f":"IF(OR(配列シート!$B$8+10<配列シート!$B$9,配列シート!$B$8>配列シート!$B$9),0,HLOOKUP(配列シート!$B$9,'2-1経営収支計画・法人'!$K$3:$Z$39,37,FALSE))","v":0},null,{"$f":"IF(OR(配列シート!$B$8+10<配列シート!$B$9,配列シート!$B$8>配列シート!$B$9),0,HLOOKUP(配列シート!$B$9,'2-1経営収支計画・法人'!$K$3:$Z$39,37,FALSE))","v":0},null,{"$f":"IF(OR(配列シート!$B$8+10<配列シート!$B$9,配列シート!$B$8>配列シート!$B$9),0,HLOOKUP(配列シート!$B$9,'2-1経営収支計画・法人'!$K$3:$Z$39,37,FALSE))","v":0},null,{"$f":"IF(OR(配列シート!$B$8+10<配列シート!$B$9,配列シート!$B$8>配列シート!$B$9),0,HLOOKUP(配列シート!$B$9,'2-1経営収支計画・法人'!$K$3:$Z$39,37,FALSE))","v":0},null,{"$f":"IF(OR(配列シート!$B$8+10<配列シート!$B$9,配列シート!$B$8>配列シート!$B$9),0,HLOOKUP(配列シート!$B$9,'2-1経営収支計画・法人'!$K$3:$Z$39,37,FALSE))","v":0},null,{"$f":"IF(OR(配列シート!$B$8+10<配列シート!$B$9,配列シート!$B$8>配列シート!$B$9),0,HLOOKUP(配列シート!$B$9,'2-1経営収支計画・法人'!$K$3:$Z$39,37,FALSE))","v":0},null,{"$f":"IF(OR(配列シート!$B$8+10<配列シート!$B$9,配列シート!$B$8>配列シート!$B$9),0,HLOOKUP(配列シート!$B$9,'2-1経営収支計画・法人'!$K$3:$Z$39,37,FALSE))","v":0},null,{"$f":"IF(OR(配列シート!$B$8+10<配列シート!$B$9,配列シート!$B$8>配列シート!$B$9),0,HLOOKUP(配列シート!$B$9,'2-1経営収支計画・法人'!$K$3:$Z$39,37,FALSE))","v":0}]
[null,null,null,null,"①修正経常利益：",null,null,null,{"$f":"CELL(\"contents\",'2-1経営収支計画・法人'!G8)-CELL(\"contents\",'2-1経営収支計画・法人'!G10)+CELL(\"contents\",'2-1経営収支計画・法人'!G13)-CELL(\"contents\",'2-1経営収支計画・法人'!G18)+CELL(\"contents\",'2-1経営収支計画・法人'!G21)-CELL(\"contents\",'2-1経営収支計画・法人'!G23)+CELL(\"contents\",'2-1経営収支計画・法人'!G24)","v":0},null,{"$f":"CELL(\"contents\",'2-1経営収支計画・法人'!H8)-CELL(\"contents\",'2-1経営収支計画・法人'!H10)+CELL(\"contents\",'2-1経営収支計画・法人'!H13)-CELL(\"contents\",'2-1経営収支計画・法人'!H18)+CELL(\"contents\",'2-1経営収支計画・法人'!H21)-CELL(\"contents\",'2-1経営収支計画・法人'!H23)+CELL(\"contents\",'2-1経営収支計画・法人'!H24)","v":0},null,{"$f":"CELL(\"contents\",'2-1経営収支計画・法人'!J8)-CELL(\"contents\",'2-1経営収支計画・法人'!J10)+CELL(\"contents\",'2-1経営収支計画・法人'!J13)-CELL(\"contents\",'2-1経営収支計画・法人'!J18)+CELL(\"contents\",'2-1経営収支計画・法人'!J21)-CELL(\"contents\",'2-1経営収支計画・法人'!J23)+CELL(\"contents\",'2-1経営収支計画・法人'!J24)","v":0},null,{"$f":"CELL(\"contents\",'2-1経営収支計画・法人'!K8)-CELL(\"contents\",'2-1経営収支計画・法人'!K10)+CELL(\"contents\",'2-1経営収支計画・法人'!K13)-CELL(\"contents\",'2-1経営収支計画・法人'!K18)+CELL(\"contents\",'2-1経営収支計画・法人'!K21)-CELL(\"contents\",'2-1経営収支計画・法人'!K23)+CELL(\"contents\",'2-1経営収支計画・法人'!K24)","v":0},null,{"$f":"CELL(\"contents\",'2-1経営収支計画・法人'!M8)-CELL(\"contents\",'2-1経営収支計画・法人'!M10)+CELL(\"contents\",'2-1経営収支計画・法人'!M13)-CELL(\"contents\",'2-1経営収支計画・法人'!M18)+CELL(\"contents\",'2-1経営収支計画・法人'!M21)-CELL(\"contents\",'2-1経営収支計画・法人'!M23)+CELL(\"contents\",'2-1経営収支計画・法人'!M24)","v":0},null,{"$f":"CELL(\"contents\",'2-1経営収支計画・法人'!O8)-CELL(\"contents\",'2-1経営収支計画・法人'!O10)+CELL(\"contents\",'2-1経営収支計画・法人'!O13)-CELL(\"contents\",'2-1経営収支計画・法人'!O18)+CELL(\"contents\",'2-1経営収支計画・法人'!O21)-CELL(\"contents\",'2-1経営収支計画・法人'!O23)+CELL(\"contents\",'2-1経営収支計画・法人'!O24)","v":0},null,{"$f":"CELL(\"contents\",'2-1経営収支計画・法人'!Q8)-CELL(\"contents\",'2-1経営収支計画・法人'!Q10)+CELL(\"contents\",'2-1経営収支計画・法人'!Q13)-CELL(\"contents\",'2-1経営収支計画・法人'!Q18)+CELL(\"contents\",'2-1経営収支計画・法人'!Q21)-CELL(\"contents\",'2-1経営収支計画・法人'!Q23)+CELL(\"contents\",'2-1経営収支計画・法人'!Q24)","v":0},null,{"$f":"CELL(\"contents\",'2-1経営収支計画・法人'!R8)-CELL(\"contents\",'2-1経営収支計画・法人'!R10)+CELL(\"contents\",'2-1経営収支計画・法人'!R13)-CELL(\"contents\",'2-1経営収支計画・法人'!R18)+CELL(\"contents\",'2-1経営収支計画・法人'!R21)-CELL(\"contents\",'2-1経営収支計画・法人'!R23)+CELL(\"contents\",'2-1経営収支計画・法人'!R24)","v":0},null,{"$f":"CELL(\"contents\",'2-1経営収支計画・法人'!S8)-CELL(\"contents\",'2-1経営収支計画・法人'!S10)+CELL(\"contents\",'2-1経営収支計画・法人'!S13)-CELL(\"contents\",'2-1経営収支計画・法人'!S18)+CELL(\"contents\",'2-1経営収支計画・法人'!S21)-CELL(\"contents\",'2-1経営収支計画・法人'!S23)+CELL(\"contents\",'2-1経営収支計画・法人'!S24)","v":0},null,{"$f":"CELL(\"contents\",'2-1経営収支計画・法人'!T8)-CELL(\"contents\",'2-1経営収支計画・法人'!T10)+CELL(\"contents\",'2-1経営収支計画・法人'!T13)-CELL(\"contents\",'2-1経営収支計画・法人'!T18)+CELL(\"contents\",'2-1経営収支計画・法人'!T21)-CELL(\"contents\",'2-1経営収支計画・法人'!T23)+CELL(\"contents\",'2-1経営収支計画・法人'!T24)","v":0},null,{"$f":"CELL(\"contents\",'2-1経営収支計画・法人'!U8)-CELL(\"contents\",'2-1経営収支計画・法人'!U10)+CELL(\"contents\",'2-1経営収支計画・法人'!U13)-CELL(\"contents\",'2-1経営収支計画・法人'!U18)+CELL(\"contents\",'2-1経営収支計画・法人'!U21)-CELL(\"contents\",'2-1経営収支計画・法人'!U23)+CELL(\"contents\",'2-1経営収支計画・法人'!U24)","v":0},null,{"$f":"CELL(\"contents\",'2-1経営収支計画・法人'!V8)-CELL(\"contents\",'2-1経営収支計画・法人'!V10)+CELL(\"contents\",'2-1経営収支計画・法人'!V13)-CELL(\"contents\",'2-1経営収支計画・法人'!V18)+CELL(\"contents\",'2-1経営収支計画・法人'!V21)-CELL(\"contents\",'2-1経営収支計画・法人'!V23)+CELL(\"contents\",'2-1経営収支計画・法人'!V24)","v":0},null,{"$f":"CELL(\"contents\",'2-1経営収支計画・法人'!W8)-CELL(\"contents\",'2-1経営収支計画・法人'!W10)+CELL(\"contents\",'2-1経営収支計画・法人'!W13)-CELL(\"contents\",'2-1経営収支計画・法人'!W18)+CELL(\"contents\",'2-1経営収支計画・法人'!W21)-CELL(\"contents\",'2-1経営収支計画・法人'!W23)+CELL(\"contents\",'2-1経営収支計画・法人'!W24)","v":0},null,{"$f":"CELL(\"contents\",'2-1経営収支計画・法人'!X8)-CELL(\"contents\",'2-1経営収支計画・法人'!X10)+CELL(\"contents\",'2-1経営収支計画・法人'!X13)-CELL(\"contents\",'2-1経営収支計画・法人'!X18)+CELL(\"contents\",'2-1経営収支計画・法人'!X21)-CELL(\"contents\",'2-1経営収支計画・法人'!X23)+CELL(\"contents\",'2-1経営収支計画・法人'!X24)","v":0}]
[null,null,null,null,"②要償還額：",null,null,null,{"$f":"IF(OR(CELL(\"contents\",'3-1借換後の計画'!J76)>0,CELL(\"contents\",'3-1借換後の計画'!J79)>0),I79,I83)","v":0},null,{"$f":"IF(OR(CELL(\"contents\",'3-1借換後の計画'!K76)>0,CELL(\"contents\",'3-1借換後の計画'!K79)>0),K79,K83)","v":0},null,{"$f":"IF(OR(CELL(\"contents\",'3-1借換後の計画'!M76)>0,CELL(\"contents\",'3-1借換後の計画'!M79)>0),M79,M83)","v":0},null,{"$f":"IF(OR(CELL(\"contents\",'3-1借換後の計画'!N76)>0,CELL(\"contents\",'3-1借換後の計画'!N79)>0),O79,O83)","v":0},null,{"$f":"IF(OR(CELL(\"contents\",'3-1借換後の計画'!P76)>0,CELL(\"contents\",'3-1借換後の計画'!P79)>0),Q79,Q83)","v":0},null,{"$f":"IF(OR(CELL(\"contents\",'3-1借換後の計画'!R76)>0,CELL(\"contents\",'3-1借換後の計画'!R79)>0),S79,S83)","v":0},null,{"$f":"IF(OR(CELL(\"contents\",'3-1借換後の計画'!T76)>0,CELL(\"contents\",'3-1借換後の計画'!T79)>0),U79,U83)","v":0},null,{"$f":"IF(OR(CELL(\"contents\",'3-1借換後の計画'!U76)>0,CELL(\"contents\",'3-1借換後の計画'!U79)>0),W79,W83)","v":0},null,{"$f":"IF(OR(CELL(\"contents\",'3-1借換後の計画'!V76)>0,CELL(\"contents\",'3-1借換後の計画'!V79)>0),Y79,Y83)","v":0},null,{"$f":"IF(OR(CELL(\"contents\",'3-1借換後の計画'!W76)>0,CELL(\"contents\",'3-1借換後の計画'!W79)>0),AA79,AA83)","v":0},null,{"$f":"IF(OR(CELL(\"contents\",'3-1借換後の計画'!X76)>0,CELL(\"contents\",'3-1借換後の計画'!X79)>0),AC79,AC83)","v":0},null,{"$f":"IF(OR(CELL(\"contents\",'3-1借換後の計画'!Y76)>0,CELL(\"contents\",'3-1借換後の計画'!Y79)>0),AE79,AE83)","v":0},null,{"$f":"IF(OR(CELL(\"contents\",'3-1借換後の計画'!Z76)>0,CELL(\"contents\",'3-1借換後の計画'!Z79)>0),AG79,AG83)","v":0},null,{"$f":"IF(OR(CELL(\"contents\",'3-1借換後の計画'!AA76)>0,CELL(\"contents\",'3-1借換後の計画'!AA79)>0),AI79,AI83)","v":0}]
[null,null,null,null,"③要償還額－要償還額元金：",null,null,null,{"$f":"IF(OR(CELL(\"contents\",'3-1借換後の計画'!J77)>0,CELL(\"contents\",'3-1借換後の計画'!J80)>0),I80,I84)","v":0},null,{"$f":"IF(OR(CELL(\"contents\",'3-1借換後の計画'!K77)>0,CELL(\"contents\",'3-1借換後の計画'!K80)>0),K80,K84)","v":0},null,{"$f":"IF(OR(CELL(\"contents\",'3-1借換後の計画'!M77)>0,CELL(\"contents\",'3-1借換後の計画'!M80)>0),M80,M84)","v":0},null,{"$f":"IF(OR(CELL(\"contents\",'3-1借換後の計画'!N77)>0,CELL(\"contents\",'3-1借換後の計画'!N80)>0),O80,O84)","v":0},null,{"$f":"IF(OR(CELL(\"contents\",'3-1借換後の計画'!P77)>0,CELL(\"contents\",'3-1借換後の計画'!P80)>0),Q80,Q84)","v":0},null,{"$f":"IF(OR(CELL(\"contents\",'3-1借換後の計画'!R77)>0,CELL(\"contents\",'3-1借換後の計画'!R80)>0),S80,S84)","v":0},null,{"$f":"IF(OR(CELL(\"contents\",'3-1借換後の計画'!T77)>0,CELL(\"contents\",'3-1借換後の計画'!T80)>0),U80,U84)","v":0},null,{"$f":"IF(OR(CELL(\"contents\",'3-1借換後の計画'!U77)>0,CELL(\"contents\",'3-1借換後の計画'!U80)>0),W80,W84)","v":0},null,{"$f":"IF(OR(CELL(\"contents\",'3-1借換後の計画'!V77)>0,CELL(\"contents\",'3-1借換後の計画'!V80)>0),Y80,Y84)","v":0},null,{"$f":"IF(OR(CELL(\"contents\",'3-1借換後の計画'!W77)>0,CELL(\"contents\",'3-1借換後の計画'!W80)>0),AA80,AA84)","v":0},null,{"$f":"IF(OR(CELL(\"contents\",'3-1借換後の計画'!X77)>0,CELL(\"contents\",'3-1借換後の計画'!X80)>0),AC80,AC84)","v":0},null,{"$f":"IF(OR(CELL(\"contents\",'3-1借換後の計画'!Y77)>0,CELL(\"contents\",'3-1借換後の計画'!Y80)>0),AE80,AE84)","v":0},null,{"$f":"IF(OR(CELL(\"contents\",'3-1借換後の計画'!Z77)>0,CELL(\"contents\",'3-1借換後の計画'!Z80)>0),AG80,AG84)","v":0},null,{"$f":"IF(OR(CELL(\"contents\",'3-1借換後の計画'!AA77)>0,CELL(\"contents\",'3-1借換後の計画'!AA80)>0),AI80,AI84)","v":0}]
[null,null,null,null,"④0（ゼロ）",null,null,null,0,null,0,null,0,null,0,null,0,null,0,null,0,null,0,null,0,null,0,null,0,null,0,null,0,null,0]
[null,null,null,null,"経済階層の区分",null,null,null,{"$f":"IF(AND(I64>=I63,I64>=I65),\"SA\",IF(I64>=I65,\"A\",IF(AND(I65>I64,I64>=I66),\"B\",IF(AND(I66>I64,I64>=I67),\"C\",\"D\"))))","v":"SA"},null,{"$f":"IF(AND(K64>=K63,K64>=K65),\"SA\",IF(K64>=K65,\"A\",IF(AND(K65>K64,K64>=K66),\"B\",IF(AND(K66>K64,K64>=K67),\"C\",\"D\"))))","v":"SA"},null,{"$f":"IF(AND(M64>=M63,M64>=M65),\"SA\",IF(M64>=M65,\"A\",IF(AND(M65>M64,M64>=M66),\"B\",IF(AND(M66>M64,M64>=M67),\"C\",\"D\"))))","v":"SA"},null,{"$f":"IF(AND(O64>=O63,O64>=O65),\"SA\",IF(O64>=O65,\"A\",IF(AND(O65>O64,O64>=O66),\"B\",IF(AND(O66>O64,O64>=O67),\"C\",\"D\"))))","v":"SA"},null,{"$f":"IF(AND(Q64>=Q63,Q64>=Q65),\"SA\",IF(Q64>=Q65,\"A\",IF(AND(Q65>Q64,Q64>=Q66),\"B\",IF(AND(Q66>Q64,Q64>=Q67),\"C\",\"D\"))))","v":"SA"},null,{"$f":"IF(AND(S64>=S63,S64>=S65),\"SA\",IF(S64>=S65,\"A\",IF(AND(S65>S64,S64>=S66),\"B\",IF(AND(S66>S64,S64>=S67),\"C\",\"D\"))))","v":"SA"},null,{"$f":"IF(AND(U64>=U63,U64>=U65),\"SA\",IF(U64>=U65,\"A\",IF(AND(U65>U64,U64>=U66),\"B\",IF(AND(U66>U64,U64>=U67),\"C\",\"D\"))))","v":"SA"},null,{"$f":"IF(AND(W64>=W63,W64>=W65),\"SA\",IF(W64>=W65,\"A\",IF(AND(W65>W64,W64>=W66),\"B\",IF(AND(W66>W64,W64>=W67),\"C\",\"D\"))))","v":"SA"},null,{"$f":"IF(AND(Y64>=Y63,Y64>=Y65),\"SA\",IF(Y64>=Y65,\"A\",IF(AND(Y65>Y64,Y64>=Y66),\"B\",IF(AND(Y66>Y64,Y64>=Y67),\"C\",\"D\"))))","v":"SA"},null,{"$f":"IF(AND(AA64>=AA63,AA64>=AA65),\"SA\",IF(AA64>=AA65,\"A\",IF(AND(AA65>AA64,AA64>=AA66),\"B\",IF(AND(AA66>AA64,AA64>=AA67),\"C\",\"D\"))))","v":"SA"},null,{"$f":"IF(AND(AC64>=AC63,AC64>=AC65),\"SA\",IF(AC64>=AC65,\"A\",IF(AND(AC65>AC64,AC64>=AC66),\"B\",IF(AND(AC66>AC64,AC64>=AC67),\"C\",\"D\"))))","v":"SA"},null,{"$f":"IF(AND(AE64>=AE63,AE64>=AE65),\"SA\",IF(AE64>=AE65,\"A\",IF(AND(AE65>AE64,AE64>=AE66),\"B\",IF(AND(AE66>AE64,AE64>=AE67),\"C\",\"D\"))))","v":"SA"},null,{"$f":"IF(AND(AG64>=AG63,AG64>=AG65),\"SA\",IF(AG64>=AG65,\"A\",IF(AND(AG65>AG64,AG64>=AG66),\"B\",IF(AND(AG66>AG64,AG64>=AG67),\"C\",\"D\"))))","v":"SA"},null,{"$f":"IF(AND(AI64>=AI63,AI64>=AI65),\"SA\",IF(AI64>=AI65,\"A\",IF(AND(AI65>AI64,AI64>=AI66),\"B\",IF(AND(AI66>AI64,AI64>=AI67),\"C\",\"D\"))))","v":"SA"}]
[]
[null,null,null,null,"25年度",null,null,null,{"$f":"CELL(\"contents\",'3-2借換額内訳'!$I$7)","v":0},null,{"$f":"CELL(\"contents\",'3-2借換額内訳'!$I$7)","v":0},null,{"$f":"CELL(\"contents\",'3-2借換額内訳'!$I$7)","v":0},null,{"$f":"CELL(\"contents\",'3-2借換額内訳'!$I$7)","v":0},null,{"$f":"CELL(\"contents\",'3-2借換額内訳'!$I$7)","v":0},null,{"$f":"CELL(\"contents\",'3-2借換額内訳'!$I$7)","v":0},null,{"$f":"CELL(\"contents\",'3-2借換額内訳'!$I$7)","v":0},null,{"$f":"CELL(\"contents\",'3-2借換額内訳'!$I$7)","v":0},null,{"$f":"CELL(\"contents\",'3-2借換額内訳'!$I$7)","v":0},null,{"$f":"CELL(\"contents\",'3-2借換額内訳'!$I$7)","v":0},null,{"$f":"CELL(\"contents\",'3-2借換額内訳'!$I$7)","v":0},null,{"$f":"CELL(\"contents\",'3-2借換額内訳'!$I$7)","v":0},null,{"$f":"CELL(\"contents\",'3-2借換額内訳'!$I$7)","v":0},null,{"$f":"CELL(\"contents\",'3-2借換額内訳'!$I$7)","v":0}]
[null,null,null,null,"26年度",null,null,null,{"$f":"CELL(\"contents\",'3-2借換額内訳'!$I$8)","v":0},null,{"$f":"CELL(\"contents\",'3-2借換額内訳'!$I$8)","v":0},null,{"$f":"CELL(\"contents\",'3-2借換額内訳'!$I$8)","v":0},null,{"$f":"CELL(\"contents\",'3-2借換額内訳'!$I$8)","v":0},null,{"$f":"CELL(\"contents\",'3-2借換額内訳'!$I$8)","v":0},null,{"$f":"CELL(\"contents\",'3-2借換額内訳'!$I$8)","v":0},null,{"$f":"CELL(\"contents\",'3-2借換額内訳'!$I$8)","v":0},null,{"$f":"CELL(\"contents\",'3-2借換額内訳'!$I$8)","v":0},null,{"$f":"CELL(\"contents\",'3-2借換額内訳'!$I$8)","v":0},null,{"$f":"CELL(\"contents\",'3-2借換額内訳'!$I$8)","v":0},null,{"$f":"CELL(\"contents\",'3-2借換額内訳'!$I$8)","v":0},null,{"$f":"CELL(\"contents\",'3-2借換額内訳'!$I$8)","v":0},null,{"$f":"CELL(\"contents\",'3-2借換額内訳'!$I$8)","v":0},null,{"$f":"CELL(\"contents\",'3-2借換額内訳'!$I$8)","v":0}]
[null,null,null,null,"27年度",null,null,null,{"$f":"CELL(\"contents\",'3-2借換額内訳'!$I$9)","v":0},null,{"$f":"CELL(\"contents\",'3-2借換額内訳'!$I$9)","v":0},null,{"$f":"CELL(\"contents\",'3-2借換額内訳'!$I$9)","v":0},null,{"$f":"CELL(\"contents\",'3-2借換額内訳'!$I$9)","v":0},null,{"$f":"CELL(\"contents\",'3-2借換額内訳'!$I$9)","v":0},null,{"$f":"CELL(\"contents\",'3-2借換額内訳'!$I$9)","v":0},null,{"$f":"CELL(\"contents\",'3-2借換額内訳'!$I$9)","v":0},null,{"$f":"CELL(\"contents\",'3-2借換額内訳'!$I$9)","v":0},null,{"$f":"CELL(\"contents\",'3-2借換額内訳'!$I$9)","v":0},null,{"$f":"CELL(\"contents\",'3-2借換額内訳'!$I$9)","v":0},null,{"$f":"CELL(\"contents\",'3-2借換額内訳'!$I$9)","v":0},null,{"$f":"CELL(\"contents\",'3-2借換額内訳'!$I$9)","v":0},null,{"$f":"CELL(\"contents\",'3-2借換額内訳'!$I$9)","v":0},null,{"$f":"CELL(\"contents\",'3-2借換額内訳'!$I$9)","v":0}]
[null,null,null,null,"28年度",null,null,null,{"$f":"CELL(\"contents\",'3-2借換額内訳'!$I$10)","v":0},null,{"$f":"CELL(\"contents\",'3-2借換額内訳'!$I$10)","v":0},null,{"$f":"CELL(\"contents\",'3-2借換額内訳'!$I$10)","v":0},null,{"$f":"CELL(\"contents\",'3-2借換額内訳'!$I$10)","v":0},null,{"$f":"CELL(\"contents\",'3-2借換額内訳'!$I$10)","v":0},null,{"$f":"CELL(\"contents\",'3-2借換額内訳'!$I$10)","v":0},null,{"$f":"CELL(\"contents\",'3-2借換額内訳'!$I$10)","v":0},null,{"$f":"CELL(\"contents\",'3-2借換額内訳'!$I$10)","v":0},null,{"$f":"CELL(\"contents\",'3-2借換額内訳'!$I$10)","v":0},null,{"$f":"CELL(\"contents\",'3-2借換額内訳'!$I$10)","v":0},null,{"$f":"CELL(\"contents\",'3-2借換額内訳'!$I$10)","v":0},null,{"$f":"CELL(\"contents\",'3-2借換額内訳'!$I$10)","v":0},null,{"$f":"CELL(\"contents\",'3-2借換額内訳'!$I$10)","v":0},null,{"$f":"CELL(\"contents\",'3-2借換額内訳'!$I$10)","v":0}]
[null,null,null,null,"29年度",null,null,null,{"$f":"CELL(\"contents\",'3-2借換額内訳'!$I$11)","v":0},null,{"$f":"CELL(\"contents\",'3-2借換額内訳'!$I$11)","v":0},null,{"$f":"CELL(\"contents\",'3-2借換額内訳'!$I$11)","v":0},null,{"$f":"CELL(\"contents\",'3-2借換額内訳'!$I$11)","v":0},null,{"$f":"CELL(\"contents\",'3-2借換額内訳'!$I$11)","v":0},null,{"$f":"CELL(\"contents\",'3-2借換額内訳'!$I$11)","v":0},null,{"$f":"CELL(\"contents\",'3-2借換額内訳'!$I$11)","v":0},null,{"$f":"CELL(\"contents\",'3-2借換額内訳'!$I$11)","v":0},null,{"$f":"CELL(\"contents\",'3-2借換額内訳'!$I$11)","v":0},null,{"$f":"CELL(\"contents\",'3-2借換額内訳'!$I$11)","v":0},null,{"$f":"CELL(\"contents\",'3-2借換額内訳'!$I$11)","v":0},null,{"$f":"CELL(\"contents\",'3-2借換額内訳'!$I$11)","v":0},null,{"$f":"CELL(\"contents\",'3-2借換額内訳'!$I$11)","v":0},null,{"$f":"CELL(\"contents\",'3-2借換額内訳'!$I$11)","v":0}]
[null,null,null,null,"対策額",null,null,null,{"$f":"IF(I3=25,I70,IF(I3=26,I71,IF(I3=27,I72,IF(I3=28,I73,IF(I3=29,I74,0)))))","v":0},null,{"$f":"IF(K3=25,K70,IF(K3=26,K71,IF(K3=27,K72,IF(K3=28,K73,IF(K3=29,K74,0)))))","v":0},null,{"$f":"IF(M3=25,M70,IF(M3=26,M71,IF(M3=27,M72,IF(M3=28,M73,IF(M3=29,M74,0)))))","v":0},null,{"$f":"IF(O3=25,O70,IF(O3=26,O71,IF(O3=27,O72,IF(O3=28,O73,IF(O3=29,O74,0)))))","v":0},null,{"$f":"IF(Q3=25,Q70,IF(Q3=26,Q71,IF(Q3=27,Q72,IF(Q3=28,Q73,IF(Q3=29,Q74,0)))))","v":0},null,{"$f":"IF(S3=25,S70,IF(S3=26,S71,IF(S3=27,S72,IF(S3=28,S73,IF(S3=29,S74,0)))))","v":0},null,{"$f":"IF(U3=25,U70,IF(U3=26,U71,IF(U3=27,U72,IF(U3=28,U73,IF(U3=29,U74,0)))))","v":0},null,{"$f":"IF(W3=25,W70,IF(W3=26,W71,IF(W3=27,W72,IF(W3=28,W73,IF(W3=29,W74,0)))))","v":0},null,{"$f":"IF(Y3=25,Y70,IF(Y3=26,Y71,IF(Y3=27,Y72,IF(Y3=28,Y73,IF(Y3=29,Y74,0)))))","v":0},null,{"$f":"IF(AA3=25,AA70,IF(AA3=26,AA71,IF(AA3=27,AA72,IF(AA3=28,AA73,IF(AA3=29,AA74,0)))))","v":0},null,{"$f":"IF(AC3=25,AC70,IF(AC3=26,AC71,IF(AC3=27,AC72,IF(AC3=28,AC73,IF(AC3=29,AC74,0)))))","v":0},null,{"$f":"IF(AE3=25,AE70,IF(AE3=26,AE71,IF(AE3=27,AE72,IF(AE3=28,AE73,IF(AE3=29,AE74,0)))))","v":0},null,{"$f":"IF(AG3=25,AG70,IF(AG3=26,AG71,IF(AG3=27,AG72,IF(AG3=28,AG73,IF(AG3=29,AG74,0)))))","v":0},null,{"$f":"IF(AI3=25,AI70,IF(AI3=26,AI71,IF(AI3=27,AI72,IF(AI3=28,AI73,IF(AI3=29,AI74,0)))))","v":0}]
[]
[null,null,null,"a.","残高一括借換＞0 OR",null,null,null,"元利金：5償還表（条件緩和前） 約定償還額　元利金の合計＋3.負債整理計画･(1)借換後の計画 償還額　元利金の合計（うち残高一括借換、経営継承資金を除く）"]
[null,null,null,null,"経営継承資金＞0",null,null,null,"元　　金：元利金ー5償還表（条件緩和前） 約定償還額　元金の合計ー3.負債整理計画･(1)借換後の計画 償還額　元金の合計（うち残高一括借換、経営継承資金を除く）"]
[null,null,null,null,"②要償還額",null,null,null,{"$f":"CELL(\"contents\",'5償還表(条件緩和前)'!M108)+CELL(\"contents\",'3-1借換後の計画'!J86)","v":0},null,{"$f":"CELL(\"contents\",'5償還表(条件緩和前)'!N108)+CELL(\"contents\",'3-1借換後の計画'!K86)","v":0},null,{"$f":"CELL(\"contents\",'5償還表(条件緩和前)'!O108)+CELL(\"contents\",'3-1借換後の計画'!M86)","v":0},null,{"$f":"CELL(\"contents\",'5償還表(条件緩和前)'!P108)+CELL(\"contents\",'3-1借換後の計画'!N86)","v":0},null,{"$f":"CELL(\"contents\",'5償還表(条件緩和前)'!Q108)+CELL(\"contents\",'3-1借換後の計画'!P86)","v":0},null,{"$f":"CELL(\"contents\",'5償還表(条件緩和前)'!R108)+CELL(\"contents\",'3-1借換後の計画'!R86)","v":0},null,{"$f":"CELL(\"contents\",'5償還表(条件緩和前)'!S108)+CELL(\"contents\",'3-1借換後の計画'!T86)","v":0},null,{"$f":"CELL(\"contents\",'5償還表(条件緩和前)'!T108)+CELL(\"contents\",'3-1借換後の計画'!U86)","v":0},null,{"$f":"CELL(\"contents\",'5償還表(条件緩和前)'!U108)+CELL(\"contents\",'3-1借換後の計画'!V86)","v":0},null,{"$f":"CELL(\"contents\",'5償還表(条件緩和前)'!V108)+CELL(\"contents\",'3-1借換後の計画'!W86)","v":0},null,{"$f":"CELL(\"contents\",'5償還表(条件緩和前)'!W108)+CELL(\"contents\",'3-1借換後の計画'!X86)","v":0},null,{"$f":"CELL(\"contents\",'5償還表(条件緩和前)'!X108)+CELL(\"contents\",'3-1借換後の計画'!Y86)","v":0},null,{"$f":"CELL(\"contents\",'5償還表(条件緩和前)'!Y108)+CELL(\"contents\",'3-1借換後の計画'!Z86)","v":0},null,{"$f":"CELL(\"contents\",'5償還表(条件緩和前)'!Z108)+CELL(\"contents\",'3-1借換後の計画'!AA86)","v":0}]
[null,null,null,null,"③要償還額－要償還額元金：",null,null,null,{"$f":"I79-CELL(\"contents\",'5償還表(条件緩和前)'!M109)-CELL(\"contents\",'3-1借換後の計画'!J85)","v":0},null,{"$f":"K79-(CELL(\"contents\",'5償還表(条件緩和前)'!N109))-CELL(\"contents\",'3-1借換後の計画'!K85)","v":0},null,{"$f":"M79-CELL(\"contents\",'5償還表(条件緩和前)'!O109)-CELL(\"contents\",'3-1借換後の計画'!M85)","v":0},null,{"$f":"O79-CELL(\"contents\",'5償還表(条件緩和前)'!P109)-CELL(\"contents\",'3-1借換後の計画'!N85)","v":0},null,{"$f":"Q79-CELL(\"contents\",'5償還表(条件緩和前)'!Q109)-CELL(\"contents\",'3-1借換後の計画'!P85)","v":0},null,{"$f":"S79-CELL(\"contents\",'5償還表(条件緩和前)'!R109)-CELL(\"contents\",'3-1借換後の計画'!R85)","v":0},null,{"$f":"U79-CELL(\"contents\",'5償還表(条件緩和前)'!S109)-CELL(\"contents\",'3-1借換後の計画'!T85)","v":0},null,{"$f":"W79-CELL(\"contents\",'5償還表(条件緩和前)'!T109)-CELL(\"contents\",'3-1借換後の計画'!U85)","v":0},null,{"$f":"Y79-CELL(\"contents\",'5償還表(条件緩和前)'!U109)-CELL(\"contents\",'3-1借換後の計画'!V85)","v":0},null,{"$f":"AA79-CELL(\"contents\",'5償還表(条件緩和前)'!V109)-CELL(\"contents\",'3-1借換後の計画'!W85)","v":0},null,{"$f":"AC79-CELL(\"contents\",'5償還表(条件緩和前)'!W109)-CELL(\"contents\",'3-1借換後の計画'!X85)","v":0},null,{"$f":"AE79-CELL(\"contents\",'5償還表(条件緩和前)'!X109)-CELL(\"contents\",'3-1借換後の計画'!Y85)","v":0},null,{"$f":"AG79-CELL(\"contents\",'5償還表(条件緩和前)'!Y109)-CELL(\"contents\",'3-1借換後の計画'!Z85)","v":0},null,{"$f":"AI79-CELL(\"contents\",'5償還表(条件緩和前)'!Z109)-CELL(\"contents\",'3-1借換後の計画'!AA85)","v":0}]
[]
[null,null,null,"b.","a以外のとき",null,null,null,"J",null,"K",null,"M",null,"N",null,"P",null,"R",null,"T",null,"U",null,"V",null,"W",null,"X",null,"Y",null,"Z",null,"AA"]
[null,null,null,null,"②要償還額",null,null,null,{"$f":"CELL(\"contents\",'3-1借換後の計画'!J12) + CELL(\"contents\",'3-1借換後の計画'!J41)","v":0},null,{"$f":"CELL(\"contents\",'3-1借換後の計画'!K12) + CELL(\"contents\",'3-1借換後の計画'!K41)","v":0},null,{"$f":"CELL(\"contents\",'3-1借換後の計画'!M12) + CELL(\"contents\",'3-1借換後の計画'!M41)","v":0},null,{"$f":"CELL(\"contents\",'3-1借換後の計画'!N12) + CELL(\"contents\",'3-1借換後の計画'!N41)","v":0},null,{"$f":"CELL(\"contents\",'3-1借換後の計画'!P12) + CELL(\"contents\",'3-1借換後の計画'!P41)","v":0},null,{"$f":"CELL(\"contents\",'3-1借換後の計画'!R12) + CELL(\"contents\",'3-1借換後の計画'!R41)","v":0},null,{"$f":"CELL(\"contents\",'3-1借換後の計画'!T12) + CELL(\"contents\",'3-1借換後の計画'!T41)","v":0},null,{"$f":"CELL(\"contents\",'3-1借換後の計画'!U12) + CELL(\"contents\",'3-1借換後の計画'!U41)","v":0},null,{"$f":"CELL(\"contents\",'3-1借換後の計画'!V12) + CELL(\"contents\",'3-1借換後の計画'!V41)","v":0},null,{"$f":"CELL(\"contents\",'3-1借換後の計画'!W12) + CELL(\"contents\",'3-1借換後の計画'!W41)","v":0},null,{"$f":"CELL(\"contents\",'3-1借換後の計画'!X12) + CELL(\"contents\",'3-1借換後の計画'!X41)","v":0},null,{"$f":"CELL(\"contents\",'3-1借換後の計画'!Y12) + CELL(\"contents\",'3-1借換後の計画'!Y41)","v":0},null,{"$f":"CELL(\"contents\",'3-1借換後の計画'!Z12) + CELL(\"contents\",'3-1借換後の計画'!Z41)","v":0},null,{"$f":"CELL(\"contents\",'3-1借換後の計画'!AA12) + CELL(\"contents\",'3-1借換後の計画'!AA41)","v":0}]
[null,null,null,null,"③要償還額－要償還額元金：",null,null,null,{"$f":"I83-(CELL(\"contents\",'6償還表(条件緩和後)'!M109) + CELL(\"contents\",'3-1借換後の計画'!J55))","v":0},null,{"$f":"K83-(CELL(\"contents\",'6償還表(条件緩和後)'!N109) + CELL(\"contents\",'3-1借換後の計画'!K55))","v":0},null,{"$f":"M83-(CELL(\"contents\",'6償還表(条件緩和後)'!O109) + CELL(\"contents\",'3-1借換後の計画'!M55))","v":0},null,{"$f":"O83-(CELL(\"contents\",'6償還表(条件緩和後)'!P109) + CELL(\"contents\",'3-1借換後の計画'!N55))","v":0},null,{"$f":"Q83-(CELL(\"contents\",'6償還表(条件緩和後)'!Q109) + CELL(\"contents\",'3-1借換後の計画'!P55))","v":0},null,{"$f":"S83-(CELL(\"contents\",'6償還表(条件緩和後)'!R109) + CELL(\"contents\",'3-1借換後の計画'!R55))","v":0},null,{"$f":"U83-(CELL(\"contents\",'6償還表(条件緩和後)'!S109) + CELL(\"contents\",'3-1借換後の計画'!T55))","v":0},null,{"$f":"W83-(CELL(\"contents\",'6償還表(条件緩和後)'!T109) + CELL(\"contents\",'3-1借換後の計画'!U55))","v":0},null,{"$f":"Y83-(CELL(\"contents\",'6償還表(条件緩和後)'!U109) + CELL(\"contents\",'3-1借換後の計画'!V55))","v":0},null,{"$f":"AA83-(CELL(\"contents\",'6償還表(条件緩和後)'!V109) + CELL(\"contents\",'3-1借換後の計画'!W55))","v":0},null,{"$f":"AC83-(CELL(\"contents\",'6償還表(条件緩和後)'!W109) + CELL(\"contents\",'3-1借換後の計画'!X55))","v":0},null,{"$f":"AE83-(CELL(\"contents\",'6償還表(条件緩和後)'!X109) + CELL(\"contents\",'3-1借換後の計画'!Y55))","v":0},null,{"$f":"AG83-(CELL(\"contents\",'6償還表(条件緩和後)'!Y109) + CELL(\"contents\",'3-1借換後の計画'!Z55))","v":0},null,{"$f":"AI83-(CELL(\"contents\",'6償還表(条件緩和後)'!Z109) + CELL(\"contents\",'3-1借換後の計画'!AA55))","v":0}]
[]
[]
[]
[]
[null,null,"経営収支状況",null,"⑧約定償還金",null,"元金",null,{"$f":"CELL(\"contents\",'6償還表(条件緩和後)'!M109) + CELL(\"contents\",'3-1借換後の計画'!J55)","v":0},null,{"$f":"CELL(\"contents\",'6償還表(条件緩和後)'!N109) + CELL(\"contents\",'3-1借換後の計画'!K55)","v":0},null,{"$f":"CELL(\"contents\",'6償還表(条件緩和後)'!O109) + CELL(\"contents\",'3-1借換後の計画'!M55)","v":0},null,{"$f":"CELL(\"contents\",'6償還表(条件緩和後)'!P109) + CELL(\"contents\",'3-1借換後の計画'!N55)","v":0},null,{"$f":"CELL(\"contents\",'6償還表(条件緩和後)'!Q109) + CELL(\"contents\",'3-1借換後の計画'!P55)","v":0},null,{"$f":"CELL(\"contents\",'6償還表(条件緩和後)'!R109) + CELL(\"contents\",'3-1借換後の計画'!R55)","v":0},null,{"$f":"CELL(\"contents\",'6償還表(条件緩和後)'!S109) + CELL(\"contents\",'3-1借換後の計画'!T55)","v":0},null,{"$f":"CELL(\"contents\",'6償還表(条件緩和後)'!T109) + CELL(\"contents\",'3-1借換後の計画'!U55)","v":0},null,{"$f":"CELL(\"contents\",'6償還表(条件緩和後)'!U109) + CELL(\"contents\",'3-1借換後の計画'!V55)","v":0},null,{"$f":"CELL(\"contents\",'6償還表(条件緩和後)'!V109) + CELL(\"contents\",'3-1借換後の計画'!W55)","v":0},null,{"$f":"CELL(\"contents\",'6償還表(条件緩和後)'!W109) + CELL(\"contents\",'3-1借換後の計画'!X55)","v":0},null,{"$f":"CELL(\"contents\",'6償還表(条件緩和後)'!X109) + CELL(\"contents\",'3-1借換後の計画'!Y55)","v":0},null,{"$f":"CELL(\"contents\",'6償還表(条件緩和後)'!Y109) + CELL(\"contents\",'3-1借換後の計画'!Z55)","v":0}]
[null,null,null,null,null,null,"利息",null,{"$f":"CELL(\"contents\",'3-1借換後の計画'!J42) - (CELL(\"contents\",'6償還表(条件緩和後)'!M109) + CELL(\"contents\",'3-1借換後の計画'!J55))","v":0},null,{"$f":"CELL(\"contents\",'3-1借換後の計画'!K42) - (CELL(\"contents\",'6償還表(条件緩和後)'!N109) + CELL(\"contents\",'3-1借換後の計画'!K55))","v":0},null,{"$f":"CELL(\"contents\",'3-1借換後の計画'!M42) - (CELL(\"contents\",'6償還表(条件緩和後)'!O109) + CELL(\"contents\",'3-1借換後の計画'!M55))","v":0},null,{"$f":"CELL(\"contents\",'3-1借換後の計画'!N42) - (CELL(\"contents\",'6償還表(条件緩和後)'!P109) + CELL(\"contents\",'3-1借換後の計画'!N55))","v":0},null,{"$f":"CELL(\"contents\",'3-1借換後の計画'!P42) - (CELL(\"contents\",'6償還表(条件緩和後)'!Q109) + CELL(\"contents\",'3-1借換後の計画'!P55))","v":0},null,{"$f":"CELL(\"contents\",'3-1借換後の計画'!R42) - (CELL(\"contents\",'6償還表(条件緩和後)'!R109) + CELL(\"contents\",'3-1借換後の計画'!R55))","v":0},null,{"$f":"CELL(\"contents\",'3-1借換後の計画'!T42) - (CELL(\"contents\",'6償還表(条件緩和後)'!S109) + CELL(\"contents\",'3-1借換後の計画'!T55))","v":0},null,{"$f":"CELL(\"contents\",'3-1借換後の計画'!U42) - (CELL(\"contents\",'6償還表(条件緩和後)'!T109) + CELL(\"contents\",'3-1借換後の計画'!U55))","v":0},null,{"$f":"CELL(\"contents\",'3-1借換後の計画'!V42) - (CELL(\"contents\",'6償還表(条件緩和後)'!U109) + CELL(\"contents\",'3-1借換後の計画'!V55))","v":0},null,{"$f":"CELL(\"contents\",'3-1借換後の計画'!W42) - (CELL(\"contents\",'6償還表(条件緩和後)'!V109) + CELL(\"contents\",'3-1借換後の計画'!W55))","v":0},null,{"$f":"CELL(\"contents\",'3-1借換後の計画'!X42) - (CELL(\"contents\",'6償還表(条件緩和後)'!W109) + CELL(\"contents\",'3-1借換後の計画'!X55))","v":0},null,{"$f":"CELL(\"contents\",'3-1借換後の計画'!Y42) - (CELL(\"contents\",'6償還表(条件緩和後)'!X109) + CELL(\"contents\",'3-1借換後の計画'!Y55))","v":0},null,{"$f":"CELL(\"contents\",'3-1借換後の計画'!Z42) - (CELL(\"contents\",'6償還表(条件緩和後)'!Y109) + CELL(\"contents\",'3-1借換後の計画'!Z55))","v":0}]
[]
[null,null,"経済階層の区分（下記注参照）",null,null,null,null,null,{"$f":"IF(OR(I64=0,I63=0),\"\",I68)","v":""},null,{"$f":"IF(OR(K64=0,K63=0),\"\",K68)","v":""},null,{"$f":"IF(OR(M64=0,M63=0),\"\",M68)","v":""},null,{"$f":"IF(OR(O64=0,O63=0),\"\",O68)","v":""},null,{"$f":"IF(OR(Q64=0,Q63=0),\"\",Q68)","v":""},null,{"$f":"IF(OR(S64=0,S63=0),\"\",S68)","v":""},null,{"$f":"IF(OR(U64=0,U63=0),\"\",U68)","v":""},null,{"$f":"IF(OR(W64=0,W63=0),\"\",W68)","v":""},null,{"$f":"IF(OR(Y64=0,Y63=0),\"\",Y68)","v":""},null,{"$f":"IF(OR(AA64=0,AA63=0),\"\",AA68)","v":""},null,{"$f":"IF(OR(AC64=0,AC63=0),\"\",AC68)","v":""},null,{"$f":"IF(OR(AE64=0,AE63=0),\"\",AE68)","v":""},null,{"$f":"IF(OR(AG64=0,AG63=0),\"\",AG68)","v":""}]
[]
[null,null,"既借入金残高（各年末時点）",null,null,null,null,null,{"$f":"CELL(\"contents\",'6償還表(条件緩和後)'!$AA$113)","v":0},null,{"$f":"CELL(\"contents\",'6償還表(条件緩和後)'!$AB$113)","v":0},null,{"$f":"CELL(\"contents\",'6償還表(条件緩和後)'!$AC$113)","v":0},null,{"$f":"CELL(\"contents\",'6償還表(条件緩和後)'!$AD$113)","v":0},null,{"$f":"CELL(\"contents\",'6償還表(条件緩和後)'!$AE$113)","v":0},null,{"$f":"CELL(\"contents\",'6償還表(条件緩和後)'!$AF$113)","v":0},null,{"$f":"CELL(\"contents\",'6償還表(条件緩和後)'!$AG$113)","v":0},null,{"$f":"CELL(\"contents\",'6償還表(条件緩和後)'!$AH$113)","v":0},null,{"$f":"CELL(\"contents\",'6償還表(条件緩和後)'!$AI$113)","v":0},null,{"$f":"CELL(\"contents\",'6償還表(条件緩和後)'!$AJ$113)","v":0},null,{"$f":"CELL(\"contents\",'6償還表(条件緩和後)'!$AK$113)","v":0},null,{"$f":"CELL(\"contents\",'6償還表(条件緩和後)'!$AL$113)","v":0},null,{"$f":"CELL(\"contents\",'6償還表(条件緩和後)'!$AM$113)","v":0}]
[null,null,null,"　　うち畜産特別資金",null,null,null,null,{"$f":"CELL(\"contents\",'6償還表(条件緩和後)'!$AA$63)","v":0},null,{"$f":"CELL(\"contents\",'6償還表(条件緩和後)'!$AB$63)","v":0},null,{"$f":"CELL(\"contents\",'6償還表(条件緩和後)'!$AC$63)","v":0},null,{"$f":"CELL(\"contents\",'6償還表(条件緩和後)'!$AD$63)","v":0},null,{"$f":"CELL(\"contents\",'6償還表(条件緩和後)'!$AE$63)","v":0},null,{"$f":"CELL(\"contents\",'6償還表(条件緩和後)'!$AF$63)","v":0},null,{"$f":"CELL(\"contents\",'6償還表(条件緩和後)'!$AG$63)","v":0},null,{"$f":"CELL(\"contents\",'6償還表(条件緩和後)'!$AH$63)","v":0},null,{"$f":"CELL(\"contents\",'6償還表(条件緩和後)'!$AI$63)","v":0},null,{"$f":"CELL(\"contents\",'6償還表(条件緩和後)'!$AJ$63)","v":0},null,{"$f":"CELL(\"contents\",'6償還表(条件緩和後)'!$AK$63)","v":0},null,{"$f":"CELL(\"contents\",'6償還表(条件緩和後)'!$AL$63)","v":0},null,{"$f":"CELL(\"contents\",'6償還表(条件緩和後)'!$AM$63)","v":0}]
[null,null,"買掛未払金等残高（各年末時点）",null,null,null,null,null,{"$f":"CELL(\"contents\",'6償還表(条件緩和後)'!$AA$114)","v":0},null,{"$f":"CELL(\"contents\",'6償還表(条件緩和後)'!$AB$114)","v":0},null,{"$f":"CELL(\"contents\",'6償還表(条件緩和後)'!$AC$114)","v":0},null,{"$f":"CELL(\"contents\",'6償還表(条件緩和後)'!$AD$114)","v":0},null,{"$f":"CELL(\"contents\",'6償還表(条件緩和後)'!$AE$114)","v":0},null,{"$f":"CELL(\"contents\",'6償還表(条件緩和後)'!$AF$114)","v":0},null,{"$f":"CELL(\"contents\",'6償還表(条件緩和後)'!$AG$114)","v":0},null,{"$f":"CELL(\"contents\",'6償還表(条件緩和後)'!$AH$114)","v":0},null,{"$f":"CELL(\"contents\",'6償還表(条件緩和後)'!$AI$114)","v":0},null,{"$f":"CELL(\"contents\",'6償還表(条件緩和後)'!$AJ$114)","v":0},null,{"$f":"CELL(\"contents\",'6償還表(条件緩和後)'!$AK$114)","v":0},null,{"$f":"CELL(\"contents\",'6償還表(条件緩和後)'!$AL$114)","v":0},null,{"$f":"CELL(\"contents\",'6償還表(条件緩和後)'!$AM$114)","v":0}]

{"sheet":"7-5借換・条件緩和の内容","index":21,"n_rows":43,"n_cols":21,"rows_kept":43,"cut":false,"hidden":false,"merged":[[42,12,42,13],[42,14,42,15],[42,16,42,17],[40,12,40,13],[40,14,40,15],[40,16,40,17],[37,14,37,15],[37,16,37,17],[38,16,38,17],[38,14,38,15],[35,20,42,22],[35,14,35,15],[35,16,35,17],[35,19,42,19],[36,2,36,5],[36,6,36,7],[36,8,36,9],[41,2,41,5],[41,6,41,7],[41,8,41,9],[41,10,41,11],[41,12,41,13],[41,14,41,15],[41,16,41,17],[36,10,36,11],[36,12,36,13],[36,14,36,15],[36,16,36,17],[39,2,39,5],[39,6,39,7],[39,8,39,9],[39,10,39,11],[39,14,39,15],[39,16,39,17],[35,1,42,1],[35,2,35,5],[35,6,35,7],[35,8,35,9],[35,10,35,11],[35,12,35,13],[40,2,40,5],[40,6,40,7],[40,8,40,9],[40,10,40,11],[39,12,39,13],[38,6,38,7],[38,2,38,5],[37,10,37,11],[37,12,37,13],[38,12,38,13],[38,10,38,11],[38,8,38,9],[37,2,37,5],[37,6,37,7],[37,8,37,9],[42,6,42,7],[42,8,42,9],[42,10,42,11],[33,14,33,15],[33,16,33,17],[34,6,34,7],[34,8,34,9],[34,10,34,11],[34,12,34,13],[34,14,34,15],[34,16,34,17],[27,20,34,22],[27,14,27,15],[27,16,27,17],[27,19,34,19],[32,12,32,13],[32,14,32,15],[32,16,32,17],[29,16,29,17],[29,14,29,15],[29,8,29,9],[30,2,30,5],[30,6,30,7],[30,8,30,9],[30,10,30,11],[30,12,30,13],[30,14,30,15],[30,16,30,17],[31,2,31,5],[31,6,31,7],[31,8,31,9],[31,10,31,11],[31,12,31,13],[31,14,31,15],[31,16,31,17],[27,1,34,1],[27,2,27,5],[27,6,27,7],[27,8,27,9],[27,10,27,11],[27,12,27,13],[32,2,32,5],[32,6,32,7],[32,8,32,9],[32,10,32,11],[33,2,33,5],[33,6,33,7],[33,8,33,9],[33,10,33,11],[33,12,33,13],[28,2,28,5],[28,6,28,7],[28,8,28,9],[28,10,28,11],[28,12,28,13],[29,6,29,7],[29,2,29,5],[29,12,29,13],[29,10,29,11],[25,14,25,15],[25,16,25,17],[26,6,26,7],[26,8,26,9],[26,10,26,11],[26,12,26,13],[26,14,26,15],[26,16,26,17],[19,20,26,22],[19,14,19,15],[19,16,19,17],[19,19,26,19],[24,12,24,13],[24,14,24,15],[24,16,24,17],[22,10,22,11],[22,12,22,13],[22,14,22,15],[22,16,22,17],[20,8,20,9],[20,10,20,11],[20,12,20,13],[21,6,21,7],[23,2,23,5],[23,6,23,7],[23,8,23,9],[23,10,23,11],[23,12,23,13],[23,14,23,15],[23,16,23,17],[19,1,26,1],[19,2,19,5],[19,6,19,7],[19,8,19,9],[19,10,19,11],[19,12,19,13],[24,2,24,5],[24,6,24,7],[24,8,24,9],[24,10,24,11],[25,2,25,5],[25,6,25,7],[25,8,25,9],[25,10,25,11],[25,12,25,13],[20,2,20,5],[20,6,20,7],[21,2,21,5],[22,2,22,5],[22,6,22,7],[11,20,18,22],[15,2,15,5],[15,6,15,7],[15,8,15,9],[15,10,15,11],[15,12,15,13],[15,14,15,15],[15,16,15,17],[16,12,16,13],[16,14,16,15],[16,16,16,17],[12,2,12,5],[12,6,12,7],[12,8,12,9],[12,10,12,11],[12,12,12,13],[12,14,12,15],[12,16,12,17],[13,16,13,17],[13,14,13,15],[13,12,13,13],[13,10,13,11],[13,8,13,9],[13,6,13,7],[3,19,10,19],[11,1,18,1],[11,2,11,5],[11,6,11,7],[11,8,11,9],[11,10,11,11],[11,12,11,13],[16,2,16,5],[16,6,16,7],[16,8,16,9],[16,10,16,11],[11,14,11,15],[11,16,11,17],[11,19,18,19],[14,2,14,5],[14,6,14,7],[14,8,14,9],[14,10,14,11],[14,12,14,13],[14,14,14,15],[14,16,14,17],[6,2,6,5],[6,6,6,7],[6,8,6,9],[6,16,6,17],[9,2,9,5],[9,6,9,7],[9,8,9,9],[9,10,9,11],[9,12,9,13],[9,14,9,15],[9,16,9,17],[7,6,7,7],[7,8,7,9],[7,10,7,11],[7,12,7,13],[7,14,7,15],[7,16,7,17],[5,2,5,5],[5,6,5,7],[5,8,5,9],[5,10,5,11],[5,12,5,13],[5,14,5,15],[5,16,5,17],[3,20,10,22],[2,2,2,5],[2,6,2,7],[2,8,2,9],[2,10,2,11],[2,12,2,13],[2,14,2,15],[2,16,2,17],[2,20,2,22],[10,8,10,9],[10,10,10,11],[10,12,10,13],[10,14,10,15],[10,16,10,17],[6,10,6,11],[6,12,6,13],[6,14,6,15],[3,1,10,1],[3,2,3,5],[3,6,3,7],[3,8,3,9],[3,10,3,11],[3,12,3,13],[3,14,3,15],[3,16,3,17],[4,2,4,5],[4,6,4,7],[4,8,4,9],[4,10,4,11],[4,12,4,13],[4,14,4,15],[4,16,4,17],[8,16,8,17],[8,14,8,15],[8,12,8,13],[8,10,8,11],[8,8,8,9],[8,6,8,7],[8,2,8,5],[7,2,7,5],[10,6,10,7],[13,2,13,5],[20,14,20,15],[20,16,20,17],[21,16,21,17],[21,14,21,15],[21,12,21,13],[21,10,21,11],[21,8,21,9],[28,14,28,15],[28,16,28,17],[17,2,17,5],[17,6,17,7],[17,8,17,9],[17,10,17,11],[17,12,17,13],[17,14,17,15],[17,16,17,17],[18,6,18,7],[18,8,18,9],[18,10,18,11],[18,12,18,13],[18,14,18,15],[18,16,18,17],[22,8,22,9]]}
[]
[null,"５　養豚特別支援(新)資金で借り換える資金の内容",null,null,null,null,null,null,null,null,null,null,null,null,null,null,null,null,null,"６　条件緩和の内容"]
[null,"年","借換対象資金名",null,null,null,"借入年(年)",null,"前年末残高(千円)",null,"当年約定償還額(千円)",null,"約定償還月(月)",null,"今回借換額(千円)",null,"資金の使途",null,null,"年","内容"]
[null,25,null,null,null,null,null,null,null,null,null,null,null,null,null,null,null,null,null,25]
[]
[]
[]
[]
[]
[]
[null,null,"計",null,null,null,null,null,null,null,null,null,null,null,{"$f":"SUM(O4:P10)","v":0}]
[null,{"$f":"B4+1","v":26},null,null,null,null,null,null,null,null,null,null,null,null,null,null,null,null,null,{"$f":"T4+1","v":26}]
[]
[]
[]
[]
[]
[]
[null,null,"計",null,null,null,null,null,null,null,null,null,null,null,{"$f":"SUM(O12:P18)","v":0}]
[null,{"$f":"B4+2","v":27},null,null,null,null,null,null,null,null,null,null,null,null,null,null,null,null,null,{"$f":"T4+2","v":27}]
[]
[]
[]
[]
[]
[]
[null,null,"計",null,null,null,null,null,null,null,null,null,null,null,{"$f":"SUM(O20:P26)","v":0}]
[null,{"$f":"B4+3","v":28},null,null,null,null,null,null,null,null,null,null,null,null,null,null,null,null,null,{"$f":"T4+3","v":28}]
[]
[]
[]
[]
[]
[]
[null,null,"計",null,null,null,null,null,null,null,null,null,null,null,{"$f":"SUM(O28:P34)","v":0}]
[null,{"$f":"B4+4","v":29},null,null,null,null,null,null,null,null,null,null,null,null,null,null,null,null,null,{"$f":"T4+4","v":29}]
[]
[]
[]
[]
[]
[]
[null,null,"計",null,null,null,null,null,null,null,null,null,null,null,{"$f":"SUM(O36:P42)","v":0}]

{"sheet":"8-1計画審査シート(初年度)","index":22,"n_rows":116,"n_cols":18,"rows_kept":116,"cut":false,"hidden":false,"merged":[[99,6,99,7],[99,8,99,9],[99,10,99,11],[99,12,99,13],[97,6,97,7],[97,8,97,9],[97,10,97,11],[97,12,97,13],[98,6,98,7],[98,8,98,9],[98,10,98,11],[98,12,98,13],[95,8,95,9],[95,10,95,11],[95,12,95,13],[96,6,96,7],[96,8,96,9],[96,10,96,11],[96,12,96,13],[93,1,99,5],[93,6,93,7],[93,8,93,9],[93,10,93,11],[93,12,93,13],[94,6,94,7],[94,8,94,9],[94,10,94,11],[94,12,94,13],[95,6,95,7],[89,3,89,7],[89,9,89,14],[92,1,92,7],[92,8,92,9],[92,10,92,11],[92,12,92,13],[86,1,86,5],[86,9,86,10],[86,11,86,12],[86,13,86,14],[87,1,87,5],[87,9,87,10],[87,11,87,12],[87,13,87,14],[80,3,80,5],[80,6,80,8],[84,1,85,5],[84,6,84,7],[84,8,84,10],[84,11,84,14],[85,9,85,10],[85,11,85,12],[85,13,85,14],[76,2,79,2],[76,3,77,5],[76,10,77,10],[76,12,77,12],[76,14,77,14],[76,15,77,15],[78,3,79,3],[78,4,79,5],[78,9,79,15],[70,15,71,15],[72,3,73,3],[72,4,73,5],[72,9,75,15],[74,3,75,3],[74,4,75,5],[66,14,67,14],[66,15,67,15],[68,3,69,3],[68,4,69,5],[68,9,69,15],[70,2,75,2],[70,3,71,5],[70,10,71,10],[70,12,71,12],[70,14,71,14],[58,15,59,15],[60,3,65,3],[60,4,61,5],[60,9,65,15],[62,4,65,4],[62,5,63,5],[64,5,65,5],[58,1,79,1],[58,2,65,2],[58,3,59,5],[58,10,59,10],[58,12,59,12],[58,14,59,14],[66,2,69,2],[66,3,67,5],[66,10,67,10],[66,12,67,12],[45,15,46,15],[47,3,56,3],[47,4,48,4],[47,5,48,5],[47,9,56,15],[49,4,50,4],[49,5,50,5],[51,4,52,4],[51,5,52,5],[53,4,54,4],[45,1,56,1],[45,2,56,2],[45,3,46,5],[45,10,46,10],[45,12,46,12],[45,14,46,14],[53,5,54,5],[55,4,56,4],[55,5,56,5],[39,15,40,15],[41,3,42,3],[41,4,42,5],[41,9,42,15],[43,2,44,2],[43,3,44,5],[43,9,44,10],[43,11,44,12],[43,13,44,14],[43,15,44,15],[37,4,38,5],[39,2,42,2],[39,3,40,5],[39,10,40,10],[39,12,40,12],[39,14,40,14],[31,2,38,2],[31,3,32,5],[31,10,32,10],[31,12,32,12],[31,14,32,14],[31,15,32,15],[33,3,38,3],[33,4,34,5],[33,9,38,15],[35,4,36,5],[27,2,30,2],[27,3,28,5],[27,10,28,10],[27,12,28,12],[27,14,28,14],[27,15,28,15],[29,3,30,3],[29,4,30,5],[29,9,30,15],[19,15,20,15],[21,3,26,3],[21,4,22,5],[21,9,26,15],[23,4,26,4],[23,5,24,5],[25,5,26,5],[17,5,18,5],[19,2,26,2],[19,3,20,5],[19,10,20,10],[19,12,20,12],[19,14,20,14],[7,15,8,15],[9,3,18,3],[9,4,10,4],[9,5,10,5],[9,9,18,15],[11,4,12,4],[11,5,12,5],[13,4,14,4],[13,5,14,5],[15,4,16,4],[6,11,6,12],[6,13,6,14],[7,1,44,1],[7,2,18,2],[7,3,8,5],[7,10,8,10],[7,12,8,12],[7,14,8,14],[15,5,16,5],[17,4,18,4],[0,7,0,10],[1,14,1,15],[3,2,3,5],[3,7,3,10],[3,13,3,15],[5,1,6,5],[5,6,6,8],[5,9,5,14],[5,15,6,15],[6,9,6,10]]}
[]
[null,"畜産特別資金　計画審査シート（借換初年度用）",null,null,null,null,null,null,null,null,null,null,null,null,{"$f":"配列シート!B8","v":0}]
[]
[null,null,{"$f":"\"対象者名:\" & 配列シート!J3","v":"対象者名:"},null,null,null,"評価者名：",null,null,null,null,null,"評価年月日："]
[]
[null,"評　価　項　目",null,null,null,null,"評価データ（金額：千円）",null,null,"評価基準",null,null,null,null,null,"評価\n結果"]
[null,null,null,null,null,null,null,null,null,"Ａ",null,"Ｂ",null,"Ｃ"]
[null,"実績の評価と当年計画の実現性","①","畜産部門収入",null,null,{"$f":"H8-1","v":-2},{"$f":"I8-1","v":-1},{"$f":"$O$2","v":0},null,{"$f":"配列シート!$AP$2","v":0},null,{"$f":"配列シート!$AP$3","v":0},null,{"$f":"配列シート!$AP$4","v":0},{"$f":"IF(R9=1,3,IF(R9=2,2,1))","v":2},null,"①オプションボタン状態"]
[null,null,null,null,null,null,{"$f":"'2-1経営収支計画・個人'!J6","v":0},{"$f":"'2-1経営収支計画・個人'!L6","v":0},{"$f":"'2-1経営収支計画・個人'!M6","v":0},null,null,null,null,null,null,3,null,2]
[null,null,null,null,"１頭当たり\n畜産部門収入",{"$f":" D8 & \"(頭) / \" &F12","v":"畜産部門収入(頭) / "},{"$f":"H10-1","v":-2},{"$f":"I10-1","v":-1},{"$f":"$O$2","v":0}," "]
[null,null,null,null,null,null,{"$f":"IF(G13= 0,0,G9/G13)","v":0},{"$f":"IF(H13= 0,0,H9/H13)","v":0},{"$f":"IF(I13=0,0,I9/I13)","v":0}]
[null,null,null,null,"常時飼養頭数",null,{"$f":"H12-1","v":-2},{"$f":"I12-1","v":-1},{"$f":"$O$2","v":0}]
[]
[null,null,null,null,"生産技術指標",null,{"$f":"H14-1","v":-2},{"$f":"I14-1","v":-1},{"$f":"$O$2","v":0}]
[]
[null,null,null,null,"販売単価",null,{"$f":"H16-1","v":-2},{"$f":"I16-1","v":-1},{"$f":"$O$2","v":0}]
[]
[null,null,null,null,"生産物販売量",null,{"$f":"H18-1","v":-2},{"$f":"I18-1","v":-1},{"$f":"$O$2","v":0}]
[]
[null,null,"②","畜産部門支出",null,null,{"$f":"H20-1","v":-2},{"$f":"I20-1","v":-1},{"$f":"$O$2","v":0},null,{"$f":"配列シート!$AP$5","v":0},null,{"$f":"配列シート!$AP$6","v":0},null,{"$f":"配列シート!$AP$7","v":0},{"$f":"IF(R21=1,3,IF(R21=2,2,1))","v":2},null,"②オプションボタン状態"]
[null,null,null,null,null,null,{"$f":"'2-1経営収支計画・個人'!J20","v":0},{"$f":"'2-1経営収支計画・個人'!L20","v":0},{"$f":"'2-1経営収支計画・個人'!M20","v":0},null,null,null,null,null,null,null,null,2]
[null,null,null,null,"１頭当たり\n畜産部門支出",null,{"$f":"H22-1","v":-2},{"$f":"I22-1","v":-1},{"$f":"$O$2","v":0}," "]
[null,null,null,null,null,null,{"$f":"IF(G13=0,0,G21/G13)","v":0},{"$f":"IF(H13=0,0,H21/H13)","v":0},{"$f":"IF(I13=0,0,I21/I13)","v":0}]
[null,null,null,null,null,"１頭当たり\n家畜購入費",{"$f":"H24-1","v":-2},{"$f":"I24-1","v":-1},{"$f":"$O$2","v":0}]
[null,null,null,null,null,null,{"$f":"IF(G13=0,0,'2-1経営収支計画・個人'!J13/G13)","v":0},{"$f":"IF(H13=0,0,'2-1経営収支計画・個人'!L13/H13)","v":0},{"$f":"IF(I13=0,0,'2-1経営収支計画・個人'!M13/I13)","v":0}]
[null,null,null,null,null,"１頭当たり\n飼料購入費",{"$f":"H26-1","v":-2},{"$f":"I26-1","v":-1},{"$f":"$O$2","v":0}]
[null,null,null,null,null,null,{"$f":"IF(G13=0,0,'2-1経営収支計画・個人'!J18/G13)","v":0},{"$f":"IF(H13=0,0,'2-1経営収支計画・個人'!L18/H13)","v":0},{"$f":"IF(I13=0,0,'2-1経営収支計画・個人'!M18/I13)","v":0}]
[null,null,"③","家計費",null,null,{"$f":"H28-1","v":-2},{"$f":"I28-1","v":-1},{"$f":"$O$2","v":0},null,{"$f":"配列シート!$AP$8","v":0},null,{"$f":"配列シート!$AP$9","v":0},null,{"$f":"配列シート!$AP$10","v":0},{"$f":"IF(R29=1,3,IF(R29=2,2,1))","v":2},null,"③オプションボタン状態"]
[null,null,null,null,null,null,{"$f":"'2-1経営収支計画・個人'!J34","v":0},{"$f":"'2-1経営収支計画・個人'!L34","v":0},{"$f":"'2-1経営収支計画・個人'!M34","v":0},null,null,null,null,null,null,null,null,2]
[null,null,null,null,"家族１人当たり\n家計費",null,{"$f":"H30-1","v":-2},{"$f":"I30-1","v":-1},{"$f":"$O$2","v":0}," "]
[null,null,null,null,null,null,{"$f":"IF('1-1経営改善の計画'!H5=0,0,G29/'1-1経営改善の計画'!H5)","v":0},{"$f":"IF('1-1経営改善の計画'!J5=0,0,H29/'1-1経営改善の計画'!J5)","v":0},{"$f":"IF('1-1経営改善の計画'!K5=0,0,I29/'1-1経営改善の計画'!K5)","v":0}]
[null,null,"④","償還財源",null,null,{"$f":"H32-1","v":-2},{"$f":"I32-1","v":-1},{"$f":"$O$2","v":0},null,{"$f":"配列シート!$AP$11","v":0},null,{"$f":"配列シート!$AP$12","v":0},null,{"$f":"配列シート!$AP$13","v":0},{"$f":"IF(R33=1,3,IF(R33=2,2,1))","v":2},null,"④オプションボタン状態"]
[null,null,null,null,null,null,{"$f":"'2-1経営収支計画・個人'!J49","v":0},{"$f":"'2-1経営収支計画・個人'!L49","v":0},{"$f":"'2-1経営収支計画・個人'!M49","v":0},null,null,null,null,null,null,null,null,2]
[null,null,null,null,"１頭当たり\n償還財源",null,{"$f":"H34-1","v":-2},{"$f":"I34-1","v":-1},{"$f":"$O$2","v":0}," "]
[null,null,null,null,null,null,{"$f":"IF(G13=0,0,G33/G13)","v":0},{"$f":"IF(H13=0,0,H33/H13)","v":0},{"$f":"IF(I13=0,0,I33/I13)","v":0}]
[null,null,null,null,"年間要償還額",null,{"$f":"H36-1","v":-2},{"$f":"I36-1","v":-1},{"$f":"$O$2","v":0}]
[null,null,null,null,null,null,null,null,{"$f":"'3-1借換後の計画'!N42","v":0}]
[null,null,null,null,"実際の償還額",null,{"$f":"H38-1","v":-2},{"$f":"I38-1","v":-1},{"$f":"$O$2","v":0}]
[null,null,null,null,null,null,{"$f":"'3-1借換後の計画'!K42","v":0},{"$f":"'3-1借換後の計画'!M42","v":0}]
[null,null,"⑤","１頭当たり\n期末総負債残高",null,null,{"$f":"H40-1","v":-2},{"$f":"I40-1","v":-1},{"$f":"$O$2","v":0},null,{"$f":"配列シート!$AP$14","v":0},null,{"$f":"配列シート!$AP$15","v":0},null,{"$f":"配列シート!$AP$16","v":0},{"$f":"IF(R41=1,3,IF(R41=2,2,1))","v":2},null,"⑤オプションボタン状態"]
[null,null,null,null,null,null,{"$f":"IF(G13=0,0,G43/G13)","v":0},{"$f":"IF(H13=0,0,H43/H13)","v":0},null,null,null,null,null,null,null,null,null,2]
[null,null,null,null,"期末総負債残高",null,{"$f":"H42-1","v":-2},{"$f":"I42-1","v":-1},{"$f":"$O$2","v":0}," "]
[null,null,null,null,null,null,{"$f":"CELL(\"contents\",'6償還表(条件緩和後)'!AB113) + CELL(\"contents\",'6償還表(条件緩和後)'!AB114)","v":0},{"$f":"CELL(\"contents\",'6償還表(条件緩和後)'!AC113) + CELL(\"contents\",'6償還表(条件緩和後)'!AC114)","v":0}]
[null,null,"⑥","売上高負債比率（％）",null,null,{"$f":"H44-1","v":-2},{"$f":"I44-1","v":-1},{"$f":"$O$2","v":0},{"$f":"配列シート!$AP$17","v":0},null,{"$f":"配列シート!$AP$18","v":0},null,{"$f":"配列シート!$AP$19","v":0},null,{"$f":"IF(H45<J44,3,IF(H45>=N44,1,2))","v":1}]
[null,null,null,null,null,null,{"$f":"IF(G9=0,0,G43/G9*100)","v":0},{"$f":"IF(H9=0,0,H43/H9*100)","v":0}]
[null,"借換計画の評価","⑦","畜産部門収入",null,null,{"$f":"$O$2 - 1","v":-1},{"$f":"配列シート!$E$39","v":26},{"$f":"配列シート!$B$9","v":0},null,{"$f":"配列シート!$AP$20","v":0},null,{"$f":"配列シート!$AP$21","v":0},null,{"$f":"配列シート!$AP$22","v":0},{"$f":"IF(R47=1,3,IF(R47=2,2,1))","v":2},null,"⑦オプションボタン状態"]
[null,null,null,null,null,null,{"$f":"H9","v":0},{"$f":"HLOOKUP(配列シート!$E$39,'2-1経営収支計画・個人'!$M$3:$Z$50,4,FALSE)","v":{"$error":"#N/A"}},{"$f":"IF(配列シート!$B$9=\"\",0,HLOOKUP(配列シート!$B$9,'2-1経営収支計画・個人'!$M$3:$Z$50,4,FALSE))","v":0},null,null,null,null,null,null,null,null,2]
[null,null,null,null,"１頭当たり\n畜産部門収入",{"$f":"F10","v":"畜産部門収入(頭) / "},{"$f":"$O$2 - 1","v":-1},{"$f":"配列シート!$E$39","v":26},{"$f":"配列シート!$B$9","v":0}," "]
[null,null,null,null,null,null,{"$f":"H11","v":0},{"$f":"IF(H51=0,0,H47/H51)","v":0},{"$f":"IF(I51=0,0,I47/I51)","v":0}]
[null,null,null,null,"常時飼養頭数",{"$f":"IF(F12=\"\",\"\",F12)","v":""},{"$f":"$O$2 - 1","v":-1},{"$f":"配列シート!$E$39","v":26},{"$f":"配列シート!$B$9","v":0}]
[null,null,null,null,null,null,{"$f":"H13","v":0}]
[null,null,null,null,"生産技術指標",{"$f":"IF(F14=\"\",\"\",F14)","v":""},{"$f":"$O$2 - 1","v":-1},{"$f":"配列シート!$E$39","v":26},{"$f":"配列シート!$B$9","v":0}]
[null,null,null,null,null,null,{"$f":"H15","v":0}]
[null,null,null,null,"販売単価",{"$f":"IF(F16=\"\",\"\",F16)","v":""},{"$f":"$O$2 - 1","v":-1},{"$f":"配列シート!$E$39","v":26},{"$f":"配列シート!$B$9","v":0}]
[null,null,null,null,null,null,{"$f":"H17","v":0}]
[null,null,null,null,"生産物販売量",{"$f":"IF(F18=\"\",\"\",F18)","v":""},{"$f":"$O$2 - 1","v":-1},{"$f":"配列シート!$E$39","v":26},{"$f":"配列シート!$B$9","v":0}]
[null,null,null,null,null,null,{"$f":"H19","v":0}]
[]
[null,"借換計画の評価","⑧","畜産部門支出",null,null,{"$f":"$O$2 - 1","v":-1},{"$f":"配列シート!$E$39","v":26},{"$f":"配列シート!$B$9","v":0},null,{"$f":"配列シート!$AP$23","v":0},null,{"$f":"配列シート!$AP$24","v":0},null,{"$f":"配列シート!$AP$25","v":0},{"$f":"IF(R60=1,3,IF(R60=2,2,1))","v":2},null,"⑧オプションボタン状態"]
[null,null,null,null,null,null,{"$f":"H21","v":0},{"$f":"HLOOKUP(配列シート!$E$39,'2-1経営収支計画・個人'!$M$3:$Z$50,18,FALSE)","v":{"$error":"#N/A"}},{"$f":"IF(配列シート!$B$9=\"\",0,HLOOKUP(配列シート!$B$9,'2-1経営収支計画・個人'!$M$3:$Z$50,18,FALSE))","v":0},null,null,null,null,null,null,null,null,2]
[null,null,null,null,"１頭当たり\n畜産部門支出",null,{"$f":"$O$2 - 1","v":-1},{"$f":"配列シート!$E$39","v":26},{"$f":"配列シート!$B$9","v":0}," "]
[null,null,null,null,null,null,{"$f":"H23","v":0},{"$f":"IF(H51=0,0,H60/H51)","v":0},{"$f":"IF(I51=0,0,I60/I51)","v":0}]
[null,null,null,null,null,"１頭当たり\n家畜購入費",{"$f":"$O$2 - 1","v":-1},{"$f":"配列シート!$E$39","v":26},{"$f":"配列シート!$B$9","v":0}]
[null,null,null,null,null,null,{"$f":"H25","v":0},{"$f":"IF(H51=0,0,HLOOKUP(配列シート!$E$39,'2-1経営収支計画・個人'!$M$3:$Z$50,11,FALSE)/H51)","v":0},{"$f":"IF(I51=0,0,HLOOKUP(配列シート!$B$9,'2-1経営収支計画・個人'!$M$3:$Z$50,11,FALSE)/I51)","v":0}]
[null,null,null,null,null,"１頭当たり\n飼料購入費",{"$f":"$O$2 - 1","v":-1},{"$f":"配列シート!$E$39","v":26},{"$f":"配列シート!$B$9","v":0}]
[null,null,null,null,null,null,{"$f":"H27","v":0},{"$f":"IF(H51=0,0,HLOOKUP(配列シート!$E$39,'2-1経営収支計画・個人'!$M$3:$Z$50,16,FALSE)/H51)","v":0},{"$f":"IF(I51=0,0,HLOOKUP(配列シート!$B$9,'2-1経営収支計画・個人'!$M$3:$Z$50,16,FALSE)/I51)","v":0}]
[null,null,"⑨","家計費",null,null,{"$f":"$O$2 - 1","v":-1},{"$f":"配列シート!$E$39","v":26},{"$f":"配列シート!$B$9","v":0},null,{"$f":"配列シート!$AP$26","v":0},null,{"$f":"配列シート!$AP$27","v":0},null,{"$f":"配列シート!$AP$28","v":0},{"$f":"IF(R68=1,3,IF(R68=2,2,1))","v":2},null,"⑨オプションボタン状態"]
[null,null,null,null,null,null,{"$f":"H29","v":0},{"$f":"HLOOKUP(配列シート!$E$39,'2-1経営収支計画・個人'!$M$3:$Z$50,32,FALSE)","v":{"$error":"#N/A"}},{"$f":"IF(配列シート!$B$9=\"\",0,HLOOKUP(配列シート!$B$9,'2-1経営収支計画・個人'!$M$3:$Z$50,32,FALSE))","v":0},null,null,null,null,null,null,null,null,2]
[null,null,null,null,"家族１人当たり\n家計費",null,{"$f":"$O$2 - 1","v":-1},{"$f":"配列シート!$E$39","v":26},{"$f":"配列シート!$B$9","v":0}," "]
[null,null,null,null,null,null,{"$f":"H31","v":0},{"$f":"IF(OR(HLOOKUP(配列シート!$E$39,'1-1経営改善の計画'!$K$3:$X$5,3,FALSE)=FALSE,HLOOKUP(配列シート!$E$39,'1-1経営改善の計画'!$K$3:$X$5,3,FALSE)=\"\"),0,H68/HLOOKUP(配列シート!$E$39,'1-1経営改善の計画'!$K$3:$X$5,3,FALSE))","v":{"$error":"#N/A"}},{"$f":"IF(IF(配列シート!$B$9=\"\",0,HLOOKUP(配列シート!$B$9,'1-1経営改善の計画'!$K$3:$X$5,3,FALSE))=0,0,I68/HLOOKUP(配列シート!$B$9,'1-1経営改善の計画'!$K$3:$X$5,3,FALSE))","v":0}]
[null,null,"⑩","償還財源",null,null,{"$f":"$O$2 - 1","v":-1},{"$f":"配列シート!$E$39","v":26},{"$f":"配列シート!$B$9","v":0},null,{"$f":"配列シート!$AP$29","v":0},null,{"$f":"配列シート!$AP$30","v":0},null,{"$f":"配列シート!$AP$31","v":0},{"$f":"IF(R72=1,3,IF(R72=2,2,1))","v":2},null,"⑩オプションボタン状態"]
[null,null,null,null,null,null,{"$f":"H33","v":0},{"$f":"HLOOKUP(配列シート!$E$39,'2-1経営収支計画・個人'!$M$3:$Z$50,47,FALSE)","v":{"$error":"#N/A"}},{"$f":"IF(配列シート!$B$9=\"\",0,HLOOKUP(配列シート!$B$9,'2-1経営収支計画・個人'!$M$3:$Z$50,478,FALSE))","v":0},null,null,null,null,null,null,null,null,2]
[null,null,null,null,"１頭当たり\n償還財源",null,{"$f":"$O$2 - 1","v":-1},{"$f":"配列シート!$E$39","v":26},{"$f":"配列シート!$B$9","v":0}," "]
[null,null,null,null,null,null,{"$f":"H35","v":0},{"$f":"IF(H51=0,0,H72/H51)","v":0},{"$f":"IF(I51=0,0,I72/I51)","v":0}]
[null,null,null,null,"年間要償還額",null,{"$f":"$O$2 - 1","v":-1},{"$f":"配列シート!$E$39","v":26},{"$f":"配列シート!$B$9","v":0}]
[null,null,null,null,null,null,{"$f":"H37","v":0},{"$f":"HLOOKUP(配列シート!$E$39,'3-1借換後の計画'!$N$3:$AA$42,40,FALSE)","v":{"$error":"#N/A"}},{"$f":"HLOOKUP(配列シート!$B$9,'3-1借換後の計画'!$N$3:$AA$42,40,FALSE)","v":0}]
[null,null,"⑪","１頭当たり期末借入金残高\n（別表による）",null,null,{"$f":"$O$2 - 1","v":-1},{"$f":"配列シート!$E$39","v":26},{"$f":"配列シート!$B$9","v":0},null,"a",null,"b",null,"c",{"$f":"IF(R78=1,3,IF(R78=2,2,1))","v":2},null,"⑪オプションボタン状態"]
[null,null,null,null,null,null,{"$f":"IF(G51=0,0,G80/G51)","v":0},{"$f":"IF(H51=0,0,H80/H51)","v":0},{"$f":"IF(I51=0,0,I80/I51)","v":0},null,null,null,null,null,null,null,null,2]
[null,null,null,null,"期末借入金残高",null,{"$f":"$O$2 - 1","v":-1},{"$f":"配列シート!$E$39","v":26},{"$f":"配列シート!$B$9","v":0}," "]
[null,null,null,null,null,null,{"$f":"CELL(\"contents\",'6償還表(条件緩和後)'!AC113)","v":0},{"$f":"HLOOKUP(配列シート!$E$39,'6償還表(条件緩和後)'!$AD$5:$AN$113,109,FALSE)","v":{"$error":"#N/A"}},{"$f":"IF(配列シート!$B$9=\"\",0,HLOOKUP(配列シート!$B$9,'6償還表(条件緩和後)'!$AD$5:$AN$113,109,FALSE))","v":0}]
[null,"改善意欲評価","⑫","融資機関による借入者の評価",null,null,"「借入者の取組状況評価表」による",null,null,null,"a",null,"b",null,"c",{"$f":"IF('9-1借入者取組状況評価表'!P8=\"a\",3,IF('9-1借入者取組状況評価表'!P8=\"b\",2,1))","v":2}]
[null,"計",null,null,null,null,null,null,null,null,null,null,null,null,null,{"$f":"+SUM(P8,P20,P28,P32,P40,P44,P46,P59,P67,P71,P77,P81)","v":23}]
[]
[null,"【計画評価基準】"]
[null,"評点区分",null,null,null,null,"Ａ",null,"Ｂ",null,null,"Ｃ"]
[null,null,null,null,null,null,"良好","やや良好","普通","やや不良",null,"不良",null,"極めて不良"]
[null,"集計点数",null,null,null,null,"31以上","27～30","24～26","20～23",null,"17～19",null,"16以下"]
[null,"計算方法",null,null,null,null,"右記以外","最少得点＋最多得点×０．５以下","最少得点＋最多得点×０．４以下","最少得点＋最多得点×０．３以下",null,"最少得点＋最多得点×０．２以下",null,"最少得点＋最多得点×０．１以下"]
[]
[null,"計画\n評価","⑬","①～⑫の評価結果を元にした評価基準による計画評価\n（「計画評価基準」による）",null,null,null,null,{"$f":"IF(P82>=27,\"Ａ\",IF(P82>=20,\"Ｂ\",\"Ｃ\"))","v":"Ｂ"},"　Ａ：計画は妥当\n　Ｂ：計画達成には注意必要\n　Ｃ：計画達成は難しい"]
[]
[null,"【別表】"]
[null,"項目",null,null,null,null,null,null,"ａ",null,"ｂ",null,"ｃ"]
[null,"１頭あたり期末借入金残高",null,null,null,null,"経産牛",null,{"$f":"配列シート!$AP$32","v":0},null,{"$f":"配列シート!$AP$33","v":0},null,{"$f":"配列シート!$AP$34","v":0}]
[null,null,null,null,null,null,"繁殖雌牛",null,{"$f":"配列シート!$AP$35","v":0},null,{"$f":"配列シート!$AP$36","v":0},null,{"$f":"配列シート!$AP$37","v":0}]
[null,null,null,null,null,null,"肉専用種肥育牛",null,{"$f":"配列シート!$AP$38","v":0},null,{"$f":"配列シート!$AP$39","v":0},null,{"$f":"配列シート!$AP$40","v":0}]
[null,null,null,null,null,null,"交雑肥育牛",null,{"$f":"配列シート!$AP$41","v":0},null,{"$f":"配列シート!$AP$42","v":0},null,{"$f":"配列シート!$AP$43","v":0}]
[null,null,null,null,null,null,"乳用種肥育牛",null,{"$f":"配列シート!$AP$44","v":0},null,{"$f":"配列シート!$AP$45","v":0},null,{"$f":"配列シート!$AP$46","v":0}]
[null,null,null,null,null,null,"ほ育育成牛",null,{"$f":"配列シート!$AP$47","v":0},null,{"$f":"配列シート!$AP$48","v":0},null,{"$f":"配列シート!$AP$49","v":0}]
[null,null,null,null,null,null,"子取り用雌豚",null,{"$f":"配列シート!$AP$50","v":0},null,{"$f":"配列シート!$AP$51","v":0},null,{"$f":"配列シート!$AP$52","v":0}]
[]
[]
[]
[null,null,null,null,null,null,"家計費"]
[null,null,null,null,null,null,"前々年実績","前年実績","当年計画"]
[null,null,null,null,null,null,{"$f":"'2-1経営収支計画・個人'!J34","v":0},{"$f":"'2-1経営収支計画・個人'!L34","v":0},{"$f":"'2-1経営収支計画・個人'!M34","v":0}]
[]
[null,null,null,null,null,null,"前年実績","償還一年目計画","目標年計画"]
[null,null,null,null,null,null,{"$f":"H29","v":0},{"$f":"HLOOKUP(配列シート!$E$39,'2-1経営収支計画・個人'!$M$3:$Z$35,32,FALSE)","v":{"$error":"#N/A"}},{"$f":"HLOOKUP(配列シート!$B$9,'2-1経営収支計画・個人'!$M$3:$Z$35,32,FALSE)","v":0}]
[]
[null,null,null,null,null,null,"一人当たり家計費"]
[null,null,null,null,null,null,"前々年実績","前年実績","当年計画"]
[null,null,null,null,null,null,{"$f":"IF('1-1経営改善の計画'!H5=0,0,G29/'1-1経営改善の計画'!H5)","v":0},{"$f":"IF('1-1経営改善の計画'!J5=0,0,H29/'1-1経営改善の計画'!J5)","v":0},{"$f":"IF('1-1経営改善の計画'!K5=0,0,I29/'1-1経営改善の計画'!K5)","v":0}]
[]
[null,null,null,null,null,null,"前年実績","償還一年目計画","目標年計画"]
[null,null,null,null,null,null,{"$f":"H31","v":0},{"$f":"IF(OR(HLOOKUP(配列シート!$E$39,'1-1経営改善の計画'!$K$3:$X$5,3,FALSE)=FALSE,HLOOKUP(配列シート!$E$39,'1-1経営改善の計画'!$K$3:$X$5,3,FALSE)=\"\"),0,H68/HLOOKUP(配列シート!$E$39,'1-1経営改善の計画'!$K$3:$X$5,3,FALSE))","v":{"$error":"#N/A"}},{"$f":"IF(IF(配列シート!$B$9=\"\",0,HLOOKUP(配列シート!$B$9,'1-1経営改善の計画'!$K$3:$X$5,3,FALSE))=0,0,I68/HLOOKUP(配列シート!$B$9,'1-1経営改善の計画'!$K$3:$X$5,3,FALSE))","v":0}]

{"sheet":"8-1計画審査シート(見直し)","index":23,"n_rows":116,"n_cols":19,"rows_kept":116,"cut":false,"hidden":false,"merged":[[99,6,99,7],[99,8,99,9],[99,10,99,11],[99,12,99,13],[97,6,97,7],[97,8,97,9],[97,10,97,11],[97,12,97,13],[98,6,98,7],[98,8,98,9],[98,10,98,11],[98,12,98,13],[95,8,95,9],[95,10,95,11],[95,12,95,13],[96,6,96,7],[96,8,96,9],[96,10,96,11],[96,12,96,13],[93,1,99,5],[93,6,93,7],[93,8,93,9],[93,10,93,11],[93,12,93,13],[94,6,94,7],[94,8,94,9],[94,10,94,11],[94,12,94,13],[95,6,95,7],[89,3,89,7],[89,9,89,14],[92,1,92,7],[92,8,92,9],[92,10,92,11],[92,12,92,13],[85,12,85,13],[86,1,86,5],[86,8,86,9],[86,10,86,11],[86,12,86,13],[87,1,87,5],[87,8,87,9],[87,10,87,11],[87,12,87,13],[76,15,77,15],[78,4,79,5],[78,9,79,15],[80,3,80,5],[80,6,80,8],[84,1,85,5],[84,6,84,7],[84,8,84,11],[84,12,84,14],[85,8,85,9],[70,15,71,15],[72,3,75,3],[72,4,73,5],[72,9,75,15],[74,4,75,5],[76,2,79,2],[76,3,77,5],[76,10,77,10],[76,12,77,12],[76,14,77,14],[66,14,67,14],[66,15,67,15],[68,3,69,3],[68,4,69,5],[68,9,69,15],[70,2,75,2],[70,3,71,5],[70,10,71,10],[70,12,71,12],[70,14,71,14],[58,15,59,15],[60,4,61,5],[60,9,65,15],[62,4,63,4],[62,5,63,5],[64,4,65,4],[64,5,65,5],[58,1,79,1],[58,2,65,2],[58,3,59,5],[58,10,59,10],[58,12,59,12],[58,14,59,14],[66,2,69,2],[66,3,67,5],[66,10,67,10],[66,12,67,12],[45,15,46,15],[47,3,56,3],[47,4,48,4],[47,5,48,5],[47,9,56,15],[49,4,50,4],[49,5,50,5],[51,4,52,4],[51,5,52,5],[53,4,54,4],[45,1,56,1],[45,2,56,2],[45,3,46,5],[45,10,46,10],[45,12,46,12],[45,14,46,14],[53,5,54,5],[55,4,56,4],[55,5,56,5],[39,15,40,15],[41,3,42,3],[41,4,42,5],[41,9,42,15],[43,2,44,2],[43,3,44,5],[43,9,44,10],[43,11,44,12],[43,13,44,14],[43,15,44,15],[37,4,38,5],[39,2,42,2],[39,3,40,5],[39,10,40,10],[39,12,40,12],[39,14,40,14],[31,2,38,2],[31,3,32,5],[31,9,32,10],[31,11,32,12],[31,13,32,14],[31,15,32,15],[33,3,38,3],[33,4,34,5],[33,9,38,15],[35,4,36,5],[27,11,28,12],[27,13,28,14],[27,15,28,15],[29,3,30,3],[29,4,30,5],[29,9,30,15],[23,5,24,5],[25,4,26,4],[25,5,26,5],[27,2,30,2],[27,3,28,5],[27,9,28,10],[19,2,26,2],[19,3,20,5],[19,9,20,10],[19,11,20,12],[19,13,20,14],[19,15,20,15],[21,3,26,3],[21,4,22,5],[21,9,26,15],[23,4,24,4],[7,15,8,15],[9,3,18,3],[9,4,10,4],[9,5,10,5],[9,9,18,15],[11,4,12,4],[11,5,12,5],[13,4,14,4],[13,5,14,5],[15,4,16,4],[6,13,6,14],[7,1,44,1],[7,2,18,2],[7,3,8,5],[7,9,8,10],[7,11,8,12],[7,13,8,14],[15,5,16,5],[17,4,18,4],[17,5,18,5],[1,14,1,15],[3,2,3,5],[3,7,3,10],[3,13,3,15],[5,1,6,5],[5,6,6,8],[5,9,5,14],[5,15,6,15],[6,9,6,10],[6,11,6,12]]}
[]
[null,"畜産特別資金　計画審査シート（借換２年目以降・見直し計画用）",null,null,null,null,null,null,null,null,null,null,null,null,{"$f":"配列シート!B8","v":0}]
[]
[null,null,{"$f":"\"対象者名:\" & 配列シート!J3","v":"対象者名:"},null,null,null,"評価者名：",null,null,null,null,null,"評価年月日："]
[]
[null,"評　価　項　目",null,null,null,null,"評価データ（金額：千円）",null,null,"評価基準",null,null,null,null,null,"評価\n結果"]
[null,null,null,null,null,null,null,null,null,"Ａ",null,"Ｂ",null,"Ｃ"]
[null,"実　績　の　評　価","①","畜産部門収入",null,null,{"$f":"I8-1","v":-2},{"$f":"$O$2-1","v":-1},{"$f":"$O$2-1","v":-1},{"$f":"配列シート!$AQ$2","v":0},null,{"$f":"配列シート!$AQ$3","v":0},null,{"$f":"配列シート!$AQ$4","v":0},null,{"$f":"IF(S9>=J8,3,IF(S9<=(N8 *-1),1,2))","v":3},null,null,"％換算"]
[null,null,null,null,null,null,{"$f":"'2-1経営収支計画・個人'!J6","v":0},{"$f":"'2-1経営収支計画・個人'!K6","v":0},{"$f":"'2-1経営収支計画・個人'!L6","v":0},null,null,null,null,null,null,null,null,null,{"$f":"IF(H9=0,IF(I9=0,0,IF(I9>0,1000,-1000)),((I9-H9)/ABS(H9))*100)","v":0}]
[null,null,null,null,"１頭当たり\n畜産部門収入",{"$f":" D8& \"(頭) / \" &F12","v":"畜産部門収入(頭) / "},{"$f":"I10-1","v":-2},{"$f":"$O$2-1","v":-1},{"$f":"$O$2 - 1","v":-1}," "]
[null,null,null,null,null,null,{"$f":"IF(G13= 0,0,G9/G13)","v":0},{"$f":"IF(H13= 0,0,H9/H13)","v":0},{"$f":"IF(I13=0,0,I9/I13)","v":0}]
[null,null,null,null,"常時飼養頭数",null,{"$f":"I12-1","v":-2},{"$f":"$O$2-1","v":-1},{"$f":"$O$2 - 1","v":-1}]
[]
[null,null,null,null,"生産技術指標",null,{"$f":"I14-1","v":-2},{"$f":"$O$2-1","v":-1},{"$f":"$O$2 - 1","v":-1}]
[]
[null,null,null,null,"販売単価",null,{"$f":"I16-1","v":-2},{"$f":"$O$2-1","v":-1},{"$f":"$O$2 - 1","v":-1}]
[]
[null,null,null,null,"生産物販売量",null,{"$f":"I18-1","v":-2},{"$f":"$O$2-1","v":-1},{"$f":"$O$2 - 1","v":-1}]
[]
[null,null,"②","畜産部門支出",null,null,{"$f":"I20-1","v":-2},{"$f":"$O$2-1","v":-1},{"$f":"$O$2-1","v":-1},{"$f":"配列シート!$AQ$5","v":0},null,{"$f":"配列シート!$AQ$6","v":0},null,{"$f":"配列シート!$AQ$7","v":0},null,{"$f":"IF(S21<=(J20*-1),3,IF(S21>=N20,1,2))","v":3},null,null,"％換算"]
[null,null,null,null,null,null,{"$f":"'2-1経営収支計画・個人'!J20","v":0},{"$f":"'2-1経営収支計画・個人'!K20","v":0},{"$f":"'2-1経営収支計画・個人'!L20","v":0},null,null,null,null,null,null,null,null,null,{"$f":"IF(H21=0,IF(I21=0,0,IF(I21>0,1000,-1000)),((I21-H21)/ABS(H21))*100)","v":0}]
[null,null,null,null,"１頭当たり\n畜産部門支出",null,{"$f":"I22-1","v":-2},{"$f":"$O$2-1","v":-1},{"$f":"$O$2 - 1","v":-1}," "]
[null,null,null,null,null,null,{"$f":"IF(G13=0,0,G21/G13)","v":0},{"$f":"IF(H13=0,0,H21/H13)","v":0},{"$f":"IF(I13=0,0,I21/I13)","v":0}]
[null,null,null,null,null,"１頭当たり\n家畜購入費",{"$f":"I24-1","v":-2},{"$f":"$O$2-1","v":-1},{"$f":"$O$2 - 1","v":-1}]
[null,null,null,null,null,null,{"$f":"IF(G13=0,0,'2-1経営収支計画・個人'!J13/G13)","v":0},{"$f":"IF(H13=0,0,'2-1経営収支計画・個人'!K13/H13)","v":0},{"$f":"IF(I13=0,0,'2-1経営収支計画・個人'!L13/I13)","v":0}]
[null,null,null,null,null,"１頭当たり\n飼料購入費",{"$f":"I26-1","v":-2},{"$f":"$O$2-1","v":-1},{"$f":"$O$2 - 1","v":-1}]
[null,null,null,null,null,null,{"$f":"IF(G13=0,0,'2-1経営収支計画・個人'!J18/G13)","v":0},{"$f":"IF(H13=0,0,'2-1経営収支計画・個人'!K18/H13)","v":0},{"$f":"IF(I13=0,0,'2-1経営収支計画・個人'!L18/I13)","v":0}]
[null,null,"③","家計費",null,null,{"$f":"I28-1","v":-2},{"$f":"$O$2-1","v":-1},{"$f":"$O$2-1","v":-1},{"$f":"配列シート!$AQ$8","v":0},null,{"$f":"配列シート!$AQ$9","v":0},null,{"$f":"配列シート!$AQ$10","v":0},null,{"$f":"IF(S29<=(J28*-1),3,IF(S29>=N28,1,2))","v":3},null,null,"％換算"]
[null,null,null,null,null,null,{"$f":"'2-1経営収支計画・個人'!J34","v":0},{"$f":"'2-1経営収支計画・個人'!K34","v":0},{"$f":"'2-1経営収支計画・個人'!L34","v":0},null,null,null,null,null,null,null,null,null,{"$f":"IF(H29=0,IF(I29=0,0,IF(I29>0,1000,-1000)),((I29-H29)/ABS(H29))*100)","v":0}]
[null,null,null,null,"家族１人当たり\n家計費",null,{"$f":"I30-1","v":-2},{"$f":"$O$2-1","v":-1},{"$f":"$O$2 - 1","v":-1}," "]
[null,null,null,null,null,null,{"$f":"IF('1-1経営改善の計画'!H5=0,0,G29/'1-1経営改善の計画'!H5)","v":0},{"$f":"IF('1-1経営改善の計画'!I5=0,0,H29/'1-1経営改善の計画'!I5)","v":0},{"$f":"IF('1-1経営改善の計画'!J5=0,0,I29/'1-1経営改善の計画'!J5)","v":0}]
[null,null,"④","償還財源",null,null,{"$f":"I32-1","v":-2},{"$f":"$O$2-1","v":-1},{"$f":"$O$2-1","v":-1},{"$f":"配列シート!$AQ$11","v":0},null,{"$f":"配列シート!$AQ$12","v":0},null,{"$f":"配列シート!$AQ$13","v":0},null,{"$f":"IF(S33>=J32,3,IF(S33<=(N32*-1),1,2))","v":3},null,null,"％換算"]
[null,null,null,null,null,null,{"$f":"'2-1経営収支計画・個人'!J49","v":0},{"$f":"'2-1経営収支計画・個人'!K49","v":0},{"$f":"'2-1経営収支計画・個人'!L49","v":0},null,null,null,null,null,null,null,null,null,{"$f":"IF(H33=0,IF(I33=0,0,IF(I33>0,1000,-1000)),((I33-H33)/ABS(H33))*100)","v":0}]
[null,null,null,null,"１頭当たり\n償還財源",null,{"$f":"I34-1","v":-2},{"$f":"$O$2-1","v":-1},{"$f":"$O$2 - 1","v":-1}," "]
[null,null,null,null,null,null,{"$f":"IF(G13=0,0,G33/G13)","v":0},{"$f":"IF(H13=0,0,H33/H13)","v":0},{"$f":"IF(I13=0,0,I33/I13)","v":0}]
[null,null,null,null,"年間要償還額",null,{"$f":"I36-1","v":-2},{"$f":"$O$2-1","v":-1},{"$f":"$O$2 - 1","v":-1}]
[null,null,null,null,null,null,null,{"$f":"'3-1借換後の計画'!L42","v":0}]
[null,null,null,null,"実際の償還額",null,{"$f":"I38-1","v":-2},{"$f":"$O$2-1","v":-1},{"$f":"$O$2 - 1","v":-1}]
[null,null,null,null,null,null,{"$f":"'3-1借換後の計画'!K42","v":0},null,{"$f":"'3-1借換後の計画'!M42","v":0}]
[null,null,"⑤","１頭当たり\n期末総負債残高",null,null,{"$f":"I40-1","v":-2},{"$f":"$O$2-1","v":-1},{"$f":"$O$2-1","v":-1},null,{"$f":"配列シート!$AQ$14","v":0},null,{"$f":"配列シート!$AQ$15","v":0},null,{"$f":"配列シート!$AQ$16","v":0},{"$f":"IF(R41=1,3,IF(R41=2,2,1))","v":2},null,"⑤オプションボタン状態"]
[null,null,null,null,null,null,{"$f":"IF(G13=0,0,G43/G13)","v":0},null,{"$f":"IF(I13=0,0,I43/I13)","v":0},null,null,null,null,null,null,null,null,2]
[null,null,null,null,"期末総負債残高",null,{"$f":"I42-1","v":-2},{"$f":"$O$2-1","v":-1},{"$f":"$O$2 - 1","v":-1}," "]
[null,null,null,null,null,null,{"$f":"CELL(\"contents\",'6償還表(条件緩和後)'!AB113) + CELL(\"contents\",'6償還表(条件緩和後)'!AB114)","v":0},null,{"$f":"CELL(\"contents\",'6償還表(条件緩和後)'!AC113) + CELL(\"contents\",'6償還表(条件緩和後)'!AC114)","v":0}]
[null,null,"⑥","売上高負債比率（％）",null,null,{"$f":"I44-1","v":-2},{"$f":"$O$2-1","v":-1},{"$f":"$O$2-1","v":-1},{"$f":"配列シート!$AQ$17","v":0},null,{"$f":"配列シート!$AQ$18","v":0},null,{"$f":"配列シート!$AQ$19","v":0},null,{"$f":"IF(I45<J44,3,IF(I45>=N44,1,2))","v":1}]
[null,null,null,null,null,null,{"$f":"IF(G9=0,0,G43/G9*100)","v":0},null,{"$f":"IF(I9=0,0,I43/I9*100)","v":0}]
[null,"当年（見直し）計画の評価","⑦","畜産部門収入",null,null,{"$f":"$O$2 - 1","v":-1},{"$f":"$O$2","v":0},{"$f":"$O$2+1","v":1},null,{"$f":"配列シート!$AQ$20","v":0},null,{"$f":"配列シート!$AQ$21","v":0},null,{"$f":"配列シート!$AQ$22","v":0},{"$f":"IF(R47=1,3,IF(R47=2,2,1))","v":2},null,"⑦オプションボタン状態"]
[null,null,null,null,null,null,{"$f":"I9","v":0},{"$f":"'2-1経営収支計画・個人'!M6","v":0},{"$f":"'2-1経営収支計画・個人'!O6","v":0},null,null,null,null,null,null,null,null,2]
[null,null,null,null,"１頭当たり\n畜産部門収入",{"$f":"F10","v":"畜産部門収入(頭) / "},{"$f":"$O$2 - 1","v":-1},{"$f":"$O$2","v":0},{"$f":"$O$2+1","v":1}," "]
[null,null,null,null,null,null,{"$f":"IF(G51=0,0,G47/G51)","v":0},{"$f":"IF(H51=0,0,H47/H51)","v":0},{"$f":"IF(I51=0,0,I47/I51)","v":0}]
[null,null,null,null,"常時飼養頭数",{"$f":"IF(F12=\"\",\"\",F12)","v":""},{"$f":"$O$2 - 1","v":-1},{"$f":"$O$2","v":0},{"$f":"$O$2+1","v":1}]
[null,null,null,null,null,null,{"$f":"I13","v":0}]
[null,null,null,null,"生産技術指標",{"$f":"IF(F14=\"\",\"\",F14)","v":""},{"$f":"$O$2 - 1","v":-1},{"$f":"$O$2","v":0},{"$f":"$O$2+1","v":1}]
[null,null,null,null,null,null,{"$f":"I15","v":0}]
[null,null,null,null,"販売単価",{"$f":"IF(F16=\"\",\"\",F16)","v":""},{"$f":"$O$2 - 1","v":-1},{"$f":"$O$2","v":0},{"$f":"$O$2+1","v":1}]
[null,null,null,null,null,null,{"$f":"I17","v":0}]
[null,null,null,null,"生産物販売量",{"$f":"IF(F18=\"\",\"\",F18)","v":""},{"$f":"$O$2 - 1","v":-1},{"$f":"$O$2","v":0},{"$f":"$O$2+1","v":1}]
[null,null,null,null,null,null,{"$f":"I19","v":0}]
[]
[null,"当年（見直し）計画の評価","⑧","畜産部門支出",null,null,{"$f":"$O$2 - 1","v":-1},{"$f":"$O$2","v":0},{"$f":"$O$2+1","v":1},null,{"$f":"配列シート!$AQ$23","v":0},null,{"$f":"配列シート!$AQ$24","v":0},null,{"$f":"配列シート!$AQ$25","v":0},{"$f":"IF(R60=1,3,IF(R60=2,2,1))","v":2},null,"⑧オプションボタン状態"]
[null,null,null,null,null,null,{"$f":"I21","v":0},{"$f":"'2-1経営収支計画・個人'!M20","v":0},{"$f":"'2-1経営収支計画・個人'!O20","v":0},null,null,null,null,null,null,null,null,2]
[null,null,null,null,"１頭当たり\n畜産部門支出",null,{"$f":"$O$2 - 1","v":-1},{"$f":"$O$2","v":0},{"$f":"$O$2+1","v":1}," "]
[null,null,null,null,null,null,{"$f":"I23","v":0},{"$f":"IF(H51=0,0,H60/H51)","v":0},{"$f":"IF(I51=0,0,I60/I51)","v":0}]
[null,null,null,null,null,"１頭当たり\n家畜購入費",{"$f":"$O$2 - 1","v":-1},{"$f":"$O$2","v":0},{"$f":"$O$2+1","v":1}]
[null,null,null,null,null,null,{"$f":"I25","v":0},{"$f":"IF(H51=0,0,'2-1経営収支計画・個人'!M13/H51)","v":0},{"$f":"IF(I51=0,0,'2-1経営収支計画・個人'!O13/I51)","v":0}]
[null,null,null,null,null,"１頭当たり\n飼料購入費",{"$f":"$O$2 - 1","v":-1},{"$f":"$O$2","v":0},{"$f":"$O$2+1","v":1}]
[null,null,null,null,null,null,{"$f":"I27","v":0},{"$f":"IF(H51=0,0,'2-1経営収支計画・個人'!M18/H51)","v":0},{"$f":"IF(I51=0,0,'2-1経営収支計画・個人'!O18/I51)","v":0}]
[null,null,"⑨","家計費",null,null,{"$f":"$O$2 - 1","v":-1},{"$f":"$O$2","v":0},{"$f":"$O$2+1","v":1},null,{"$f":"配列シート!$AQ$26","v":0},null,{"$f":"配列シート!$AQ$27","v":0},null,{"$f":"配列シート!$AQ$28","v":0},{"$f":"IF(R68=1,3,IF(R68=2,2,1))","v":2},null,"⑨オプションボタン状態"]
[null,null,null,null,null,null,{"$f":"I29","v":0},{"$f":"'2-1経営収支計画・個人'!M34","v":0},{"$f":"'2-1経営収支計画・個人'!O34","v":0},null,null,null,null,null,null,null,null,2]
[null,null,null,null,"家族１人当たり\n家計費",null,{"$f":"$O$2 - 1","v":-1},{"$f":"$O$2","v":0},{"$f":"$O$2+1","v":1}," "]
[null,null,null,null,null,null,{"$f":"I31","v":0},{"$f":"IF('1-1経営改善の計画'!K5=0,0,H68/'1-1経営改善の計画'!K5)","v":0},{"$f":"IF('1-1経営改善の計画'!M5=0,0,I68/'1-1経営改善の計画'!M5)","v":0}]
[null,null,"⑩","償還財源",null,null,{"$f":"$O$2 - 1","v":-1},{"$f":"$O$2","v":0},{"$f":"$O$2+1","v":1},null,{"$f":"配列シート!$AQ$29","v":0},null,{"$f":"配列シート!$AQ$30","v":0},null,{"$f":"配列シート!$AQ$31","v":0},{"$f":"IF(R72=1,3,IF(R72=2,2,1))","v":2},null,"⑩オプションボタン状態"]
[null,null,null,null,null,null,{"$f":"I33","v":0},{"$f":"'2-1経営収支計画・個人'!M49","v":0},{"$f":"'2-1経営収支計画・個人'!O49","v":0},null,null,null,null,null,null,null,null,2]
[null,null,null,null,"１頭当たり\n償還財源",null,{"$f":"$O$2 - 1","v":-1},{"$f":"$O$2","v":0},{"$f":"$O$2+1","v":1}," "]
[null,null,null,null,null,null,{"$f":"I35","v":0},{"$f":"IF(H51=0,0,H72/H51)","v":0},{"$f":"IF(I51=0,0,I72/I51)","v":0}]
[null,null,null,null,"年間要償還額",null,{"$f":"$O$2 - 1","v":-1},{"$f":"$O$2","v":0},{"$f":"$O$2+1","v":1}]
[null,null,null,null,null,null,{"$f":"I37","v":0},{"$f":"'3-1借換後の計画'!N42","v":0},{"$f":"'3-1借換後の計画'!P42","v":0}]
[null,null,"⑪","１頭当たり期末借入金残高\n（別表による）",null,null,{"$f":"$O$2 - 1","v":-1},{"$f":"$O$2","v":0},{"$f":"$O$2+1","v":1},null,"a",null,"b",null,"c",{"$f":"IF(R78=1,3,IF(R78=2,2,1))","v":2},null,"⑪オプションボタン状態"]
[null,null,null,null,null,null,{"$f":"IF(G51=0,0,G80/G51)","v":0},{"$f":"IF(H51=0,0,H80/H51)","v":0},{"$f":"IF(I51=0,0,I80/I51)","v":0},null,null,null,null,null,null,null,null,2]
[null,null,null,null,"期末借入金残高",null,{"$f":"$O$2 - 1","v":-1},{"$f":"$O$2","v":0},{"$f":"$O$2+1","v":1}," "]
[null,null,null,null,null,null,{"$f":"CELL(\"contents\",'6償還表(条件緩和後)'!AC113)","v":0},{"$f":"CELL(\"contents\",'6償還表(条件緩和後)'!AD113)","v":0},{"$f":"CELL(\"contents\",'6償還表(条件緩和後)'!AE113)","v":0}]
[null,"改善意欲評価","⑫","融資機関による借入者の\n評価",null,null,"「借入者の取組状況評価表」による",null,null,null,"a",null,"b",null,"c",{"$f":"IF('9-1借入者取組状況評価表'!P8=\"a\",3,IF('9-1借入者取組状況評価表'!P8=\"b\",2,1))","v":2}]
[null,"計",null,null,null,null,null,null,null,null,null,null,null,null,null,{"$f":"+SUM(P8,P20,P28,P32,P40,P44,P46,P59,P67,P71,P77,P81)","v":27}]
[null,null,null,null,null,null,null,null,null,null,null,null,null,null,null,"注）評価基準（①～④）：計画０で実績マイナスの場合「減少」、プラスの場合「増加」とする"]
[null,"【総合評価基準】"]
[null,"評点区分",null,null,null,null,"Ａ",null,"Ｂ",null,null,null,"Ｃ"]
[null,null,null,null,null,null,"良好","やや良好","普通",null,"やや不良",null,"不良",null,"極めて不良"]
[null,"集計点数",null,null,null,null,"31以上","27～30","24～26",null,"20～23",null,"17～19",null,"16以下"]
[null,"計算方法",null,null,null,null,"右記以外","最少得点＋最多得点×０．５以下","最少得点＋最多得点×０．４以下",null,"最少得点＋最多得点×０．３以下",null,"最少得点＋最多得点×０．２以下",null,"最少得点＋最多得点×０．１以下"]
[]
[null,"総合\n評価","⑬","①～⑫の評価結果を元にした評価基準による総合評価\n（「総合評価基準」による）",null,null,null,null,{"$f":"IF(P82>=27,\"Ａ\",IF(P82>=20,\"Ｂ\",\"Ｃ\"))","v":"Ａ"},"　Ａ：計画は妥当\n　Ｂ：計画達成には注意必要\n　Ｃ：計画は要検討"]
[]
[null,"【別表】"]
[null,"項目",null,null,null,null,null,null,"ａ",null,"ｂ",null,"ｃ"]
[null,"１頭あたり期末借入金残高",null,null,null,null,"経産牛",null,{"$f":"配列シート!$AQ$32","v":0},null,{"$f":"配列シート!$AQ$33","v":0},null,{"$f":"配列シート!$AQ$34","v":0}]
[null,null,null,null,null,null,"繁殖雌牛",null,{"$f":"配列シート!$AQ$35","v":0},null,{"$f":"配列シート!$AQ$36","v":0},null,{"$f":"配列シート!$AQ$37","v":0}]
[null,null,null,null,null,null,"肉専用種肥育牛",null,{"$f":"配列シート!$AQ$38","v":0},null,{"$f":"配列シート!$AQ$39","v":0},null,{"$f":"配列シート!$AQ$40","v":0}]
[null,null,null,null,null,null,"交雑肥育牛",null,{"$f":"配列シート!$AQ$41","v":0},null,{"$f":"配列シート!$AQ$42","v":0},null,{"$f":"配列シート!$AQ$43","v":0}]
[null,null,null,null,null,null,"乳用種肥育牛",null,{"$f":"配列シート!$AQ$44","v":0},null,{"$f":"配列シート!$AQ$45","v":0},null,{"$f":"配列シート!$AQ$46","v":0}]
[null,null,null,null,null,null,"ほ育育成牛",null,{"$f":"配列シート!$AQ$47","v":0},null,{"$f":"配列シート!$AQ$48","v":0},null,{"$f":"配列シート!$AQ$49","v":0}]
[null,null,null,null,null,null,"子取り用雌豚",null,{"$f":"配列シート!$AQ$50","v":0},null,{"$f":"配列シート!$AQ$51","v":0},null,{"$f":"配列シート!$AQ$52","v":0}]
[]
[]
[]
[null,null,null,null,null,null,"家計費"]
[null,null,null,null,null,null,"前々年実績","前年計画","前年実績"]
[null,null,null,null,null,null,{"$f":"'2-1経営収支計画・個人'!J34","v":0},{"$f":"'2-1経営収支計画・個人'!K34","v":0},{"$f":"'2-1経営収支計画・個人'!L34","v":0}]
[]
[null,null,null,null,null,null,"前年実績","当年計画","次年計画"]
[null,null,null,null,null,null,{"$f":"I29","v":0},{"$f":"'2-1経営収支計画・個人'!M34","v":0},{"$f":"'2-1経営収支計画・個人'!O34","v":0}]
[]
[null,null,null,null,null,null,"一人当たり家計費"]
[null,null,null,null,null,null,"前々年実績","前年計画","前年実績"]
[null,null,null,null,null,null,{"$f":"IF('1-1経営改善の計画'!H5=0,0,G29/'1-1経営改善の計画'!H5)","v":0},{"$f":"IF('1-1経営改善の計画'!I5=0,0,H29/'1-1経営改善の計画'!I5)","v":0},{"$f":"IF('1-1経営改善の計画'!J5=0,0,I29/'1-1経営改善の計画'!J5)","v":0}]
[]
[null,null,null,null,null,null,"前年実績","当年計画","次年計画"]
[null,null,null,null,null,null,{"$f":"I31","v":0},{"$f":"IF('1-1経営改善の計画'!K5=0,0,H68/'1-1経営改善の計画'!K5)","v":0},{"$f":"IF('1-1経営改善の計画'!M5=0,0,I68/'1-1経営改善の計画'!M5)","v":0}]

{"sheet":"8-2見直し計画確定審査用","index":24,"n_rows":89,"n_cols":19,"rows_kept":89,"cut":false,"hidden":false,"merged":[[78,1,78,5],[80,3,80,8],[80,9,80,10],[80,11,80,15],[76,11,76,12],[76,14,76,15],[77,1,77,6],[77,9,77,10],[77,11,77,12],[77,14,77,15],[66,12,69,12],[66,13,69,13],[66,14,69,14],[66,15,69,15],[66,16,69,16],[75,1,76,6],[75,7,75,8],[75,9,75,12],[75,13,75,15],[76,9,76,10],[66,1,69,1],[66,2,69,2],[66,3,69,5],[66,6,69,6],[66,10,69,10],[66,11,69,11],[61,11,64,11],[61,12,64,12],[61,13,64,13],[61,14,64,14],[61,15,64,15],[61,16,64,16],[55,13,60,13],[55,14,60,14],[55,15,60,15],[55,16,60,16],[57,6,60,6],[61,1,64,1],[61,2,64,2],[61,3,64,5],[61,6,64,6],[61,10,64,10],[53,14,53,15],[54,10,54,11],[54,12,54,13],[54,14,54,15],[55,2,60,2],[55,3,60,5],[55,6,56,6],[55,10,60,10],[55,11,60,11],[55,12,60,12],[49,16,54,16],[50,10,50,11],[50,12,50,13],[50,14,50,15],[51,4,52,5],[51,10,51,11],[51,12,51,13],[51,14,51,15],[52,10,52,11],[52,12,52,13],[49,3,54,3],[49,4,50,5],[49,6,54,6],[49,10,49,11],[49,12,49,13],[49,14,49,15],[52,14,52,15],[53,4,54,5],[53,10,53,11],[53,12,53,13],[43,12,48,12],[43,13,48,13],[43,14,48,14],[43,15,48,15],[43,16,48,16],[45,6,48,6],[41,14,41,15],[41,16,42,16],[42,10,42,11],[42,12,42,13],[42,14,42,15],[43,2,54,2],[43,3,48,5],[43,6,44,6],[43,10,48,10],[43,11,48,11],[35,13,40,13],[35,14,40,14],[35,15,40,15],[35,16,40,16],[37,6,40,6],[41,3,42,3],[41,4,42,5],[41,6,42,6],[41,10,41,11],[41,12,41,13],[35,2,42,2],[35,3,40,5],[35,6,36,6],[35,10,40,10],[35,11,40,11],[35,12,40,12],[32,14,32,15],[33,4,34,4],[33,5,34,5],[33,10,33,11],[33,12,33,13],[33,14,33,15],[34,10,34,11],[34,12,34,13],[34,14,34,15],[29,16,34,16],[30,10,30,11],[30,12,30,13],[30,14,30,15],[31,3,34,3],[31,4,32,4],[31,5,32,5],[31,10,31,11],[31,12,31,13],[31,14,31,15],[23,13,28,13],[23,14,28,14],[23,15,28,15],[23,16,28,16],[25,6,28,6],[29,4,30,5],[29,6,34,6],[29,10,29,11],[29,12,29,13],[29,14,29,15],[23,2,34,2],[23,3,28,5],[23,6,24,6],[23,10,28,10],[23,11,28,11],[23,12,28,12],[32,10,32,11],[32,12,32,13],[21,4,22,5],[21,10,21,11],[21,12,21,13],[21,14,21,15],[22,10,22,11],[22,12,22,13],[22,14,22,15],[19,4,20,5],[19,10,19,11],[19,12,19,13],[19,14,19,15],[20,10,20,11],[20,12,20,13],[20,14,20,15],[17,4,18,5],[17,10,17,11],[17,12,17,13],[17,14,17,15],[18,10,18,11],[18,12,18,13],[18,14,18,15],[14,12,14,13],[14,14,14,15],[15,4,16,5],[15,10,15,11],[15,12,15,13],[15,14,15,15],[16,10,16,11],[16,12,16,13],[16,14,16,15],[7,15,12,15],[7,16,12,16],[9,6,12,6],[13,4,14,5],[13,6,22,6],[13,10,13,11],[13,12,13,13],[13,14,13,15],[13,16,22,16],[14,10,14,11],[6,14,6,15],[7,1,60,1],[7,2,22,2],[7,3,12,5],[7,6,8,6],[7,10,12,10],[7,11,12,11],[7,12,12,12],[7,13,12,13],[7,14,12,14],[1,15,1,16],[3,2,3,6],[3,8,3,11],[3,14,3,16],[5,1,6,6],[5,7,6,9],[5,10,5,15],[5,16,6,16],[6,10,6,11],[6,12,6,13]]}
[]
[null,"畜産特別資金　計画審査シート（見直し計画確定審査用）",null,null,null,null,null,null,null,null,null,null,null,null,null,{"$f":"配列シート!B8","v":0}]
[]
[null,null,{"$f":"\"対象者名:\" & 配列シート!J3","v":"対象者名:"},null,null,null,null,"評価者名：",null,null,null,null,null,"評価年月日："]
[]
[null,"評　価　項　目",null,null,null,null,null,"評価するデータ（金額：千円）",null,null,"評価基準",null,null,null,null,null,"評価\n結果"]
[null,null,null,null,null,null,null,null,null,null,"Ａ",null,"Ｂ",null,"Ｃ"]
[null,"計画の達成度と目標値の評価","①","畜産部門収入",null,null,"数値による判定",{"$f":"配列シート!$E$38","v":25},{"$f":"配列シート!$E$42-1","v":29},{"$f":"配列シート!$B$9","v":0},null,{"$f":"配列シート!$AV$2","v":0},null,{"$f":"配列シート!$AV$3","v":0},null,{"$f":"配列シート!$AV$4","v":0},{"$f":"IF(S9=1,3,IF(S9=3,1,2))","v":2},null,"オプションボタン状態"]
[null,null,null,null,null,null,null,null,null,{"$f":"IF(配列シート!$B$9=\"\",0,HLOOKUP(配列シート!$B$9,'2-1経営収支計画・個人'!$M$3:$Z$50,4,FALSE))","v":0},null,null,null,null,null,null,null,null,2]
[null,null,null,null,null,null,"評価による判定\n（各年の評価結果\nA～Cを記入）",{"$f":"I10-1","v":25},{"$f":"J10-1","v":26},{"$f":"H12-1","v":27}]
[]
[null,null,null,null,null,null,null,{"$f":"I12-1","v":28},{"$f":"配列シート!$E$42-1","v":29}]
[]
[null,null,null,null,"１頭当たり\n畜産部門収入",null,"参考値\n（実績値）",{"$f":"I14-1","v":25},{"$f":"J14-1","v":26},{"$f":"K14-1","v":27},{"$f":"M14-1","v":28},null,{"$f":"配列シート!$E$42-1","v":29},null,{"$f":"配列シート!$B$9","v":0}]
[null,null,null,null,null,null,null,null,null,null,null,null,null,null,{"$f":"IF(O17=0,0,J9/O17)","v":0}]
[null,null,null,null,"常時飼養頭数",null,null,{"$f":"I16-1","v":25},{"$f":"J16-1","v":26},{"$f":"K16-1","v":27},{"$f":"M16-1","v":28},null,{"$f":"配列シート!$E$42-1","v":29},null,{"$f":"配列シート!$B$9","v":0}]
[]
[null,null,null,null,"生産技術指標",null,null,{"$f":"I18-1","v":25},{"$f":"J18-1","v":26},{"$f":"K18-1","v":27},{"$f":"M18-1","v":28},null,{"$f":"配列シート!$E$42-1","v":29},null,{"$f":"配列シート!$B$9","v":0}]
[]
[null,null,null,null,"販売単価",null,null,{"$f":"I20-1","v":25},{"$f":"J20-1","v":26},{"$f":"K20-1","v":27},{"$f":"M20-1","v":28},null,{"$f":"配列シート!$E$42-1","v":29},null,{"$f":"配列シート!$B$9","v":0}]
[]
[null,null,null,null,"生産物販売量",null,null,{"$f":"I22-1","v":25},{"$f":"J22-1","v":26},{"$f":"K22-1","v":27},{"$f":"M22-1","v":28},null,{"$f":"配列シート!$E$42-1","v":29},null,{"$f":"配列シート!$B$9","v":0}]
[]
[null,null,"②","畜産部門支出",null,null,"数値による判定",{"$f":"配列シート!$E$38","v":25},{"$f":"配列シート!$E$42-1","v":29},{"$f":"配列シート!$B$9","v":0},null,{"$f":"配列シート!$AV$5","v":0},null,{"$f":"配列シート!$AV$6","v":0},null,{"$f":"配列シート!$AV$7","v":0},{"$f":"IF(S25=1,3,IF(S25=3,1,2))","v":2},null,"オプションボタン状態"]
[null,null,null,null,null,null,null,null,null,{"$f":"IF(配列シート!$B$9=\"\",0,HLOOKUP(配列シート!$B$9,'2-1経営収支計画・個人'!$M$3:$Z$50,18,FALSE))","v":0},null,null,null,null,null,null,null,null,2]
[null,null,null,null,null,null,"評価による判定\n（各年の評価結果\nA～Cを記入）",{"$f":"I26-1","v":25},{"$f":"J26-1","v":26},{"$f":"H28-1","v":27}]
[]
[null,null,null,null,null,null,null,{"$f":"I28-1","v":28},{"$f":"配列シート!$E$42-1","v":29}]
[]
[null,null,null,null,"１頭当たり\n畜産部門支出",null,"参考値\n（実績値）",{"$f":"I14-1","v":25},{"$f":"J14-1","v":26},{"$f":"K14-1","v":27},{"$f":"M30-1","v":28},null,{"$f":"配列シート!$E$42-1","v":29},null,{"$f":"配列シート!$B$9","v":0}]
[null,null,null,null,null,null,null,null,null,null,null,null,null,null,{"$f":"IF(O17=0,0,J25/O17)","v":0}]
[null,null,null,null,null,"１頭当たり\n家畜購入費",null,{"$f":"I32-1","v":25},{"$f":"J32-1","v":26},{"$f":"K32-1","v":27},{"$f":"M32-1","v":28},null,{"$f":"配列シート!$E$42-1","v":29},null,{"$f":"配列シート!$B$9","v":0}]
[null,null,null,null,null,null,null,null,null,null,null,null,null,null,{"$f":"IF(O17=0,0,HLOOKUP(配列シート!$B$9,'2-1経営収支計画・個人'!$M$3:$Z$50,11,FALSE)/O17)","v":0}]
[null,null,null,null,null,"１頭当たり\n飼料購入費",null,{"$f":"I34-1","v":25},{"$f":"J34-1","v":26},{"$f":"K34-1","v":27},{"$f":"M34-1","v":28},null,{"$f":"配列シート!$E$42-1","v":29},null,{"$f":"配列シート!$B$9","v":0}]
[null,null,null,null,null,null,null,null,null,null,null,null,null,null,{"$f":"IF(O17=0,0,HLOOKUP(配列シート!$B$9,'2-1経営収支計画・個人'!$M$3:$Z$50,16,FALSE)/O17)","v":0}]
[null,null,"③","家計費",null,null,"数値による判定",{"$f":"配列シート!$E$38","v":25},{"$f":"配列シート!$E$42-1","v":29},{"$f":"配列シート!$B$9","v":0},null,{"$f":"配列シート!$AV$8","v":0},null,{"$f":"配列シート!$AV$9","v":0},null,{"$f":"配列シート!$AV$10","v":0},{"$f":"IF(S37=1,3,IF(S37=3,1,2))","v":2},null,2]
[null,null,null,null,null,null,null,null,null,{"$f":"IF(配列シート!$B$9=\"\",0,HLOOKUP(配列シート!$B$9,'2-1経営収支計画・個人'!$M$3:$Z$50,32,FALSE))","v":0},null,null,null,null,null,null,null,null,2]
[null,null,null,null,null,null,"評価による判定\n（各年の評価結果\nA～Cを記入）",{"$f":"I38-1","v":25},{"$f":"J38-1","v":26},{"$f":"H40-1","v":27}]
[]
[null,null,null,null,null,null,null,{"$f":"I40-1","v":28},{"$f":"配列シート!$E$42-1","v":29}]
[]
[null,null,null,null,"家族１人当たり\n家計費",null,"参考値\n（実績値）",{"$f":"I42-1","v":25},{"$f":"J42-1","v":26},{"$f":"K42-1","v":27},{"$f":"M42-1","v":28},null,{"$f":"配列シート!$E$42-1","v":29},null,{"$f":"配列シート!$B$9","v":0}]
[null,null,null,null,null,null,null,null,null,null,null,null,null,null,{"$f":"IF(IF(配列シート!$B$9=\"\",0,HLOOKUP(配列シート!$B$9,'1-1経営改善の計画'!$K$3:$X$5,3,FALSE))=0,0,J37/HLOOKUP(配列シート!$B$9,'1-1経営改善の計画'!$K$3:$X$5,3,FALSE))","v":0}]
[null,null,"④","償還財源",null,null,"数値による判定",{"$f":"配列シート!$E$38","v":25},{"$f":"配列シート!$E$42-1","v":29},{"$f":"配列シート!$B$9","v":0},null,{"$f":"配列シート!$AV$11","v":0},null,{"$f":"配列シート!$AV$12","v":0},null,{"$f":"配列シート!$AV$13","v":0},{"$f":"IF(S45=1,3,IF(S45=3,1,2))","v":2},null,"オプションボタン状態"]
[null,null,null,null,null,null,null,null,null,{"$f":"IF(配列シート!$B$9=\"\",0,HLOOKUP(配列シート!$B$9,'2-1経営収支計画・個人'!$M$3:$Z$50,47,FALSE))","v":0},null,null,null,null,null,null,null,null,2]
[null,null,null,null,null,null,"評価による判定\n（各年の評価結果\nA～Cを記入）",{"$f":"I46-1","v":25},{"$f":"J46-1","v":26},{"$f":"H48-1","v":27}]
[null,null,null,null,null,null,null,null,null,null,null,null,null,null,null,null,null,null,1]
[null,null,null,null,null,null,null,{"$f":"I48-1","v":28},{"$f":"配列シート!$E$42-1","v":29}]
[]
[null,null,null,null,"１頭当たり\n償還財源",null,"参考値\n（実績値）",{"$f":"I50-1","v":25},{"$f":"J50-1","v":26},{"$f":"K50-1","v":27},{"$f":"M50-1","v":28},null,{"$f":"配列シート!$E$42-1","v":29},null,{"$f":"配列シート!$B$9","v":0}]
[null,null,null,null,null,null,null,null,null,null,null,null,null,null,{"$f":"IF(O17=0,0,J45/O17)","v":0}]
[null,null,null,null,"年間要償還額",null,null,{"$f":"I52-1","v":25},{"$f":"J52-1","v":26},{"$f":"K52-1","v":27},{"$f":"M52-1","v":28},null,{"$f":"配列シート!$E$42-1","v":29},null,{"$f":"配列シート!$B$9","v":0}]
[null,null,null,null,null,null,null,null,null,null,null,null,null,null,{"$f":"HLOOKUP(配列シート!$B$9,'3-1借換後の計画'!$N$3:$AA$42,40,FALSE)","v":0}]
[null,null,null,null,"実際の償還額",null,null,{"$f":"I54-1","v":25},{"$f":"J54-1","v":26},{"$f":"K54-1","v":27},{"$f":"M54-1","v":28},null,{"$f":"配列シート!$E$42-1","v":29},null,{"$f":"配列シート!$B$9","v":0}]
[]
[null,null,"⑤","１頭当たり\n期末借入金残高",null,null,"数値による判定",{"$f":"配列シート!$E$38","v":25},{"$f":"配列シート!$E$42-1","v":29},{"$f":"配列シート!$B$9","v":0},null,{"$f":"配列シート!$AV$14","v":0},null,{"$f":"配列シート!$AV$15","v":0},null,{"$f":"配列シート!$AV$16","v":0},{"$f":"IF(S57=1,3,IF(S57=3,1,2))","v":2},null,"オプションボタン状態"]
[null,null,null,null,null,null,null,null,null,{"$f":"IF(O17=0,0,HLOOKUP(配列シート!$B$9,'6償還表(条件緩和後)'!$AD$5:$AN$113,109,FALSE)/O17)","v":0},null,null,null,null,null,null,null,null,2]
[null,null,null,null,null,null,"評価による判定\n（各年の評価結果\nA～Cを記入）",{"$f":"I58-1","v":25},{"$f":"J58-1","v":26},{"$f":"H60-1","v":27}]
[]
[null,null,null,null,null,null,null,{"$f":"I60-1","v":28},{"$f":"配列シート!$E$42-1","v":29}]
[]
[null,"改善意欲評価","⑥","融資機関による\n借入者の評価",null,null,"評価による判定\n（各年の評価結果\nA～Cを記入）",{"$f":"I62-1","v":25},{"$f":"J62-1","v":26},{"$f":"H64-1","v":27},null,{"$f":"配列シート!$AV$17","v":0},null,{"$f":"配列シート!$AV$18","v":0},null,{"$f":"配列シート!$AV$19","v":0},{"$f":"IF(S63=1,3,IF(S63=3,1,2))","v":2},null,"オプションボタン状態"]
[null,null,null,null,null,null,null,null,null,null,null,null,null,null,null,null,null,null,2]
[null,null,null,null,null,null,null,{"$f":"I64-1","v":28},{"$f":"配列シート!$E$42-1","v":29}]
[]
[]
[null,"総合評価","⑦","見直し計画書の\n総合評価",null,null,"評価による判定\n（各年の評価結果\nA～Cを記入）",{"$f":"I67-1","v":25},{"$f":"J67-1","v":26},{"$f":"H69-1","v":27},null,{"$f":"配列シート!$AV$20","v":0},null,{"$f":"配列シート!$AV$21","v":0},null,{"$f":"配列シート!$AV$22","v":0},{"$f":"IF(S68=1,3,IF(S68=3,1,2))","v":2},null,"オプションボタン状態"]
[null,null,null,null,null,null,null,null,null,null,null,null,null,null,null,null,null,null,2]
[null,null,null,null,null,null,null,{"$f":"I69-1","v":28},{"$f":"配列シート!$E$42-1","v":29}]
[]
[null,"計",null,null,null,null,null,null,null,null,null,null,null,null,null,null,{"$f":"SUM(Q8,Q24,Q36,Q44,Q56,Q62,Q67)","v":14}]
[]
[null,"※「評価による判定」の評価データ名に付した番号は、「借換２年目以降・見直し計画用」シートの評価項目の番号である。"]
[]
[null,"【確定評価基準】"]
[null,"評点区分",null,null,null,null,null,"Ａ",null,"Ｂ",null,null,null,"Ｃ"]
[null,null,null,null,null,null,null,"良好","やや良好","普通",null,"やや不良",null,"不良","極めて不良"]
[null,"集計点数",null,null,null,null,null,"19以上","19以上","14～15",null,"12～13",null,"10～11","9以下"]
[null,"計算方法",null,null,null,null,null,"右記以外","最少得点＋最多得点×０．５以下",null,null,"最少得点＋最多得点×０．３以下",null,"最少得点＋最多得点×０．２以下",null,"最少得点＋最多得点×０．１以下"]
[]
[null,"確定\n評価","⑧","①～⑦の評価結果を元にした評価基準による確定評価\n（「確定評価基準」による）",null,null,null,null,null,{"$f":"IF(11>=Q71,\"Ｃ\",IF(16<=Q71,\"Ａ\",\"Ｂ\"))","v":"Ｂ"},null,"　Ａ：計画は妥当\n　Ｂ：計画達成には注意必要\n　Ｃ：計画達成は難しい"]
[]
[]
[null,null,null,null,null,null,null,"家計費・目標年計画"]
[null,null,null,null,null,null,null,"数値による判定"]
[null,null,null,null,null,null,null,{"$f":"IF(配列シート!$B$9=0,0,HLOOKUP(配列シート!$B$9,'2-1経営収支計画・個人'!$M$3:$Z$34,32,FALSE))","v":0}]
[]
[null,null,null,null,null,null,null,"実績値"]
[null,null,null,null,null,null,null,{"$f":"IF(IF(配列シート!$B$9=\"\",0,HLOOKUP(配列シート!$B$9,'1-1経営改善の計画'!$K$3:$X$5,3,FALSE))=0,0,J37/HLOOKUP(配列シート!$B$9,'1-1経営改善の計画'!$K$3:$X$5,3,FALSE))","v":0}]

{"sheet":"9-1借入者取組状況評価表","index":25,"n_rows":16,"n_cols":18,"rows_kept":16,"cut":false,"hidden":false,"merged":[[14,3,14,4],[14,5,14,6],[14,7,14,8],[15,3,15,4],[15,5,15,6],[15,7,15,8],[6,7,6,8],[6,9,6,10],[6,11,6,12],[7,1,11,1],[7,14,11,14],[7,15,11,15],[2,13,2,15],[4,7,4,8],[4,9,4,15],[5,1,6,2],[5,3,5,12],[5,13,6,13],[5,14,6,14],[5,15,6,15],[6,3,6,4],[6,5,6,6]]}
[]
[]
[null,"畜産特別資金　借入者取組状況評価表",null,null,null,null,null,null,null,null,null,null,null,{"$f":"配列シート!B8","v":0}]
[]
[null,null,{"$f":"\"対象者名:\" & 配列シート!J3","v":"対象者名:"},null,null,null,null,"評価者名："]
[null,"評価項目",null,"評価",null,null,null,null,null,null,null,null,null,"評価\n結果","評点\n合計","評点\n区分"]
[null,null,null,5,null,4,null,3,null,2,null,1,null,null,null,null,null,"オプションボタン状態"]
[null,"借入者の取組状況","経営内容の把握・理解",null,"良好",null,"どちらかといえば良好",null,"どちらともいえない",null,"どちらかといえば不良",null,"不良",{"$f":"IF(R8=1,5,IF(R8=2,4,IF(R8=3,3,IF(R8=4,2,1))))","v":3},{"$f":"SUM(N8:N12)","v":15},{"$f":"IF(O8>=16,\"a\",IF(O8<=7,\"c\",\"b\"))","v":"b"},null,3]
[null,null,"経営改善への意欲",null,"良好",null,"どちらかといえば良好",null,"どちらともいえない",null,"どちらかといえば不良",null,"不良",{"$f":"IF(R9=1,5,IF(R9=2,4,IF(R9=3,3,IF(R9=4,2,1))))","v":3},null,null,null,3]
[null,null,"家族の協力体勢",null,"良好",null,"どちらかといえば良好",null,"どちらともいえない",null,"どちらかといえば不良",null,"不良",{"$f":"IF(R10=1,5,IF(R10=2,4,IF(R10=3,3,IF(R10=4,2,1))))","v":3},null,null,null,3]
[null,null,"家計費の把握・低減への意欲",null,"良好",null,"どちらかといえば良好",null,"どちらともいえない",null,"どちらかといえば不良",null,"不良",{"$f":"IF(R11=1,5,IF(R11=2,4,IF(R11=3,3,IF(R11=4,2,1))))","v":3},null,null,null,3]
[null,null,"指導・支援に対する受入態度、協調姿勢",null,"良好",null,"どちらかといえば良好",null,"どちらともいえない",null,"どちらかといえば不良",null,"不良",{"$f":"IF(R12=1,5,IF(R12=2,4,IF(R12=3,3,IF(R12=4,2,1))))","v":3},null,null,null,3]
[]
[null,null,"【評点区分】"]
[null,null,null,"ａ",null,"ｂ",null,"ｃ"]
[null,null,"借入者の取組状況","１６点以上",null,"８点から１５点",null,"７点以下"]

{"sheet":"9-2融資機関評価表","index":26,"n_rows":18,"n_cols":16,"rows_kept":18,"cut":false,"hidden":false,"merged":[[16,4,16,5],[17,4,17,5],[11,1,12,2],[11,3,11,4],[11,12,12,12],[11,13,12,13],[12,3,12,4],[15,4,15,5],[6,9,6,10],[7,1,10,2],[7,3,7,4],[7,12,10,12],[7,13,10,13],[8,3,8,4],[9,3,9,4],[10,3,10,4],[2,11,2,13],[4,5,4,6],[4,7,4,13],[5,1,6,4],[5,5,5,10],[5,11,6,11],[5,12,6,12],[5,13,6,13],[6,5,6,6],[6,7,6,8]]}
[]
[]
[null,"畜産特別資金　融資機関評価表",null,null,null,null,null,null,null,null,null,{"$f":"配列シート!B8","v":0}]
[]
[null,null,{"$f":"\"対象者名:\" & 配列シート!J3","v":"対象者名:"},null,null,"評価者名："]
[null,"評価項目",null,null,null,"評価",null,null,null,null,null,"評価\n結果","評点\n合計","評点\n区分"]
[null,null,null,null,null,3,null,2,null,1,null,null,null,null,null,"オプションボタン状態"]
[null,"融資機関の経営改善への関わり",null,"生産動向の把握",null,null,"毎月",null,"年間２回以上",null,"左以外",{"$f":"IF(P8=1,3,IF(P8=2,2,1))","v":2},{"$f":"SUM(L8:L11)","v":8},{"$f":"IF(M8>=9,\"a\",IF(M8=4,\"c\",\"b\"))","v":"b"},null,2]
[null,null,null,"収支動向の把握",null,null,"毎月",null,"年間２回以上",null,"左以外",{"$f":"IF(P9=1,3,IF(P9=2,2,1))","v":2},null,null,null,2]
[null,null,null,"実績点検の実施",null,null,"四半期１回以上",null,"年間２回以上",null,"左以外",{"$f":"IF(P10=1,3,IF(P10=2,2,1))","v":2},null,null,null,2]
[null,null,null,"原因分析と指導方針の見直し",null,null,"四半期１回以上",null,"年間２回以上",null,"左以外",{"$f":"IF(P11=1,3,IF(P11=2,2,1))","v":2},null,null,null,2]
[null,"融資機関等の指導体制の整備",null,"融資機関の体制整備",null,null,"総合的対応可能な専門部署設置、理事者との役割分担が明確",null,"専門部署設置、理事者との役割分担が明確",null,"専門部署ない、理事者との役割分担不明確",{"$f":"IF(P12=1,3,IF(P12=2,2,1))","v":2},{"$f":"SUM(L12:L13)","v":4},{"$f":"IF(M12>=5,\"a\",IF(M12=2,\"c\",\"b\"))","v":"b"},null,2]
[null,null,null,"関係機関との連携体制整備",null,null,"常時連携、対策者への共通認識を共有",null,"会議等の協議のみ、対策者への共通認識なし",null,"連携していない",{"$f":"IF(P13=1,3,IF(P13=2,2,1))","v":2},null,null,null,2]
[]
[null,null,"【評点区分】"]
[null,null,null,"ａ","ｂ",null,"ｃ"]
[null,null,"融資機関の経営改善への関わり","９点以上","５点から８点",null,"４点"]
[null,null,"融資機関等の指導体制の整備","５点以上","３点から４点",null,"２点"]

{"sheet":"確定審査データシート","index":27,"n_rows":55,"n_cols":7,"rows_kept":55,"cut":false,"hidden":false,"merged":[[50,3,50,4],[51,3,51,4],[52,3,52,4],[53,3,53,4],[54,3,54,4],[44,3,44,4],[45,3,45,4],[46,3,46,4],[47,3,47,4],[48,3,48,4],[49,3,49,4],[38,3,38,4],[39,3,39,4],[40,3,40,4],[41,3,41,4],[42,3,42,4],[43,3,43,4],[5,1,6,1],[7,1,8,1],[9,1,10,1],[11,1,12,1],[32,0,32,1],[34,0,34,1]]}
["確定審査データシート",null,"検索範囲",null,null,"※表示年計画の前年実績を保持"]
["項目",null,"表示形式","保持データ",{"$f":"'3-1借換後の計画'!E13","v":25},{"$f":"E2+1","v":26}]
["①畜産部門収入",null,"文字列","評価結果"]
[null,null,"#,##0;-#,##0","実績"]
[null,"１頭当たり畜部門収入","##,##0.0","実績"]
[null,"常時飼養頭数","##,##0.0","実績"]
[null,null,null,"参照先"]
[null,"生産技術指標","##,##0.0","実績"]
[null,null,null,"参照先"]
[null,"販売単価","##,##0.0","実績"]
[null,null,null,"参照先"]
[null,"生産物販売量","##,##0.0","実績"]
[null,null,null,"参照先"]
["②畜産部門支出",null,"文字列","評価結果"]
[null,null,"#,##0;-#,##0","実績"]
[null,"１頭当たり\n畜産部門支出","##,##0.0","実績"]
[null,"１頭当たり家畜購入費","##,##0.0","実績"]
[null,"１頭当たり飼料購入費","##,##0.0","実績"]
["③家計費",null,"文字列","評価結果"]
[null,null,"#,##0;-#,##0","実績"]
[null,"家族１人当たり\n家計費","##,##0.0","実績"]
["④償還財源",null,"文字列","評価結果"]
[null,null,"#,##0;-#,##0","実績"]
[null,"１頭当たり\n償還財源","##,##0.0","実績"]
[null,"年間要償還額","#,##0;-#,##0","実績"]
[null,"実際の償還額","#,##0;-#,##0","実績"]
["⑪１頭当たり期末借入金残高",null,"文字列","評価結果"]
[null,null,"##,##0.0","実績"]
["⑫融資機関による借入者の評価",null,"文字列","評価結果"]
["⑬総合評価",null,"文字列","評価結果"]
[]
["計画審査シート（借換２年目以降用・見直し計画用）　売上高負債比率・前年計画用"]
["総合計"]
["買掛未払金"]
["総合計+買掛未払金",null,{"$f":"C33+C34","v":0}]
[]
["３年前実績計算用",null,"３年前年次",{"$f":"配列シート!B8-3","v":-3}]
[]
["項目",null,"表示形式","保持データ",null,"個人","法人"]
["①畜産部門収入",null,{"$f":"C4","v":"#,##0;-#,##0"},"個人",null,{"$f":"'2-1経営収支計画・個人'!$I$6","v":0},{"$f":"'2-1経営収支計画・法人'!$G$6","v":0}]
[null,"１頭当たり畜部門収入",{"$f":"C5","v":"##,##0.0"},"個人",null,{"$f":"IF(HLOOKUP($D$37,'8-2見直し計画確定審査用'!$H$16:$J$17,2,FALSE) = 0,0,$F$40/HLOOKUP($D$37,'8-2見直し計画確定審査用'!H$16:$J$17,2,FALSE))","v":{"$error":"#N/A"}},{"$f":"IF(HLOOKUP($D$37,'8-2見直し計画確定審査用'!$H$16:$J$17,2,FALSE) = 0,0,$G$40/HLOOKUP($D$37,'8-2見直し計画確定審査用'!H$16:$J$17,2,FALSE))","v":{"$error":"#N/A"}}]
[null,"常時飼養頭数",{"$f":"C6","v":"##,##0.0"},"経営別部",null,{"$f":"INDIRECT(配列シート!$AY$2 & \"!G\" & 配列シート!$AY$14,TRUE)","v":{"$error":"#REF!"}},{"$f":"INDIRECT(配列シート!$AY$2 & \"!G\" & 配列シート!$AY$14,TRUE)","v":{"$error":"#REF!"}}]
[null,"生産技術指標",{"$f":"C8","v":"##,##0.0"},"経営別部",null,{"$f":"INDIRECT(配列シート!$AY$2 & \"!G\" & 配列シート!$AY$15,TRUE)","v":{"$error":"#REF!"}},{"$f":"INDIRECT(配列シート!$AY$2 & \"!G\" & 配列シート!$AY$15,TRUE)","v":{"$error":"#REF!"}}]
[null,"販売単価",{"$f":"C10","v":"##,##0.0"},"経営別部",null,{"$f":"INDIRECT(配列シート!$AY$2 & \"!G\" & 配列シート!$AY$16,TRUE)","v":{"$error":"#REF!"}},{"$f":"INDIRECT(配列シート!$AY$2 & \"!G\" & 配列シート!$AY$16,TRUE)","v":{"$error":"#REF!"}}]
[null,"生産物販売量",{"$f":"C12","v":"##,##0.0"},"経営別部",null,{"$f":"INDIRECT(配列シート!$AY$2 & \"!G\" & 配列シート!$AY$17,TRUE)","v":{"$error":"#REF!"}},{"$f":"INDIRECT(配列シート!$AY$2 & \"!G\" & 配列シート!$AY$17,TRUE)","v":{"$error":"#REF!"}}]
["②畜産部門支出",null,{"$f":"C15","v":"#,##0;-#,##0"},"個人",null,{"$f":"'2-1経営収支計画・個人'!$I$20","v":0},{"$f":"'2-1経営収支計画・法人'!$G$16+'2-1経営収支計画・法人'!$G$18","v":0}]
[null,"１頭当たり\n畜産部門支出",{"$f":"C16","v":"##,##0.0"},"個人・シート内",null,{"$f":"IF(HLOOKUP($D$37,'8-2見直し計画確定審査用'!$H$16:$J$17,2,FALSE)=0,0,$F$46/HLOOKUP($D$37,'8-2見直し計画確定審査用'!$H$16:$J$17,2,FALSE))","v":{"$error":"#N/A"}},{"$f":"IF(HLOOKUP($D$37,'8-2見直し計画確定審査用'!$H$16:$J$17,2,FALSE)=0,0,$G$46/HLOOKUP($D$37,'8-2見直し計画確定審査用'!$H$16:$J$17,2,FALSE))","v":{"$error":"#N/A"}}]
[null,"１頭当たり家畜購入費",{"$f":"C17","v":"##,##0.0"},"個人・シート内",null,{"$f":"IF(HLOOKUP($D$37,'8-2見直し計画確定審査用'!$H$16:$J$17,2,FALSE)=0,0,'2-1経営収支計画・個人'!$I$13/HLOOKUP($D$37,'8-2見直し計画確定審査用'!$H$16:$J$17,2,FALSE))","v":{"$error":"#N/A"}},{"$f":"IF(HLOOKUP($D$37,'8-2見直し計画確定審査用'!$H$16:$J$17,2,FALSE)=0,0,'2-1経営収支計画・法人'!$G$11/HLOOKUP($D$37,'8-2見直し計画確定審査用'!$H$16:$J$17,2,FALSE))","v":{"$error":"#N/A"}}]
[null,"１頭当たり飼料購入費",{"$f":"C18","v":"##,##0.0"},"個人・シート内",null,{"$f":"IF(HLOOKUP($D$37,'8-2見直し計画確定審査用'!$H$16:$J$17,2,FALSE)=0,0,'2-1経営収支計画・個人'!$I$18/HLOOKUP($D$37,'8-2見直し計画確定審査用'!$H$16:$J$17,2,FALSE))","v":{"$error":"#N/A"}},{"$f":"IF(HLOOKUP($D$37,'8-2見直し計画確定審査用'!$H$16:$J$17,2,FALSE)=0,0,'2-1経営収支計画・法人'!$G$12/HLOOKUP($D$37,'8-2見直し計画確定審査用'!$H$16:$J$17,2,FALSE))","v":{"$error":"#N/A"}}]
["③家計費",null,{"$f":"C20","v":"#,##0;-#,##0"},"個人",null,{"$f":"'2-1経営収支計画・個人'!$I$34","v":0}]
[null,"家族１人当たり\n家計費",{"$f":"C21","v":"##,##0.0"},"個人・シート内",null,{"$f":"IF('1-1経営改善の計画'!$G$5=0,0,$F$50/'1-1経営改善の計画'!$G$5)","v":0}]
["④償還財源",null,{"$f":"C23","v":"#,##0;-#,##0"},"個人",null,{"$f":"'2-1経営収支計画・個人'!$I$49","v":0},{"$f":"'2-1経営収支計画・法人'!$G$37","v":0}]
[null,"１頭当たり\n償還財源",{"$f":"C24","v":"##,##0.0"},"個人・シート内",null,{"$f":"IF(HLOOKUP($D$37,'8-2見直し計画確定審査用'!$H$16:$J$17,2,FALSE)=0,0,$F$52/HLOOKUP($D$37,'8-2見直し計画確定審査用'!$H$16:$J$17,2,FALSE))","v":{"$error":"#N/A"}},{"$f":"IF(HLOOKUP($D$37,'8-2見直し計画確定審査用'!$H$16:$J$17,2,FALSE)=0,0,$G$52/HLOOKUP($D$37,'8-2見直し計画確定審査用'!$H$16:$J$17,2,FALSE))","v":{"$error":"#N/A"}}]
[null,"実際の償還額",{"$f":"C26","v":"#,##0;-#,##0"},"資金別",null,{"$f":"'3-1借換後の計画'!$J$42","v":0},{"$f":"'3-1借換後の計画'!$J$42","v":0}]
["⑪１頭当たり期末借入金残高",null,{"$f":"C28","v":"##,##0.0"},"シート内参照",null,{"$f":"IF(HLOOKUP($D$37,'8-2見直し計画確定審査用'!$H$16:$J$17,2,FALSE)=0,0,'6償還表(条件緩和後)'!$AA$113/HLOOKUP($D$37,'8-2見直し計画確定審査用'!$H$16:$J$17,2,FALSE))","v":{"$error":"#N/A"}},{"$f":"IF(HLOOKUP($D$37,'8-2見直し計画確定審査用'!$H$16:$J$17,2,FALSE)=0,0,'6償還表(条件緩和後)'!$AA$113/HLOOKUP($D$37,'8-2見直し計画確定審査用'!$H$16:$J$17,2,FALSE))","v":{"$error":"#N/A"}}]

{"sheet":"ヒアリングシート","index":28,"n_rows":50,"n_cols":16,"rows_kept":50,"cut":false,"hidden":false,"merged":[[18,3,21,7],[24,3,27,7],[37,3,40,7],[46,3,46,4],[46,6,46,7],[2,1,2,8],[3,2,3,3],[4,2,4,3],[4,4,4,5],[4,6,4,7],[16,3,16,7]]}
[]
[]
[null,"ヒアリング及び審査会資料"]
[null,null,"対象者名：",null,"市町村：",null,"経営形態："]
[null,null,{"$f":"IF(配列シート!J3=\"\",\"\",配列シート!J3)","v":""},null,{"$f":"IF(配列シート!P3=\"\",\"\",配列シート!P3)","v":""},null,{"$f":"IF(配列シート!H5=\"\",\"\",配列シート!H5)","v":""}]
[null,null,null,{"$f":"配列シート!B8","v":0},{"$f":"IF(配列シート!B6=\"\",\"\",配列シート!B6)","v":"養豚特別支援(新)資金"}]
[null,null,null,null,null,null,"貸付区分【","　　","】"]
[null,null,null,{"$f":"配列シート!E38","v":25},{"$f":"配列シート!E45","v":0},"千円",{"$f":"配列シート!E43","v":0},{"$f":"配列シート!E44","v":0}]
[null,null,null,"(最終借換年）",null,null,"（残高一括借換","有",")"]
[]
[null,null,"１","過去３年間の実績と計画",null,null,null,"（単位：千円）",null,null,null,null,"個人"]
[null,null,null,"年度",{"$f":"F12-1","v":-3},{"$f":"G12-1","v":-2},{"$f":"H12-1","v":-1},{"$f":"配列シート!B8","v":0},null,null,null,null,"前々々年実績","前々年実績","前年実績","当年計画"]
[null,null,null,"全収入",{"$f":"'2-1経営収支計画・個人'!I8+'2-1経営収支計画・個人'!I26+'2-1経営収支計画・個人'!I31+'2-1経営収支計画・個人'!I36+'2-1経営収支計画・個人'!I37","v":0},{"$f":"'2-1経営収支計画・個人'!J8+'2-1経営収支計画・個人'!J26+'2-1経営収支計画・個人'!J31+'2-1経営収支計画・個人'!J36+'2-1経営収支計画・個人'!J37","v":0},{"$f":"'2-1経営収支計画・個人'!L8+'2-1経営収支計画・個人'!L26+'2-1経営収支計画・個人'!L31+'2-1経営収支計画・個人'!L36+'2-1経営収支計画・個人'!L37","v":0},{"$f":"'2-1経営収支計画・個人'!M8+'2-1経営収支計画・個人'!M26+'2-1経営収支計画・個人'!M31+'2-1経営収支計画・個人'!M36+'2-1経営収支計画・個人'!M37","v":0},null,null,null,null,{"$f":"'2-1経営収支計画・個人'!I8+'2-1経営収支計画・個人'!I26+'2-1経営収支計画・個人'!I31+'2-1経営収支計画・個人'!I36+'2-1経営収支計画・個人'!I37","v":0},{"$f":"'2-1経営収支計画・個人'!J8+'2-1経営収支計画・個人'!J26+'2-1経営収支計画・個人'!J31+'2-1経営収支計画・個人'!J36+'2-1経営収支計画・個人'!J37","v":0},{"$f":"'2-1経営収支計画・個人'!L8+'2-1経営収支計画・個人'!L26+'2-1経営収支計画・個人'!L31+'2-1経営収支計画・個人'!L36+'2-1経営収支計画・個人'!L37","v":0},{"$f":"'2-1経営収支計画・個人'!M8+'2-1経営収支計画・個人'!M26+'2-1経営収支計画・個人'!M31+'2-1経営収支計画・個人'!M36+'2-1経営収支計画・個人'!M37","v":0}]
[null,null,null,"全支出",{"$f":"'2-1経営収支計画・個人'!I22+'2-1経営収支計画・個人'!I27+'2-1経営収支計画・個人'!I30+'2-1経営収支計画・個人'!I34","v":0},{"$f":"'2-1経営収支計画・個人'!J22+'2-1経営収支計画・個人'!J27+'2-1経営収支計画・個人'!J30+'2-1経営収支計画・個人'!J34","v":0},{"$f":"'2-1経営収支計画・個人'!L22+'2-1経営収支計画・個人'!L27+'2-1経営収支計画・個人'!L30+'2-1経営収支計画・個人'!L34","v":0},{"$f":"'2-1経営収支計画・個人'!M22+'2-1経営収支計画・個人'!M27+'2-1経営収支計画・個人'!M30+'2-1経営収支計画・個人'!M34","v":0},null,null,null,null,{"$f":"'2-1経営収支計画・個人'!I22+'2-1経営収支計画・個人'!I27+'2-1経営収支計画・個人'!I30+'2-1経営収支計画・個人'!I34","v":0},{"$f":"'2-1経営収支計画・個人'!J22+'2-1経営収支計画・個人'!J27+'2-1経営収支計画・個人'!J30+'2-1経営収支計画・個人'!J34","v":0},{"$f":"'2-1経営収支計画・個人'!L22+'2-1経営収支計画・個人'!L27+'2-1経営収支計画・個人'!L30+'2-1経営収支計画・個人'!L34","v":0},{"$f":"'2-1経営収支計画・個人'!M22+'2-1経営収支計画・個人'!M27+'2-1経営収支計画・個人'!M30+'2-1経営収支計画・個人'!M34","v":0}]
[null,null,null,"差引収支",{"$f":"E13-E14","v":0},{"$f":"F13-F14","v":0},{"$f":"G13-G14","v":0},{"$f":"H13-H14","v":0}]
[null,null,null,"借入金残高",{"$f":"'6償還表(条件緩和後)'!AA113+'6償還表(条件緩和後)'!AA114","v":0},{"$f":"'6償還表(条件緩和後)'!AB113+'6償還表(条件緩和後)'!AB114","v":0},{"$f":"'6償還表(条件緩和後)'!AC113+'6償還表(条件緩和後)'!AC114","v":0},{"$f":"'6償還表(条件緩和後)'!AD113+'6償還表(条件緩和後)'!AD114","v":0},null,null,null,null,"法人"]
[null,null,null,"（　※借入金残高には買掛未払金等を含む　）",null,null,null,null,null,null,null,null,"前々々年実績","前々年実績","前年実績","当年計画"]
[null,null,"２","本年度借換の場合、その理由",null,null,null,null,null,null,null,null,{"$f":"'2-1経営収支計画・法人'!G8+'2-1経営収支計画・法人'!G21+'2-1経営収支計画・法人'!G26","v":0},{"$f":"'2-1経営収支計画・法人'!H8+'2-1経営収支計画・法人'!H21+'2-1経営収支計画・法人'!H26","v":0},{"$f":"'2-1経営収支計画・法人'!J8+'2-1経営収支計画・法人'!J21+'2-1経営収支計画・法人'!J26","v":0},{"$f":"'2-1経営収支計画・法人'!K8+'2-1経営収支計画・法人'!K21+'2-1経営収支計画・法人'!K26","v":0}]
[null,null,null,null,null,null,null,null,null,null,null,null,{"$f":"'2-1経営収支計画・法人'!G16+'2-1経営収支計画・法人'!G18+'2-1経営収支計画・法人'!G23","v":0},{"$f":"'2-1経営収支計画・法人'!H16+'2-1経営収支計画・法人'!H18+'2-1経営収支計画・法人'!H23","v":0},{"$f":"'2-1経営収支計画・法人'!J16+'2-1経営収支計画・法人'!J18+'2-1経営収支計画・法人'!J23","v":0},{"$f":"'2-1経営収支計画・法人'!K16+'2-1経営収支計画・法人'!K18+'2-1経営収支計画・法人'!K23","v":0}]
[]
[]
[]
[]
[null,null,"３","経営改善の要指導事項"]
[]
[]
[]
[]
[]
[null,null,"４","経営評価区分　 【",null,"】"]
[null,null,null,null,null,"　Ａ：現状で改善している"]
[null,null,null,null,null,"　Ｂ：現状の指導で改善可能"]
[null,null,null,null,null,"　Ｃ：重点指導を行うことで改善可能"]
[null,null,null,"改善の動き　　 【",null,"】Ｄ：重点指導を必要とするが、条件が整わない場合"]
[null,null,null,null,null,"　　　は経営継続は厳しい。",null,null,null,null,null,"前年度経営評価区分"]
[null,null,null,null,null,null,"（前年度経営評価区分：",null,")"]
[null,null,"５","特記事項"]
[]
[]
[]
[]
[]
[null,null,null,"　経営状況については、上記のとおりです。"]
[null,null,null,"　なお、鹿児島県農業信用基金協会の債務保証に制限等があった場合、当方で責任を"]
[null,null,null,"持って本計画を推進いたします。"]
[]
[null,null,null,"　平成　　年　　月　　日",null,"金融機関名　",{"$f":"IF(配列シート!Q3=\"\",\"\",配列シート!Q3)","v":""}]
[null,null,null,null,null,"代表者名　",null,"　　　　印"]
[]
[null,null,null,null,null,"借換者名　",null,"　　　　印"]

{"sheet":"検算シート","index":29,"n_rows":0,"n_cols":0,"rows_kept":0,"cut":false,"hidden":false,"merged":[]}

{"sheet":"グラフ用テンポラリ","index":30,"n_rows":0,"n_cols":0,"rows_kept":0,"cut":false,"hidden":true,"merged":[]}

{"sheet":"モニタ1技術(1)子取り用めす豚","index":31,"n_rows":44,"n_cols":25,"rows_kept":44,"cut":false,"hidden":false,"merged":[[36,3,39,6],[36,7,39,7],[40,3,43,6],[40,7,43,7],[20,7,23,7],[24,3,27,6],[24,7,27,7],[28,3,31,6],[28,7,31,7],[32,3,35,6],[32,7,35,7],[10,1,11,7],[10,8,10,10],[10,11,10,24],[12,1,43,1],[12,2,43,2],[12,3,15,6],[12,7,15,7],[16,3,19,6],[16,7,19,7],[20,3,23,6],[3,1,4,7],[3,8,3,10],[3,11,3,24],[5,1,8,1],[5,2,8,6],[5,7,8,7]]}
[]
[null,"１　飼養管理と生産技術（飼養頭数、生産状況と生産技術の動きを月次に把握する。）"]
[null,"（１）子取り用めす豚"]
[null,"項目",null,null,null,null,null,null,"経営改善計画",null,null,"月次モニタリング（兼　入力野帳）"]
[null,null,null,null,null,null,null,null,"年次","年次値","月次値","年次","計・平均",{"$f":"IF(配列シート!$W$3<>\"\",配列シート!$W$3,\"\")","v":""},{"$f":"IF(N$5<>\"\",IF(N$5+1<=12,N$5+1,1),\"\")","v":""},{"$f":"IF(O$5<>\"\",IF(O$5+1<=12,O$5+1,1),\"\")","v":""},{"$f":"IF(P$5<>\"\",IF(P$5+1<=12,P$5+1,1),\"\")","v":""},{"$f":"IF(Q$5<>\"\",IF(Q$5+1<=12,Q$5+1,1),\"\")","v":""},{"$f":"IF(R$5<>\"\",IF(R$5+1<=12,R$5+1,1),\"\")","v":""},{"$f":"IF(S$5<>\"\",IF(S$5+1<=12,S$5+1,1),\"\")","v":""},{"$f":"IF(T$5<>\"\",IF(T$5+1<=12,T$5+1,1),\"\")","v":""},{"$f":"IF(U$5<>\"\",IF(U$5+1<=12,U$5+1,1),\"\")","v":""},{"$f":"IF(V$5<>\"\",IF(V$5+1<=12,V$5+1,1),\"\")","v":""},{"$f":"IF(W$5<>\"\",IF(W$5+1<=12,W$5+1,1),\"\")","v":""},{"$f":"IF(X$5<>\"\",IF(X$5+1<=12,X$5+1,1),\"\")","v":""}]
[null,"飼養頭数","子取り用めす豚",null,null,null,null,"頭",{"$f":"$I7-1","v":-2},{"$f":"'1-1経営改善の計画'!$H$16","v":0},{"$f":"$J6","v":0},{"$f":"$I6","v":-2},{"$f":"IF(COUNTA($N6:$Y6)=0,0,SUM($N6:$Y6)/COUNTA($N6:$Y6))","v":0}]
[null,null,null,null,null,null,null,null,{"$f":"$I8-1","v":-1},{"$f":"'1-1経営改善の計画'!$J$16","v":0},{"$f":"$J7","v":0},{"$f":"$I7","v":-1},{"$f":"IF(COUNTA($N7:$Y7)=0,0,SUM($N7:$Y7)/COUNTA($N7:$Y7))","v":0}]
[null,null,null,null,null,null,null,null,{"$f":"配列シート!$B$8","v":0},{"$f":"'1-1経営改善の計画'!$K$16","v":0},{"$f":"$J8","v":0},{"$f":"$I8","v":0},{"$f":"IF(COUNTA($N8:$Y8)=0,0,SUM($N8:$Y8)/COUNTA($N8:$Y8))","v":0}]
[null,null,null,null,null,null,null,null,"達成率（計画対比）",{"$f":"IF($J8=0,0,$M8/$J8*100)","v":0},"％",{"$f":"$I8","v":0},{"$f":"$M8-$J8","v":0},{"$f":"N$8-$K$8","v":0},{"$f":"O$8-$K$8","v":0},{"$f":"P$8-$K$8","v":0},{"$f":"Q$8-$K$8","v":0},{"$f":"R$8-$K$8","v":0},{"$f":"S$8-$K$8","v":0},{"$f":"T$8-$K$8","v":0},{"$f":"U$8-$K$8","v":0},{"$f":"V$8-$K$8","v":0},{"$f":"W$8-$K$8","v":0},{"$f":"X$8-$K$8","v":0},{"$f":"Y$8-$K$8","v":0}]
[]
[null,"項目",null,null,null,null,null,null,"経営改善計画",null,null,"月次モニタリング（兼　入力野帳）"]
[null,null,null,null,null,null,null,null,"年次","年次値","月次値","年次","計・平均",{"$f":"N$5","v":""},{"$f":"O$5","v":""},{"$f":"P$5","v":""},{"$f":"Q$5","v":""},{"$f":"R$5","v":""},{"$f":"S$5","v":""},{"$f":"T$5","v":""},{"$f":"U$5","v":""},{"$f":"V$5","v":""},{"$f":"W$5","v":""},{"$f":"X$5","v":""},{"$f":"Y$5","v":""}]
[null,"生産状況と生産技術","子取り用めす豚","分娩腹数",null,null,null,"頭",{"$f":"$I14-1","v":-2},null,{"$f":"$J13/12","v":0},{"$f":"$I13","v":-2},{"$f":"SUM($N13:$Y13)","v":0}]
[null,null,null,null,null,null,null,null,{"$f":"$I15-1","v":-1},null,{"$f":"$J14/12","v":0},{"$f":"$I14","v":-1},{"$f":"SUM($N14:$Y14)","v":0}]
[null,null,null,null,null,null,null,null,{"$f":"配列シート!$B$8","v":0},null,{"$f":"$J15/12","v":0},{"$f":"$I15","v":0},{"$f":"SUM($N15:$Y15)","v":0}]
[null,null,null,null,null,null,null,null,"達成率（計画対比）",{"$f":"IF($J15=0,0,$M15/$J15*100)","v":0},"％",{"$f":"$I15","v":0},{"$f":"$M15-$J15","v":0},{"$f":"N$15-$K$15","v":0},{"$f":"O$15-$K$15","v":0},{"$f":"P$15-$K$15","v":0},{"$f":"Q$15-$K$15","v":0},{"$f":"R$15-$K$15","v":0},{"$f":"S$15-$K$15","v":0},{"$f":"T$15-$K$15","v":0},{"$f":"U$15-$K$15","v":0},{"$f":"V$15-$K$15","v":0},{"$f":"W$15-$K$15","v":0},{"$f":"X$15-$K$15","v":0},{"$f":"Y$15-$K$15","v":0}]
[null,null,null,"正常子豚生産頭数",null,null,null,"頭",{"$f":"$I18-1","v":-2},null,{"$f":"$J17/12","v":0},{"$f":"$I17","v":-2},{"$f":"SUM($N17:$Y17)","v":0}]
[null,null,null,null,null,null,null,null,{"$f":"$I19-1","v":-1},null,{"$f":"$J18/12","v":0},{"$f":"$I18","v":-1},{"$f":"SUM($N18:$Y18)","v":0}]
[null,null,null,null,null,null,null,null,{"$f":"配列シート!$B$8","v":0},null,{"$f":"$J19/12","v":0},{"$f":"$I19","v":0},{"$f":"SUM($N19:$Y19)","v":0}]
[null,null,null,null,null,null,null,null,"達成率（計画対比）",{"$f":"IF($J19=0,0,$M19/$J19*100)","v":0},"％",{"$f":"$I19","v":0},{"$f":"$M19-$J19","v":0},{"$f":"N$19-$K$19","v":0},{"$f":"O$19-$K$19","v":0},{"$f":"P$19-$K$19","v":0},{"$f":"Q$19-$K$19","v":0},{"$f":"R$19-$K$19","v":0},{"$f":"S$19-$K$19","v":0},{"$f":"T$19-$K$19","v":0},{"$f":"U$19-$K$19","v":0},{"$f":"V$19-$K$19","v":0},{"$f":"W$19-$K$19","v":0},{"$f":"X$19-$K$19","v":0},{"$f":"Y$19-$K$19","v":0}]
[null,null,null,"離乳腹数",null,null,null,"頭",{"$f":"$I22-1","v":-2},null,{"$f":"$J21/12","v":0},{"$f":"$I21","v":-2},{"$f":"SUM($N21:$Y21)","v":0}]
[null,null,null,null,null,null,null,null,{"$f":"$I23-1","v":-1},null,{"$f":"$J22/12","v":0},{"$f":"$I22","v":-1},{"$f":"SUM($N22:$Y22)","v":0}]
[null,null,null,null,null,null,null,null,{"$f":"配列シート!$B$8","v":0},null,{"$f":"$J23/12","v":0},{"$f":"$I23","v":0},{"$f":"SUM($N23:$Y23)","v":0}]
[null,null,null,null,null,null,null,null,"達成率（計画対比）",{"$f":"IF($J23=0,0,$M23/$J23*100)","v":0},"％",{"$f":"$I23","v":0},{"$f":"$M23-$J23","v":0},{"$f":"N$23-$K$23","v":0},{"$f":"O$23-$K$23","v":0},{"$f":"P$23-$K$23","v":0},{"$f":"Q$23-$K$23","v":0},{"$f":"R$23-$K$23","v":0},{"$f":"S$23-$K$23","v":0},{"$f":"T$23-$K$23","v":0},{"$f":"U$23-$K$23","v":0},{"$f":"V$23-$K$23","v":0},{"$f":"W$23-$K$23","v":0},{"$f":"X$23-$K$23","v":0},{"$f":"Y$23-$K$23","v":0}]
[null,null,null,"離乳子豚頭数",null,null,null,"頭",{"$f":"$I26-1","v":-2},null,{"$f":"$J25/12","v":0},{"$f":"$I25","v":-2},{"$f":"SUM($N25:$Y25)","v":0}]
[null,null,null,null,null,null,null,null,{"$f":"$I27-1","v":-1},null,{"$f":"$J26/12","v":0},{"$f":"$I26","v":-1},{"$f":"SUM($N26:$Y26)","v":0}]
[null,null,null,null,null,null,null,null,{"$f":"配列シート!$B$8","v":0},null,{"$f":"$J27/12","v":0},{"$f":"$I27","v":0},{"$f":"SUM($N27:$Y27)","v":0}]
[null,null,null,null,null,null,null,null,"達成率（計画対比）",{"$f":"IF($J27=0,0,$M27/$J27*100)","v":0},"％",{"$f":"$I27","v":0},{"$f":"$M27-$J27","v":0},{"$f":"N$27-$K$27","v":0},{"$f":"O$27-$K$27","v":0},{"$f":"P$27-$K$27","v":0},{"$f":"Q$27-$K$27","v":0},{"$f":"R$27-$K$27","v":0},{"$f":"S$27-$K$27","v":0},{"$f":"T$27-$K$27","v":0},{"$f":"U$27-$K$27","v":0},{"$f":"V$27-$K$27","v":0},{"$f":"W$27-$K$27","v":0},{"$f":"X$27-$K$27","v":0},{"$f":"Y$27-$K$27","v":0}]
[null,null,null,"子豚\n出荷頭数",null,null,null,"頭",{"$f":"$I30-1","v":-2},{"$f":"'1-1経営改善の計画'!$H$23","v":0},{"$f":"$J29/12","v":0},{"$f":"$I29","v":-2},{"$f":"SUM($N29:$Y29)","v":0}]
[null,null,null,null,null,null,null,null,{"$f":"$I31-1","v":-1},{"$f":"'1-1経営改善の計画'!$J$23","v":0},{"$f":"$J30/12","v":0},{"$f":"$I30","v":-1},{"$f":"SUM($N30:$Y30)","v":0}]
[null,null,null,null,null,null,null,null,{"$f":"配列シート!$B$8","v":0},{"$f":"'1-1経営改善の計画'!$K$23","v":0},{"$f":"$J31/12","v":0},{"$f":"$I31","v":0},{"$f":"SUM($N31:$Y31)","v":0}]
[null,null,null,null,null,null,null,null,"達成率（計画対比）",{"$f":"IF($J31=0,0,$M31/$J31*100)","v":0},"％",{"$f":"$I31","v":0},{"$f":"$M31-$J31","v":0},{"$f":"N$31-$K$31","v":0},{"$f":"O$31-$K$31","v":0},{"$f":"P$31-$K$31","v":0},{"$f":"Q$31-$K$31","v":0},{"$f":"R$31-$K$31","v":0},{"$f":"S$31-$K$31","v":0},{"$f":"T$31-$K$31","v":0},{"$f":"U$31-$K$31","v":0},{"$f":"V$31-$K$31","v":0},{"$f":"W$31-$K$31","v":0},{"$f":"X$31-$K$31","v":0},{"$f":"Y$31-$K$31","v":0}]
[null,null,null,"子豚出荷日齢（平均）",null,null,null,"日",{"$f":"$I34-1","v":-2},{"$f":"'1-1経営改善の計画'!$H$24","v":0},{"$f":"$J33","v":0},{"$f":"$I33","v":-2},{"$f":"IF(COUNTA($N33:$Y33)=0,0,SUM($N33:$Y33)/COUNTA($N33:$Y33))","v":0}]
[null,null,null,null,null,null,null,null,{"$f":"$I35-1","v":-1},{"$f":"'1-1経営改善の計画'!$J$24","v":0},{"$f":"$J34","v":0},{"$f":"$I34","v":-1},{"$f":"IF(COUNTA($N34:$Y34)=0,0,SUM($N34:$Y34)/COUNTA($N34:$Y34))","v":0}]
[null,null,null,null,null,null,null,null,{"$f":"配列シート!$B$8","v":0},{"$f":"'1-1経営改善の計画'!$K$24","v":0},{"$f":"$J35","v":0},{"$f":"$I35","v":0},{"$f":"IF(COUNTA($N35:$Y35)=0,0,SUM($N35:$Y35)/COUNTA($N35:$Y35))","v":0}]
[null,null,null,null,null,null,null,null,"達成率（計画対比）",{"$f":"IF($J35=0,0,$M35/$J35*100)","v":0},"％",{"$f":"$I35","v":0},{"$f":"$M35-$J35","v":0},{"$f":"N$35-$K$35","v":0},{"$f":"O$35-$K$35","v":0},{"$f":"P$35-$K$35","v":0},{"$f":"Q$35-$K$35","v":0},{"$f":"R$35-$K$35","v":0},{"$f":"S$35-$K$35","v":0},{"$f":"T$35-$K$35","v":0},{"$f":"U$35-$K$35","v":0},{"$f":"V$35-$K$35","v":0},{"$f":"W$35-$K$35","v":0},{"$f":"X$35-$K$35","v":0},{"$f":"Y$35-$K$35","v":0}]
[null,null,null,"子豚出荷体重（平均）",null,null,null,"㎏/頭",{"$f":"$I38-1","v":-2},{"$f":"'1-1経営改善の計画'!$H$25","v":0},{"$f":"$J37","v":0},{"$f":"$I37","v":-2},{"$f":"IF(COUNTA($N37:$Y37)=0,0,SUM($N37:$Y37)/COUNTA($N37:$Y37))","v":0}]
[null,null,null,null,null,null,null,null,{"$f":"$I39-1","v":-1},{"$f":"'1-1経営改善の計画'!$J$25","v":0},{"$f":"$J38","v":0},{"$f":"$I38","v":-1},{"$f":"IF(COUNTA($N38:$Y38)=0,0,SUM($N38:$Y38)/COUNTA($N38:$Y38))","v":0}]
[null,null,null,null,null,null,null,null,{"$f":"配列シート!$B$8","v":0},{"$f":"'1-1経営改善の計画'!$K$25","v":0},{"$f":"$J39","v":0},{"$f":"$I39","v":0},{"$f":"IF(COUNTA($N39:$Y39)=0,0,SUM($N39:$Y39)/COUNTA($N39:$Y39))","v":0}]
[null,null,null,null,null,null,null,null,"達成率（計画対比）",{"$f":"IF($J39=0,0,$M39/$J39*100)","v":0},"％",{"$f":"$I39","v":0},{"$f":"$M39-$J39","v":0},{"$f":"N$39-$K$39","v":0},{"$f":"O$39-$K$39","v":0},{"$f":"P$39-$K$39","v":0},{"$f":"Q$39-$K$39","v":0},{"$f":"R$39-$K$39","v":0},{"$f":"S$39-$K$39","v":0},{"$f":"T$39-$K$39","v":0},{"$f":"U$39-$K$39","v":0},{"$f":"V$39-$K$39","v":0},{"$f":"W$39-$K$39","v":0},{"$f":"X$39-$K$39","v":0},{"$f":"Y$39-$K$39","v":0}]
[null,null,null,"子豚出荷価格（平均）",null,null,null,"千円",{"$f":"$I42-1","v":-2},{"$f":"'1-1経営改善の計画'!$H$26","v":0},{"$f":"$J41","v":0},{"$f":"$I41","v":-2},{"$f":"IF(COUNTA($N41:$Y41)=0,0,SUM($N41:$Y41)/COUNTA($N41:$Y41))","v":0}]
[null,null,null,null,null,null,null,null,{"$f":"$I43-1","v":-1},{"$f":"'1-1経営改善の計画'!$J$26","v":0},{"$f":"$J42","v":0},{"$f":"$I42","v":-1},{"$f":"IF(COUNTA($N42:$Y42)=0,0,SUM($N42:$Y42)/COUNTA($N42:$Y42))","v":0}]
[null,null,null,null,null,null,null,null,{"$f":"配列シート!$B$8","v":0},{"$f":"'1-1経営改善の計画'!$K$26","v":0},{"$f":"$J43","v":0},{"$f":"$I43","v":0},{"$f":"IF(COUNTA($N43:$Y43)=0,0,SUM($N43:$Y43)/COUNTA($N43:$Y43))","v":0}]
[null,null,null,null,null,null,null,null,"達成率（計画対比）",{"$f":"IF($J43=0,0,$M43/$J43*100)","v":0},"％",{"$f":"$I43","v":0},{"$f":"$M43-$J43","v":0},{"$f":"N$43-$K$43","v":0},{"$f":"O$43-$K$43","v":0},{"$f":"P$43-$K$43","v":0},{"$f":"Q$43-$K$43","v":0},{"$f":"R$43-$K$43","v":0},{"$f":"S$43-$K$43","v":0},{"$f":"T$43-$K$43","v":0},{"$f":"U$43-$K$43","v":0},{"$f":"V$43-$K$43","v":0},{"$f":"W$43-$K$43","v":0},{"$f":"X$43-$K$43","v":0},{"$f":"Y$43-$K$43","v":0}]

{"sheet":"モニタ1技術(2)肥育豚","index":32,"n_rows":52,"n_cols":25,"rows_kept":52,"cut":false,"hidden":false,"merged":[[48,3,51,6],[48,7,51,7],[36,3,39,6],[36,7,39,7],[40,3,43,6],[40,7,43,7],[44,3,47,6],[44,7,47,7],[20,7,23,7],[24,3,27,6],[24,7,27,7],[28,3,31,6],[28,7,31,7],[32,3,35,6],[32,7,35,7],[10,1,11,7],[10,8,10,10],[10,11,10,24],[12,1,51,1],[12,2,51,2],[12,3,15,6],[12,7,15,7],[16,3,19,6],[16,7,19,7],[20,3,23,6],[3,1,4,7],[3,8,3,10],[3,11,3,24],[5,1,8,1],[5,2,8,6],[5,7,8,7]]}
[]
[null,"１　飼養管理と生産技術（飼養頭数、生産状況と生産技術の動きを月次に把握する。）"]
[null,"（２）肥育豚"]
[null,"項目",null,null,null,null,null,null,"経営改善計画",null,null,"月次モニタリング（兼　入力野帳）"]
[null,null,null,null,null,null,null,null,"年次","年次値","月次値","年次","計・平均",{"$f":"IF(配列シート!$W$3<>\"\",配列シート!$W$3,\"\")","v":""},{"$f":"IF(N$5<>\"\",IF(N$5+1<=12,N$5+1,1),\"\")","v":""},{"$f":"IF(O$5<>\"\",IF(O$5+1<=12,O$5+1,1),\"\")","v":""},{"$f":"IF(P$5<>\"\",IF(P$5+1<=12,P$5+1,1),\"\")","v":""},{"$f":"IF(Q$5<>\"\",IF(Q$5+1<=12,Q$5+1,1),\"\")","v":""},{"$f":"IF(R$5<>\"\",IF(R$5+1<=12,R$5+1,1),\"\")","v":""},{"$f":"IF(S$5<>\"\",IF(S$5+1<=12,S$5+1,1),\"\")","v":""},{"$f":"IF(T$5<>\"\",IF(T$5+1<=12,T$5+1,1),\"\")","v":""},{"$f":"IF(U$5<>\"\",IF(U$5+1<=12,U$5+1,1),\"\")","v":""},{"$f":"IF(V$5<>\"\",IF(V$5+1<=12,V$5+1,1),\"\")","v":""},{"$f":"IF(W$5<>\"\",IF(W$5+1<=12,W$5+1,1),\"\")","v":""},{"$f":"IF(X$5<>\"\",IF(X$5+1<=12,X$5+1,1),\"\")","v":""}]
[null,"飼養頭数","肥育豚",null,null,null,null,"頭",{"$f":"$I7-1","v":-2},{"$f":"'1-1経営改善の計画'!$H$17","v":0},{"$f":"$J6","v":0},{"$f":"$I6","v":-2},{"$f":"IF(COUNTA($N6:$Y6)=0,0,SUM($N6:$Y6)/COUNTA($N6:$Y6))","v":0}]
[null,null,null,null,null,null,null,null,{"$f":"$I8-1","v":-1},{"$f":"'1-1経営改善の計画'!$J$17","v":0},{"$f":"$J7","v":0},{"$f":"$I7","v":-1},{"$f":"IF(COUNTA($N7:$Y7)=0,0,SUM($N7:$Y7)/COUNTA($N7:$Y7))","v":0}]
[null,null,null,null,null,null,null,null,{"$f":"配列シート!$B$8","v":0},{"$f":"'1-1経営改善の計画'!$K$17","v":0},{"$f":"$J8","v":0},{"$f":"$I8","v":0},{"$f":"IF(COUNTA($N8:$Y8)=0,0,SUM($N8:$Y8)/COUNTA($N8:$Y8))","v":0}]
[null,null,null,null,null,null,null,null,"達成率（計画対比）",{"$f":"IF($J8=0,0,$M8/$J8*100)","v":0},"％",{"$f":"$I8","v":0},{"$f":"$M8-$J8","v":0},{"$f":"N$8-$K$8","v":0},{"$f":"O$8-$K$8","v":0},{"$f":"P$8-$K$8","v":0},{"$f":"Q$8-$K$8","v":0},{"$f":"R$8-$K$8","v":0},{"$f":"S$8-$K$8","v":0},{"$f":"T$8-$K$8","v":0},{"$f":"U$8-$K$8","v":0},{"$f":"V$8-$K$8","v":0},{"$f":"W$8-$K$8","v":0},{"$f":"X$8-$K$8","v":0},{"$f":"Y$8-$K$8","v":0}]
[]
[null,"項目",null,null,null,null,null,null,"経営改善計画",null,null,"月次モニタリング（兼　入力野帳）"]
[null,null,null,null,null,null,null,null,"年次","年次値","月次値","年次","計・平均",{"$f":"N$5","v":""},{"$f":"O$5","v":""},{"$f":"P$5","v":""},{"$f":"Q$5","v":""},{"$f":"R$5","v":""},{"$f":"S$5","v":""},{"$f":"T$5","v":""},{"$f":"U$5","v":""},{"$f":"V$5","v":""},{"$f":"W$5","v":""},{"$f":"X$5","v":""},{"$f":"Y$5","v":""}]
[null,"生産状況と生産技術","肥育豚","子豚\n導入頭数",null,null,null,"頭",{"$f":"$I14-1","v":-2},{"$f":"'1-1経営改善の計画'!$H$27","v":0},{"$f":"$J13/12","v":0},{"$f":"$I13","v":-2},{"$f":"SUM($N13:$Y13)","v":0}]
[null,null,null,null,null,null,null,null,{"$f":"$I15-1","v":-1},{"$f":"'1-1経営改善の計画'!$J$27","v":0},{"$f":"$J14/12","v":0},{"$f":"$I14","v":-1},{"$f":"SUM($N14:$Y14)","v":0}]
[null,null,null,null,null,null,null,null,{"$f":"配列シート!$B$8","v":0},{"$f":"'1-1経営改善の計画'!$K$27","v":0},{"$f":"$J15/12","v":0},{"$f":"$I15","v":0},{"$f":"SUM($N15:$Y15)","v":0}]
[null,null,null,null,null,null,null,null,"達成率（計画対比）",{"$f":"IF($J15=0,0,$M15/$J15*100)","v":0},"％",{"$f":"$I15","v":0},{"$f":"$M15-$J15","v":0},{"$f":"N$15-$K$15","v":0},{"$f":"O$15-$K$15","v":0},{"$f":"P$15-$K$15","v":0},{"$f":"Q$15-$K$15","v":0},{"$f":"R$15-$K$15","v":0},{"$f":"S$15-$K$15","v":0},{"$f":"T$15-$K$15","v":0},{"$f":"U$15-$K$15","v":0},{"$f":"V$15-$K$15","v":0},{"$f":"W$15-$K$15","v":0},{"$f":"X$15-$K$15","v":0},{"$f":"Y$15-$K$15","v":0}]
[null,null,null,"子豚\n導入日齢\n（平均）",null,null,null,"日",{"$f":"$I18-1","v":-2},{"$f":"'1-1経営改善の計画'!$H$28","v":0},{"$f":"$J17","v":0},{"$f":"$I17","v":-2},{"$f":"IF(COUNTA($N17:$Y17)=0,0,SUM($N17:$Y17)/COUNTA($N17:$Y17))","v":0}]
[null,null,null,null,null,null,null,null,{"$f":"$I19-1","v":-1},{"$f":"'1-1経営改善の計画'!$J$28","v":0},{"$f":"$J18","v":0},{"$f":"$I18","v":-1},{"$f":"IF(COUNTA($N18:$Y18)=0,0,SUM($N18:$Y18)/COUNTA($N18:$Y18))","v":0}]
[null,null,null,null,null,null,null,null,{"$f":"配列シート!$B$8","v":0},{"$f":"'1-1経営改善の計画'!$K$28","v":0},{"$f":"$J19","v":0},{"$f":"$I19","v":0},{"$f":"IF(COUNTA($N19:$Y19)=0,0,SUM($N19:$Y19)/COUNTA($N19:$Y19))","v":0}]
[null,null,null,null,null,null,null,null,"達成率（計画対比）",{"$f":"IF($J19=0,0,$M19/$J19*100)","v":0},"％",{"$f":"$I19","v":0},{"$f":"$M19-$J19","v":0},{"$f":"N$19-$K$19","v":0},{"$f":"O$19-$K$19","v":0},{"$f":"P$19-$K$19","v":0},{"$f":"Q$19-$K$19","v":0},{"$f":"R$19-$K$19","v":0},{"$f":"S$19-$K$19","v":0},{"$f":"T$19-$K$19","v":0},{"$f":"U$19-$K$19","v":0},{"$f":"V$19-$K$19","v":0},{"$f":"W$19-$K$19","v":0},{"$f":"X$19-$K$19","v":0},{"$f":"Y$19-$K$19","v":0}]
[null,null,null,"子豚\n導入体重\n（平均）",null,null,null,"㎏/頭",{"$f":"$I22-1","v":-2},{"$f":"'1-1経営改善の計画'!$H$29","v":0},{"$f":"$J21","v":0},{"$f":"$I21","v":-2},{"$f":"IF(COUNTA($N21:$Y21)=0,0,SUM($N21:$Y21)/COUNTA($N21:$Y21))","v":0}]
[null,null,null,null,null,null,null,null,{"$f":"$I23-1","v":-1},{"$f":"'1-1経営改善の計画'!$J$29","v":0},{"$f":"$J22","v":0},{"$f":"$I22","v":-1},{"$f":"IF(COUNTA($N22:$Y22)=0,0,SUM($N22:$Y22)/COUNTA($N22:$Y22))","v":0}]
[null,null,null,null,null,null,null,null,{"$f":"配列シート!$B$8","v":0},{"$f":"'1-1経営改善の計画'!$K$29","v":0},{"$f":"$J23","v":0},{"$f":"$I23","v":0},{"$f":"IF(COUNTA($N23:$Y23)=0,0,SUM($N23:$Y23)/COUNTA($N23:$Y23))","v":0}]
[null,null,null,null,null,null,null,null,"達成率（計画対比）",{"$f":"IF($J23=0,0,$M23/$J23*100)","v":0},"％",{"$f":"$I23","v":0},{"$f":"$M23-$J23","v":0},{"$f":"N$23-$K$23","v":0},{"$f":"O$23-$K$23","v":0},{"$f":"P$23-$K$23","v":0},{"$f":"Q$23-$K$23","v":0},{"$f":"R$23-$K$23","v":0},{"$f":"S$23-$K$23","v":0},{"$f":"T$23-$K$23","v":0},{"$f":"U$23-$K$23","v":0},{"$f":"V$23-$K$23","v":0},{"$f":"W$23-$K$23","v":0},{"$f":"X$23-$K$23","v":0},{"$f":"Y$23-$K$23","v":0}]
[null,null,null,"子豚\n導入価格\n（平均）",null,null,null,"千円",{"$f":"$I26-1","v":-2},{"$f":"'1-1経営改善の計画'!$H$30","v":0},{"$f":"$J25","v":0},{"$f":"$I25","v":-2},{"$f":"IF(COUNTA($N25:$Y25)=0,0,SUM($N25:$Y25)/COUNTA($N25:$Y25))","v":0}]
[null,null,null,null,null,null,null,null,{"$f":"$I27-1","v":-1},{"$f":"'1-1経営改善の計画'!$J$30","v":0},{"$f":"$J26","v":0},{"$f":"$I26","v":-1},{"$f":"IF(COUNTA($N26:$Y26)=0,0,SUM($N26:$Y26)/COUNTA($N26:$Y26))","v":0}]
[null,null,null,null,null,null,null,null,{"$f":"配列シート!$B$8","v":0},{"$f":"'1-1経営改善の計画'!$K$30","v":0},{"$f":"$J27","v":0},{"$f":"$I27","v":0},{"$f":"IF(COUNTA($N27:$Y27)=0,0,SUM($N27:$Y27)/COUNTA($N27:$Y27))","v":0}]
[null,null,null,null,null,null,null,null,"達成率（計画対比）",{"$f":"IF($J27=0,0,$M27/$J27*100)","v":0},"％",{"$f":"$I27","v":0},{"$f":"$M27-$J27","v":0},{"$f":"N$27-$K$27","v":0},{"$f":"O$27-$K$27","v":0},{"$f":"P$27-$K$27","v":0},{"$f":"Q$27-$K$27","v":0},{"$f":"R$27-$K$27","v":0},{"$f":"S$27-$K$27","v":0},{"$f":"T$27-$K$27","v":0},{"$f":"U$27-$K$27","v":0},{"$f":"V$27-$K$27","v":0},{"$f":"W$27-$K$27","v":0},{"$f":"X$27-$K$27","v":0},{"$f":"Y$27-$K$27","v":0}]
[null,null,null,"肥育豚\n出荷頭数",null,null,null,"頭",{"$f":"$I30-1","v":-2},{"$f":"'1-1経営改善の計画'!$H$31","v":0},{"$f":"$J29/12","v":0},{"$f":"$I29","v":-2},{"$f":"SUM($N29:$Y29)","v":0}]
[null,null,null,null,null,null,null,null,{"$f":"$I31-1","v":-1},{"$f":"'1-1経営改善の計画'!$J$31","v":0},{"$f":"$J30/12","v":0},{"$f":"$I30","v":-1},{"$f":"SUM($N30:$Y30)","v":0}]
[null,null,null,null,null,null,null,null,{"$f":"配列シート!$B$8","v":0},{"$f":"'1-1経営改善の計画'!$K$31","v":0},{"$f":"$J31/12","v":0},{"$f":"$I31","v":0},{"$f":"SUM($N31:$Y31)","v":0}]
[null,null,null,null,null,null,null,null,"達成率（計画対比）",{"$f":"IF($J31=0,0,$M31/$J31*100)","v":0},"％",{"$f":"$I31","v":0},{"$f":"$M31-$J31","v":0},{"$f":"N$31-$K$31","v":0},{"$f":"O$31-$K$31","v":0},{"$f":"P$31-$K$31","v":0},{"$f":"Q$31-$K$31","v":0},{"$f":"R$31-$K$31","v":0},{"$f":"S$31-$K$31","v":0},{"$f":"T$31-$K$31","v":0},{"$f":"U$31-$K$31","v":0},{"$f":"V$31-$K$31","v":0},{"$f":"W$31-$K$31","v":0},{"$f":"X$31-$K$31","v":0},{"$f":"Y$31-$K$31","v":0}]
[null,null,null,"肥育豚\n出荷生体重\n（平均）",null,null,null,"㎏/頭",{"$f":"$I34-1","v":-2},{"$f":"'1-1経営改善の計画'!$H$33","v":0},{"$f":"$J33","v":0},{"$f":"$I33","v":-2},{"$f":"IF(COUNTA($N33:$Y33)=0,0,SUM($N33:$Y33)/COUNTA($N33:$Y33))","v":0}]
[null,null,null,null,null,null,null,null,{"$f":"$I35-1","v":-1},{"$f":"'1-1経営改善の計画'!$J$33","v":0},{"$f":"$J34","v":0},{"$f":"$I34","v":-1},{"$f":"IF(COUNTA($N34:$Y34)=0,0,SUM($N34:$Y34)/COUNTA($N34:$Y34))","v":0}]
[null,null,null,null,null,null,null,null,{"$f":"配列シート!$B$8","v":0},{"$f":"'1-1経営改善の計画'!$K$33","v":0},{"$f":"$J35","v":0},{"$f":"$I35","v":0},{"$f":"IF(COUNTA($N35:$Y35)=0,0,SUM($N35:$Y35)/COUNTA($N35:$Y35))","v":0}]
[null,null,null,null,null,null,null,null,"達成率（計画対比）",{"$f":"IF($J35=0,0,$M35/$J35*100)","v":0},"％",{"$f":"$I35","v":0},{"$f":"$M35-$J35","v":0},{"$f":"N$35-$K$35","v":0},{"$f":"O$35-$K$35","v":0},{"$f":"P$35-$K$35","v":0},{"$f":"Q$35-$K$35","v":0},{"$f":"R$35-$K$35","v":0},{"$f":"S$35-$K$35","v":0},{"$f":"T$35-$K$35","v":0},{"$f":"U$35-$K$35","v":0},{"$f":"V$35-$K$35","v":0},{"$f":"W$35-$K$35","v":0},{"$f":"X$35-$K$35","v":0},{"$f":"Y$35-$K$35","v":0}]
[null,null,null,"肥育豚\n出荷価格\n（平均）",null,null,null,"千円",{"$f":"$I38-1","v":-2},{"$f":"'1-1経営改善の計画'!$H$34","v":0},{"$f":"$J37","v":0},{"$f":"$I37","v":-2},{"$f":"IF(COUNTA($N37:$Y37)=0,0,SUM($N37:$Y37)/COUNTA($N37:$Y37))","v":0}]
[null,null,null,null,null,null,null,null,{"$f":"$I39-1","v":-1},{"$f":"'1-1経営改善の計画'!$J$34","v":0},{"$f":"$J38","v":0},{"$f":"$I38","v":-1},{"$f":"IF(COUNTA($N38:$Y38)=0,0,SUM($N38:$Y38)/COUNTA($N38:$Y38))","v":0}]
[null,null,null,null,null,null,null,null,{"$f":"配列シート!$B$8","v":0},{"$f":"'1-1経営改善の計画'!$K$34","v":0},{"$f":"$J39","v":0},{"$f":"$I39","v":0},{"$f":"IF(COUNTA($N39:$Y39)=0,0,SUM($N39:$Y39)/COUNTA($N39:$Y39))","v":0}]
[null,null,null,null,null,null,null,null,"達成率（計画対比）",{"$f":"IF($J39=0,0,$M39/$J39*100)","v":0},"％",{"$f":"$I39","v":0},{"$f":"$M39-$J39","v":0},{"$f":"N$39-$K$39","v":0},{"$f":"O$39-$K$39","v":0},{"$f":"P$39-$K$39","v":0},{"$f":"Q$39-$K$39","v":0},{"$f":"R$39-$K$39","v":0},{"$f":"S$39-$K$39","v":0},{"$f":"T$39-$K$39","v":0},{"$f":"U$39-$K$39","v":0},{"$f":"V$39-$K$39","v":0},{"$f":"W$39-$K$39","v":0},{"$f":"X$39-$K$39","v":0},{"$f":"Y$39-$K$39","v":0}]
[null,null,null,"出荷\n枝肉重量\n（平均）",null,null,null,"㎏",{"$f":"$I42-1","v":-2},null,{"$f":"$J41","v":0},{"$f":"$I41","v":-2},{"$f":"IF(COUNTA($N41:$Y41)=0,0,SUM($N41:$Y41)/COUNTA($N41:$Y41))","v":0}]
[null,null,null,null,null,null,null,null,{"$f":"$I43-1","v":-1},null,{"$f":"$J42","v":0},{"$f":"$I42","v":-1},{"$f":"IF(COUNTA($N42:$Y42)=0,0,SUM($N42:$Y42)/COUNTA($N42:$Y42))","v":0}]
[null,null,null,null,null,null,null,null,{"$f":"配列シート!$B$8","v":0},null,{"$f":"$J43","v":0},{"$f":"$I43","v":0},{"$f":"IF(COUNTA($N43:$Y43)=0,0,SUM($N43:$Y43)/COUNTA($N43:$Y43))","v":0}]
[null,null,null,null,null,null,null,null,"達成率（計画対比）",{"$f":"IF($J43=0,0,$M43/$J43*100)","v":0},"％",{"$f":"$I43","v":0},{"$f":"$M43-$J43","v":0},{"$f":"N$43-$K$43","v":0},{"$f":"O$43-$K$43","v":0},{"$f":"P$43-$K$43","v":0},{"$f":"Q$43-$K$43","v":0},{"$f":"R$43-$K$43","v":0},{"$f":"S$43-$K$43","v":0},{"$f":"T$43-$K$43","v":0},{"$f":"U$43-$K$43","v":0},{"$f":"V$43-$K$43","v":0},{"$f":"W$43-$K$43","v":0},{"$f":"X$43-$K$43","v":0},{"$f":"Y$43-$K$43","v":0}]
[null,null,null,"出荷\n枝肉単価\n（平均）",null,null,null,"円/㎏",{"$f":"$I46-1","v":-2},null,{"$f":"$J45","v":0},{"$f":"$I45","v":-2},{"$f":"IF(COUNTA($N45:$Y45)=0,0,SUM($N45:$Y45)/COUNTA($N45:$Y45))","v":0}]
[null,null,null,null,null,null,null,null,{"$f":"$I47-1","v":-1},null,{"$f":"$J46","v":0},{"$f":"$I46","v":-1},{"$f":"IF(COUNTA($N46:$Y46)=0,0,SUM($N46:$Y46)/COUNTA($N46:$Y46))","v":0}]
[null,null,null,null,null,null,null,null,{"$f":"配列シート!$B$8","v":0},null,{"$f":"$J47","v":0},{"$f":"$I47","v":0},{"$f":"IF(COUNTA($N47:$Y47)=0,0,SUM($N47:$Y47)/COUNTA($N47:$Y47))","v":0}]
[null,null,null,null,null,null,null,null,"達成率（計画対比）",{"$f":"IF($J47=0,0,$M47/$J47*100)","v":0},"％",{"$f":"$I47","v":0},{"$f":"$M47-$J47","v":0},{"$f":"N$47-$K$47","v":0},{"$f":"O$47-$K$47","v":0},{"$f":"P$47-$K$47","v":0},{"$f":"Q$47-$K$47","v":0},{"$f":"R$47-$K$47","v":0},{"$f":"S$47-$K$47","v":0},{"$f":"T$47-$K$47","v":0},{"$f":"U$47-$K$47","v":0},{"$f":"V$47-$K$47","v":0},{"$f":"W$47-$K$47","v":0},{"$f":"X$47-$K$47","v":0},{"$f":"Y$47-$K$47","v":0}]
[null,null,null,"事故頭数",null,null,null,"頭",{"$f":"$I50-1","v":-2},null,{"$f":"$J49/12","v":0},{"$f":"$I49","v":-2},{"$f":"SUM($N49:$Y49)","v":0}]
[null,null,null,null,null,null,null,null,{"$f":"$I51-1","v":-1},null,{"$f":"$J50/12","v":0},{"$f":"$I50","v":-1},{"$f":"SUM($N50:$Y50)","v":0}]
[null,null,null,null,null,null,null,null,{"$f":"配列シート!$B$8","v":0},null,{"$f":"$J51/12","v":0},{"$f":"$I51","v":0},{"$f":"SUM($N51:$Y51)","v":0}]
[null,null,null,null,null,null,null,null,"達成率（計画対比）",{"$f":"IF($J51=0,0,$M51/$J51*100)","v":0},"％",{"$f":"$I51","v":0},{"$f":"$M51-$J51","v":0},{"$f":"N$51-$K$51","v":0},{"$f":"O$51-$K$51","v":0},{"$f":"P$51-$K$51","v":0},{"$f":"Q$51-$K$51","v":0},{"$f":"R$51-$K$51","v":0},{"$f":"S$51-$K$51","v":0},{"$f":"T$51-$K$51","v":0},{"$f":"U$51-$K$51","v":0},{"$f":"V$51-$K$51","v":0},{"$f":"W$51-$K$51","v":0},{"$f":"X$51-$K$51","v":0},{"$f":"Y$51-$K$51","v":0}]

{"sheet":"モニタ2キャッシュ(1)経営・個人","index":33,"n_rows":57,"n_cols":22,"rows_kept":57,"cut":false,"hidden":false,"merged":[[53,3,53,6],[54,3,54,6],[55,2,55,6],[56,1,56,6],[46,2,46,6],[47,1,55,1],[47,2,50,2],[47,3,47,6],[48,3,48,6],[49,3,49,6],[50,3,50,6],[51,2,54,2],[51,3,51,6],[52,3,52,6],[39,2,39,6],[40,1,46,1],[40,2,42,2],[40,3,40,6],[41,3,41,6],[42,3,42,6],[43,2,45,2],[43,3,43,6],[44,3,44,6],[45,3,45,6],[33,3,33,6],[34,2,38,2],[34,3,34,6],[35,3,35,6],[36,3,36,6],[37,3,37,6],[38,3,38,6],[25,4,25,6],[26,4,26,6],[27,3,27,6],[28,2,28,6],[29,1,39,1],[29,2,33,2],[29,3,29,6],[30,3,30,6],[31,3,31,6],[32,3,32,6],[19,4,19,6],[20,4,20,6],[21,4,21,6],[22,4,22,6],[23,4,23,6],[24,4,24,6],[11,2,27,2],[11,3,11,6],[12,3,17,3],[12,4,12,7],[12,8,12,21],[13,6,13,7],[14,6,14,7],[15,6,15,7],[16,6,16,7],[18,3,18,6],[3,1,4,7],[3,8,3,21],[5,1,28,1],[5,2,10,2],[5,3,5,6],[6,3,6,6],[7,3,7,6],[8,3,8,6],[9,3,9,6],[10,3,10,6]]}
[]
[null,"２　現金収支の確認・予測（個人）〔現金の収入と支出（現金の流れ）から、経営収支の動きを月次に把握・予測する。〕"]
[null,"（１）経営活動（現金の動き）によるキャッシュフロー",null,null,null,null,null,null,null,null,null,null,null,null,null,null,null,null,null,null,null,"（単位：円）"]
[null,"項目",null,null,null,null,null,null,"月次モニタリング（兼　入力野帳）"]
[null,null,null,null,null,null,null,null,"年次","計",{"$f":"IF(配列シート!$W$3<>\"\",配列シート!$W$3,\"\")","v":""},{"$f":"IF(K5<>\"\",IF(K5+1<=12,K5+1,1),\"\")","v":""},{"$f":"IF(L5<>\"\",IF(L5+1<=12,L5+1,1),\"\")","v":""},{"$f":"IF(M5<>\"\",IF(M5+1<=12,M5+1,1),\"\")","v":""},{"$f":"IF(N5<>\"\",IF(N5+1<=12,N5+1,1),\"\")","v":""},{"$f":"IF(O5<>\"\",IF(O5+1<=12,O5+1,1),\"\")","v":""},{"$f":"IF(P5<>\"\",IF(P5+1<=12,P5+1,1),\"\")","v":""},{"$f":"IF(Q5<>\"\",IF(Q5+1<=12,Q5+1,1),\"\")","v":""},{"$f":"IF(R5<>\"\",IF(R5+1<=12,R5+1,1),\"\")","v":""},{"$f":"IF(S5<>\"\",IF(S5+1<=12,S5+1,1),\"\")","v":""},{"$f":"IF(T5<>\"\",IF(T5+1<=12,T5+1,1),\"\")","v":""},{"$f":"IF(U5<>\"\",IF(U5+1<=12,U5+1,1),\"\")","v":""}]
[null,"農業収支（養豚部門）","収入",null,null,null,null,"円",{"$f":"配列シート!$B$8","v":0},{"$f":"SUM(K6:V6)","v":0}]
[null,null,null,null,null,null,null,"円",{"$f":"配列シート!$B$8","v":0},{"$f":"SUM(K7:V7)","v":0}]
[null,null,null,null,null,null,null,"円",{"$f":"配列シート!$B$8","v":0},{"$f":"SUM(K8:V8)","v":0}]
[null,null,null,null,null,null,null,"円",{"$f":"配列シート!$B$8","v":0},{"$f":"SUM(K9:V9)","v":0}]
[null,null,null,null,null,null,null,"円",{"$f":"配列シート!$B$8","v":0},{"$f":"SUM(K10:V10)","v":0}]
[null,null,null,"計",null,null,null,"円",{"$f":"配列シート!$B$8","v":0},{"$f":"SUM(K11:V11)","v":0},{"$f":"SUM(K6:K10)","v":0},{"$f":"SUM(L6:L10)","v":0},{"$f":"SUM(M6:M10)","v":0},{"$f":"SUM(N6:N10)","v":0},{"$f":"SUM(O6:O10)","v":0},{"$f":"SUM(P6:P10)","v":0},{"$f":"SUM(Q6:Q10)","v":0},{"$f":"SUM(R6:R10)","v":0},{"$f":"SUM(S6:S10)","v":0},{"$f":"SUM(T6:T10)","v":0},{"$f":"SUM(U6:U10)","v":0},{"$f":"SUM(V6:V10)","v":0}]
[null,null,"支出","家畜購入費",null,null,null,"円",{"$f":"配列シート!$B$8","v":0},{"$f":"SUM(K12:V12)","v":0}]
[null,null,null,"飼料購入費","経営改善計画（千円）",null,null,null,"月次モニタリング（兼　入力野帳）"]
[null,null,null,null,"年次","年次値","月次値",null,"年次","計",{"$f":"IF(配列シート!$W$3<>\"\",配列シート!$W$3,\"\")","v":""},{"$f":"IF(K14<>\"\",IF(K14+1<=12,K14+1,1),\"\")","v":""},{"$f":"IF(L14<>\"\",IF(L14+1<=12,L14+1,1),\"\")","v":""},{"$f":"IF(M14<>\"\",IF(M14+1<=12,M14+1,1),\"\")","v":""},{"$f":"IF(N14<>\"\",IF(N14+1<=12,N14+1,1),\"\")","v":""},{"$f":"IF(O14<>\"\",IF(O14+1<=12,O14+1,1),\"\")","v":""},{"$f":"IF(P14<>\"\",IF(P14+1<=12,P14+1,1),\"\")","v":""},{"$f":"IF(Q14<>\"\",IF(Q14+1<=12,Q14+1,1),\"\")","v":""},{"$f":"IF(R14<>\"\",IF(R14+1<=12,R14+1,1),\"\")","v":""},{"$f":"IF(S14<>\"\",IF(S14+1<=12,S14+1,1),\"\")","v":""},{"$f":"IF(T14<>\"\",IF(T14+1<=12,T14+1,1),\"\")","v":""},{"$f":"IF(U14<>\"\",IF(U14+1<=12,U14+1,1),\"\")","v":""}]
[null,null,null,null,{"$f":"配列シート!$B$8-2","v":-2},{"$f":"'2-1経営収支計画・個人'!J18*1000","v":0},{"$f":"F15/12","v":0},null,{"$f":"配列シート!$B$8-2","v":-2},{"$f":"SUM(K15:V15)","v":0}]
[null,null,null,null,{"$f":"配列シート!$B$8-1","v":-1},{"$f":"'2-1経営収支計画・個人'!L18*1000","v":0},{"$f":"F16/12","v":0},null,{"$f":"配列シート!$B$8-1","v":-1},{"$f":"SUM(K16:V16)","v":0}]
[null,null,null,null,{"$f":"配列シート!$B$8","v":0},{"$f":"'2-1経営収支計画・個人'!M18*1000","v":0},{"$f":"F17/12","v":0},null,{"$f":"配列シート!$B$8","v":0},{"$f":"SUM(K17:V17)","v":0}]
[null,null,null,null,"達成率（計画対比）",{"$f":"IF(F17=0,0,J17/F17*100)","v":0},"％",null,{"$f":"配列シート!$B$8","v":0},{"$f":"J17-F17","v":0},{"$f":"K17-$G$17","v":0},{"$f":"L17-$G$17","v":0},{"$f":"M17-$G$17","v":0},{"$f":"N17-$G$17","v":0},{"$f":"O17-$G$17","v":0},{"$f":"P17-$G$17","v":0},{"$f":"Q17-$G$17","v":0},{"$f":"R17-$G$17","v":0},{"$f":"S17-$G$17","v":0},{"$f":"T17-$G$17","v":0},{"$f":"U17-$G$17","v":0},{"$f":"V17-$G$17","v":0}]
[null,null,null,"その他支出",null,null,null,"円",{"$f":"配列シート!$B$8","v":0},{"$f":"SUM(K19:V19)","v":0},{"$f":"SUM(K20:K27)","v":0},{"$f":"SUM(L20:L27)","v":0},{"$f":"SUM(M20:M27)","v":0},{"$f":"SUM(N20:N27)","v":0},{"$f":"SUM(O20:O27)","v":0},{"$f":"SUM(P20:P27)","v":0},{"$f":"SUM(Q20:Q27)","v":0},{"$f":"SUM(R20:R27)","v":0},{"$f":"SUM(S20:S27)","v":0},{"$f":"SUM(T20:T27)","v":0},{"$f":"SUM(U20:U27)","v":0},{"$f":"SUM(V20:V27)","v":0}]
[null,null,null,null,null,null,null,"円",{"$f":"配列シート!$B$8","v":0},{"$f":"SUM(K20:V20)","v":0}]
[null,null,null,null,null,null,null,"円",{"$f":"配列シート!$B$8","v":0},{"$f":"SUM(K21:V21)","v":0}]
[null,null,null,null,null,null,null,"円",{"$f":"配列シート!$B$8","v":0},{"$f":"SUM(K22:V22)","v":0}]
[null,null,null,null,null,null,null,"円",{"$f":"配列シート!$B$8","v":0},{"$f":"SUM(K23:V23)","v":0}]
[null,null,null,null,null,null,null,"円",{"$f":"配列シート!$B$8","v":0},{"$f":"SUM(K24:V24)","v":0}]
[null,null,null,null,null,null,null,"円",{"$f":"配列シート!$B$8","v":0},{"$f":"SUM(K25:V25)","v":0}]
[null,null,null,null,null,null,null,"円",{"$f":"配列シート!$B$8","v":0},{"$f":"SUM(K26:V26)","v":0}]
[null,null,null,null,null,null,null,"円",{"$f":"配列シート!$B$8","v":0},{"$f":"SUM(K27:V27)","v":0}]
[null,null,null,"計",null,null,null,"円",{"$f":"配列シート!$B$8","v":0},{"$f":"SUM(K28:V28)","v":0},{"$f":"K12+K17+K19","v":0},{"$f":"L12+L17+L19","v":0},{"$f":"M12+M17+M19","v":0},{"$f":"N12+N17+N19","v":0},{"$f":"O12+O17+O19","v":0},{"$f":"P12+P17+P19","v":0},{"$f":"Q12+Q17+Q19","v":0},{"$f":"R12+R17+R19","v":0},{"$f":"S12+S17+S19","v":0},{"$f":"T12+T17+T19","v":0},{"$f":"U12+U17+U19","v":0},{"$f":"V12+V17+V19","v":0}]
[null,null,"収支　計",null,null,null,null,"円",{"$f":"配列シート!$B$8","v":0},{"$f":"SUM(K29:V29)","v":0},{"$f":"K11-K28","v":0},{"$f":"L11-L28","v":0},{"$f":"M11-M28","v":0},{"$f":"N11-N28","v":0},{"$f":"O11-O28","v":0},{"$f":"P11-P28","v":0},{"$f":"Q11-Q28","v":0},{"$f":"R11-R28","v":0},{"$f":"S11-S28","v":0},{"$f":"T11-T28","v":0},{"$f":"U11-U28","v":0},{"$f":"V11-V28","v":0}]
[null,"農業収支（その他部門）","収入",null,null,null,null,"円",{"$f":"配列シート!$B$8","v":0},{"$f":"SUM(K30:V30)","v":0}]
[null,null,null,null,null,null,null,"円",{"$f":"配列シート!$B$8","v":0},{"$f":"SUM(K31:V31)","v":0}]
[null,null,null,null,null,null,null,"円",{"$f":"配列シート!$B$8","v":0},{"$f":"SUM(K32:V32)","v":0}]
[null,null,null,null,null,null,null,"円",{"$f":"配列シート!$B$8","v":0},{"$f":"SUM(K33:V33)","v":0}]
[null,null,null,"計",null,null,null,"円",{"$f":"配列シート!$B$8","v":0},{"$f":"SUM(K34:V34)","v":0},{"$f":"SUM(K30:K33)","v":0},{"$f":"SUM(L30:L33)","v":0},{"$f":"SUM(M30:M33)","v":0},{"$f":"SUM(N30:N33)","v":0},{"$f":"SUM(O30:O33)","v":0},{"$f":"SUM(P30:P33)","v":0},{"$f":"SUM(Q30:Q33)","v":0},{"$f":"SUM(R30:R33)","v":0},{"$f":"SUM(S30:S33)","v":0},{"$f":"SUM(T30:T33)","v":0},{"$f":"SUM(U30:U33)","v":0},{"$f":"SUM(V30:V33)","v":0}]
[null,null,"支出",null,null,null,null,"円",{"$f":"配列シート!$B$8","v":0},{"$f":"SUM(K35:V35)","v":0}]
[null,null,null,null,null,null,null,"円",{"$f":"配列シート!$B$8","v":0},{"$f":"SUM(K36:V36)","v":0}]
[null,null,null,null,null,null,null,"円",{"$f":"配列シート!$B$8","v":0},{"$f":"SUM(K37:V37)","v":0}]
[null,null,null,null,null,null,null,"円",{"$f":"配列シート!$B$8","v":0},{"$f":"SUM(K38:V38)","v":0}]
[null,null,null,"計",null,null,null,"円",{"$f":"配列シート!$B$8","v":0},{"$f":"SUM(K39:V39)","v":0},{"$f":"SUM(K35:K38)","v":0},{"$f":"SUM(L35:L38)","v":0},{"$f":"SUM(M35:M38)","v":0},{"$f":"SUM(N35:N38)","v":0},{"$f":"SUM(O35:O38)","v":0},{"$f":"SUM(P35:P38)","v":0},{"$f":"SUM(Q35:Q38)","v":0},{"$f":"SUM(R35:R38)","v":0},{"$f":"SUM(S35:S38)","v":0},{"$f":"SUM(T35:T38)","v":0},{"$f":"SUM(U35:U38)","v":0},{"$f":"SUM(V35:V38)","v":0}]
[null,null,"収支　計",null,null,null,null,"円",{"$f":"配列シート!$B$8","v":0},{"$f":"SUM(K40:V40)","v":0},{"$f":"K34-K39","v":0},{"$f":"L34-L39","v":0},{"$f":"M34-M39","v":0},{"$f":"N34-N39","v":0},{"$f":"O34-O39","v":0},{"$f":"P34-P39","v":0},{"$f":"Q34-Q39","v":0},{"$f":"R34-R39","v":0},{"$f":"S34-S39","v":0},{"$f":"T34-T39","v":0},{"$f":"U34-U39","v":0},{"$f":"V34-V39","v":0}]
[null,"農外収支","収入",null,null,null,null,"円",{"$f":"配列シート!$B$8","v":0},{"$f":"SUM(K41:V41)","v":0}]
[null,null,null,null,null,null,null,"円",{"$f":"配列シート!$B$8","v":0},{"$f":"SUM(K42:V42)","v":0}]
[null,null,null,"計",null,null,null,"円",{"$f":"配列シート!$B$8","v":0},{"$f":"SUM(K43:V43)","v":0},{"$f":"SUM(K41:K42)","v":0},{"$f":"SUM(L41:L42)","v":0},{"$f":"SUM(M41:M42)","v":0},{"$f":"SUM(N41:N42)","v":0},{"$f":"SUM(O41:O42)","v":0},{"$f":"SUM(P41:P42)","v":0},{"$f":"SUM(Q41:Q42)","v":0},{"$f":"SUM(R41:R42)","v":0},{"$f":"SUM(S41:S42)","v":0},{"$f":"SUM(T41:T42)","v":0},{"$f":"SUM(U41:U42)","v":0},{"$f":"SUM(V41:V42)","v":0}]
[null,null,"支出",null,null,null,null,"円",{"$f":"配列シート!$B$8","v":0},{"$f":"SUM(K44:V44)","v":0}]
[null,null,null,null,null,null,null,"円",{"$f":"配列シート!$B$8","v":0},{"$f":"SUM(K45:V45)","v":0}]
[null,null,null,"計",null,null,null,"円",{"$f":"配列シート!$B$8","v":0},{"$f":"SUM(K46:V46)","v":0},{"$f":"SUM(K44:K45)","v":0},{"$f":"SUM(L44:L45)","v":0},{"$f":"SUM(M44:M45)","v":0},{"$f":"SUM(N44:N45)","v":0},{"$f":"SUM(O44:O45)","v":0},{"$f":"SUM(P44:P45)","v":0},{"$f":"SUM(Q44:Q45)","v":0},{"$f":"SUM(R44:R45)","v":0},{"$f":"SUM(S44:S45)","v":0},{"$f":"SUM(T44:T45)","v":0},{"$f":"SUM(U44:U45)","v":0},{"$f":"SUM(V44:V45)","v":0}]
[null,null,"収支　計",null,null,null,null,"円",{"$f":"配列シート!$B$8","v":0},{"$f":"SUM(K47:V47)","v":0},{"$f":"K43-K46","v":0},{"$f":"L43-L46","v":0},{"$f":"M43-M46","v":0},{"$f":"N43-N46","v":0},{"$f":"O43-O46","v":0},{"$f":"P43-P46","v":0},{"$f":"Q43-Q46","v":0},{"$f":"R43-R46","v":0},{"$f":"S43-S46","v":0},{"$f":"T43-T46","v":0},{"$f":"U43-U46","v":0},{"$f":"V43-V46","v":0}]
[null,"その他収支","収入","出稼ぎ・被贈・年金、扶助等",null,null,null,"円",{"$f":"配列シート!$B$8","v":0},{"$f":"SUM(K48:V48)","v":0}]
[null,null,null,null,null,null,null,"円",{"$f":"配列シート!$B$8","v":0},{"$f":"SUM(K49:V49)","v":0}]
[null,null,null,null,null,null,null,"円",{"$f":"配列シート!$B$8","v":0},{"$f":"SUM(K50:V50)","v":0}]
[null,null,null,"計",null,null,null,"円",{"$f":"配列シート!$B$8","v":0},{"$f":"SUM(K51:V51)","v":0},{"$f":"SUM(K48:K50)","v":0},{"$f":"SUM(L48:L50)","v":0},{"$f":"SUM(M48:M50)","v":0},{"$f":"SUM(N48:N50)","v":0},{"$f":"SUM(O48:O50)","v":0},{"$f":"SUM(P48:P50)","v":0},{"$f":"SUM(Q48:Q50)","v":0},{"$f":"SUM(R48:R50)","v":0},{"$f":"SUM(S48:S50)","v":0},{"$f":"SUM(T48:T50)","v":0},{"$f":"SUM(U48:U50)","v":0},{"$f":"SUM(V48:V50)","v":0}]
[null,null,"支出","租税公課諸負担",null,null,null,"円",{"$f":"配列シート!$B$8","v":0},{"$f":"SUM(K52:V52)","v":0}]
[null,null,null,null,null,null,null,"円",{"$f":"配列シート!$B$8","v":0},{"$f":"SUM(K53:V53)","v":0}]
[null,null,null,null,null,null,null,"円",{"$f":"配列シート!$B$8","v":0},{"$f":"SUM(K54:V54)","v":0}]
[null,null,null,"計",null,null,null,"円",{"$f":"配列シート!$B$8","v":0},{"$f":"SUM(K55:V55)","v":0},{"$f":"SUM(K52:K54)","v":0},{"$f":"SUM(L52:L54)","v":0},{"$f":"SUM(M52:M54)","v":0},{"$f":"SUM(N52:N54)","v":0},{"$f":"SUM(O52:O54)","v":0},{"$f":"SUM(P52:P54)","v":0},{"$f":"SUM(Q52:Q54)","v":0},{"$f":"SUM(R52:R54)","v":0},{"$f":"SUM(S52:S54)","v":0},{"$f":"SUM(T52:T54)","v":0},{"$f":"SUM(U52:U54)","v":0},{"$f":"SUM(V52:V54)","v":0}]
[null,null,"収支　計",null,null,null,null,"円",{"$f":"配列シート!$B$8","v":0},{"$f":"SUM(K56:V56)","v":0},{"$f":"K51-K55","v":0},{"$f":"L51-L55","v":0},{"$f":"M51-M55","v":0},{"$f":"N51-N55","v":0},{"$f":"O51-O55","v":0},{"$f":"P51-P55","v":0},{"$f":"Q51-Q55","v":0},{"$f":"R51-R55","v":0},{"$f":"S51-S55","v":0},{"$f":"T51-T55","v":0},{"$f":"U51-U55","v":0},{"$f":"V51-V55","v":0}]
[null,"収支　合計",null,null,null,null,null,"円",{"$f":"配列シート!$B$8","v":0},{"$f":"SUM(K57:V57)","v":0},{"$f":"K29+K40+K47+K56","v":0},{"$f":"L29+L40+L47+L56","v":0},{"$f":"M29+M40+M47+M56","v":0},{"$f":"N29+N40+N47+N56","v":0},{"$f":"O29+O40+O47+O56","v":0},{"$f":"P29+P40+P47+P56","v":0},{"$f":"Q29+Q40+Q47+Q56","v":0},{"$f":"R29+R40+R47+R56","v":0},{"$f":"S29+S40+S47+S56","v":0},{"$f":"T29+T40+T47+T56","v":0},{"$f":"U29+U40+U47+U56","v":0},{"$f":"V29+V40+V47+V56","v":0}]

{"sheet":"モニタ2キャッシュ(1)経営・法人","index":34,"n_rows":58,"n_cols":22,"rows_kept":58,"cut":false,"hidden":false,"merged":[[55,3,55,6],[56,2,56,6],[57,1,57,6],[48,1,56,1],[48,2,51,2],[48,3,48,6],[49,3,49,6],[50,3,50,6],[51,3,51,6],[52,2,55,2],[52,3,52,6],[53,3,53,6],[54,3,54,6],[42,3,42,6],[43,3,43,6],[44,3,44,6],[45,3,45,6],[46,3,46,6],[47,1,47,6],[34,3,34,6],[35,1,35,6],[36,1,46,1],[36,2,46,2],[36,3,36,6],[37,3,37,6],[38,3,38,6],[39,3,39,6],[40,3,40,6],[41,3,41,6],[28,3,28,6],[29,3,29,6],[30,3,30,6],[31,3,31,6],[32,3,32,6],[33,3,33,6],[22,3,22,6],[23,3,23,6],[24,3,24,6],[25,3,25,6],[26,3,26,6],[27,3,27,6],[15,8,15,21],[16,6,16,7],[17,6,17,7],[18,6,18,7],[19,6,19,7],[21,3,21,6],[9,3,9,6],[10,3,10,6],[11,3,11,6],[12,3,12,6],[13,2,13,6],[14,1,34,1],[14,2,34,2],[14,3,14,6],[15,3,20,3],[15,4,15,7],[3,1,4,7],[3,8,3,21],[4,22,4,24],[5,1,13,1],[5,2,8,2],[5,3,5,6],[6,3,6,6],[7,3,7,6],[8,3,8,6],[9,2,12,2]]}
[]
[null,"２　現金収支の確認・予測（法人）〔現金の収入と支出（現金の流れ）から、経営収支の動きを月次に把握・予測する。〕"]
[null,"（１）経営活動（現金の動き）によるキャッシュフロー",null,null,null,null,null,null,null,null,null,null,null,null,null,null,null,null,null,null,null,"（単位：円）"]
[null,"項目",null,null,null,null,null,null,"月次モニタリング（兼　入力野帳）"]
[null,null,null,null,null,null,null,null,"年次","計",{"$f":"IF(配列シート!$W$3<>\"\",配列シート!$W$3,\"\")","v":""},{"$f":"IF(K5<>\"\",IF(K5+1<=12,K5+1,1),\"\")","v":""},{"$f":"IF(L5<>\"\",IF(L5+1<=12,L5+1,1),\"\")","v":""},{"$f":"IF(M5<>\"\",IF(M5+1<=12,M5+1,1),\"\")","v":""},{"$f":"IF(N5<>\"\",IF(N5+1<=12,N5+1,1),\"\")","v":""},{"$f":"IF(O5<>\"\",IF(O5+1<=12,O5+1,1),\"\")","v":""},{"$f":"IF(P5<>\"\",IF(P5+1<=12,P5+1,1),\"\")","v":""},{"$f":"IF(Q5<>\"\",IF(Q5+1<=12,Q5+1,1),\"\")","v":""},{"$f":"IF(R5<>\"\",IF(R5+1<=12,R5+1,1),\"\")","v":""},{"$f":"IF(S5<>\"\",IF(S5+1<=12,S5+1,1),\"\")","v":""},{"$f":"IF(T5<>\"\",IF(T5+1<=12,T5+1,1),\"\")","v":""},{"$f":"IF(U5<>\"\",IF(U5+1<=12,U5+1,1),\"\")","v":""}]
[null,"売上高","畜産部門",null,null,null,null,"円",{"$f":"配列シート!$B$8","v":0},{"$f":"SUM(K6:V6)","v":0}]
[null,null,null,null,null,null,null,"円",{"$f":"配列シート!$B$8","v":0},{"$f":"SUM(K7:V7)","v":0}]
[null,null,null,null,null,null,null,"円",{"$f":"配列シート!$B$8","v":0},{"$f":"SUM(K8:V8)","v":0}]
[null,null,null,"計",null,null,null,"円",{"$f":"配列シート!$B$8","v":0},{"$f":"SUM(K9:V9)","v":0},{"$f":"SUM(K6:K8)","v":0},{"$f":"SUM(L6:L8)","v":0},{"$f":"SUM(M6:M8)","v":0},{"$f":"SUM(N6:N8)","v":0},{"$f":"SUM(O6:O8)","v":0},{"$f":"SUM(P6:P8)","v":0},{"$f":"SUM(Q6:Q8)","v":0},{"$f":"SUM(R6:R8)","v":0},{"$f":"SUM(S6:S8)","v":0},{"$f":"SUM(T6:T8)","v":0},{"$f":"SUM(U6:U8)","v":0},{"$f":"SUM(V6:V8)","v":0}]
[null,null,"その他部門",null,null,null,null,"円",{"$f":"配列シート!$B$8","v":0},{"$f":"SUM(K10:V10)","v":0}]
[null,null,null,null,null,null,null,"円",{"$f":"配列シート!$B$8","v":0},{"$f":"SUM(K11:V11)","v":0}]
[null,null,null,null,null,null,null,"円",{"$f":"配列シート!$B$8","v":0},{"$f":"SUM(K12:V12)","v":0}]
[null,null,null,"計",null,null,null,"円",{"$f":"配列シート!$B$8","v":0},{"$f":"SUM(K13:V13)","v":0},{"$f":"SUM(K10:K12)","v":0},{"$f":"SUM(L10:L12)","v":0},{"$f":"SUM(M10:M12)","v":0},{"$f":"SUM(N10:N12)","v":0},{"$f":"SUM(O10:O12)","v":0},{"$f":"SUM(P10:P12)","v":0},{"$f":"SUM(Q10:Q12)","v":0},{"$f":"SUM(R10:R12)","v":0},{"$f":"SUM(S10:S12)","v":0},{"$f":"SUM(T10:T12)","v":0},{"$f":"SUM(U10:U12)","v":0},{"$f":"SUM(V10:V12)","v":0}]
[null,null,"売上高　計",null,null,null,null,"円",{"$f":"配列シート!$B$8","v":0},{"$f":"SUM(K14:V14)","v":0},{"$f":"K9+K13","v":0},{"$f":"L9+L13","v":0},{"$f":"M9+M13","v":0},{"$f":"N9+N13","v":0},{"$f":"O9+O13","v":0},{"$f":"P9+P13","v":0},{"$f":"Q9+Q13","v":0},{"$f":"R9+R13","v":0},{"$f":"S9+S13","v":0},{"$f":"T9+T13","v":0},{"$f":"U9+U13","v":0},{"$f":"V9+V13","v":0}]
[null,"売上原価","当期製造原価","うち家畜購入費",null,null,null,"円",{"$f":"配列シート!$B$8","v":0},{"$f":"SUM(K15:V15)","v":0}]
[null,null,null,"飼料購入費","経営改善計画（千円）",null,null,null,"月次モニタリング（兼　入力野帳）"]
[null,null,null,null,"年次","年次値","月次値",null,"年次","計",{"$f":"IF(配列シート!$W$3<>\"\",配列シート!$W$3,\"\")","v":""},{"$f":"IF(K17<>\"\",IF(K17+1<=12,K17+1,1),\"\")","v":""},{"$f":"IF(L17<>\"\",IF(L17+1<=12,L17+1,1),\"\")","v":""},{"$f":"IF(M17<>\"\",IF(M17+1<=12,M17+1,1),\"\")","v":""},{"$f":"IF(N17<>\"\",IF(N17+1<=12,N17+1,1),\"\")","v":""},{"$f":"IF(O17<>\"\",IF(O17+1<=12,O17+1,1),\"\")","v":""},{"$f":"IF(P17<>\"\",IF(P17+1<=12,P17+1,1),\"\")","v":""},{"$f":"IF(Q17<>\"\",IF(Q17+1<=12,Q17+1,1),\"\")","v":""},{"$f":"IF(R17<>\"\",IF(R17+1<=12,R17+1,1),\"\")","v":""},{"$f":"IF(S17<>\"\",IF(S17+1<=12,S17+1,1),\"\")","v":""},{"$f":"IF(T17<>\"\",IF(T17+1<=12,T17+1,1),\"\")","v":""},{"$f":"IF(U17<>\"\",IF(U17+1<=12,U17+1,1),\"\")","v":""}]
[null,null,null,null,{"$f":"配列シート!$B$8-2","v":-2},{"$f":"'2-1経営収支計画・法人'!H12*1000","v":0},{"$f":"F18/12","v":0},null,{"$f":"配列シート!$B$8-2","v":-2},{"$f":"SUM(K18:V18)","v":0}]
[null,null,null,null,{"$f":"配列シート!$B$8-1","v":-1},{"$f":"'2-1経営収支計画・法人'!J12*1000","v":0},{"$f":"F19/12","v":0},null,{"$f":"配列シート!$B$8-1","v":-1},{"$f":"SUM(K19:V19)","v":0}]
[null,null,null,null,{"$f":"配列シート!$B$8","v":0},{"$f":"'2-1経営収支計画・法人'!K12*1000","v":0},{"$f":"F20/12","v":0},null,{"$f":"配列シート!$B$8","v":0},{"$f":"SUM(K20:V20)","v":0}]
[null,null,null,null,"達成率（計画対比）",{"$f":"IF(F20=0,0,J20/F20*100)","v":0},"％",null,{"$f":"配列シート!$B$8","v":0},{"$f":"J20-F20","v":0},{"$f":"K20-$G$20","v":0},{"$f":"L20-$G$20","v":0},{"$f":"M20-$G$20","v":0},{"$f":"N20-$G$20","v":0},{"$f":"O20-$G$20","v":0},{"$f":"P20-$G$20","v":0},{"$f":"Q20-$G$20","v":0},{"$f":"R20-$G$20","v":0},{"$f":"S20-$G$20","v":0},{"$f":"T20-$G$20","v":0},{"$f":"U20-$G$20","v":0},{"$f":"V20-$G$20","v":0}]
[null,null,null,null,null,null,null,"円",{"$f":"配列シート!$B$8","v":0},{"$f":"SUM(K22:V22)","v":0}]
[null,null,null,null,null,null,null,"円",{"$f":"配列シート!$B$8","v":0},{"$f":"SUM(K23:V23)","v":0}]
[null,null,null,null,null,null,null,"円",{"$f":"配列シート!$B$8","v":0},{"$f":"SUM(K24:V24)","v":0}]
[null,null,null,null,null,null,null,"円",{"$f":"配列シート!$B$8","v":0},{"$f":"SUM(K25:V25)","v":0}]
[null,null,null,null,null,null,null,"円",{"$f":"配列シート!$B$8","v":0},{"$f":"SUM(K26:V26)","v":0}]
[null,null,null,null,null,null,null,"円",{"$f":"配列シート!$B$8","v":0},{"$f":"SUM(K27:V27)","v":0}]
[null,null,null,null,null,null,null,"円",{"$f":"配列シート!$B$8","v":0},{"$f":"SUM(K28:V28)","v":0}]
[null,null,null,null,null,null,null,"円",{"$f":"配列シート!$B$8","v":0},{"$f":"SUM(K29:V29)","v":0}]
[null,null,null,null,null,null,null,"円",{"$f":"配列シート!$B$8","v":0},{"$f":"SUM(K30:V30)","v":0}]
[null,null,null,null,null,null,null,"円",{"$f":"配列シート!$B$8","v":0},{"$f":"SUM(K31:V31)","v":0}]
[null,null,null,null,null,null,null,"円",{"$f":"配列シート!$B$8","v":0},{"$f":"SUM(K32:V32)","v":0}]
[null,null,null,null,null,null,null,"円",{"$f":"配列シート!$B$8","v":0},{"$f":"SUM(K33:V33)","v":0}]
[null,null,null,null,null,null,null,"円",{"$f":"配列シート!$B$8","v":0},{"$f":"SUM(K34:V34)","v":0}]
[null,null,null,"計",null,null,null,"円",{"$f":"配列シート!$B$8","v":0},{"$f":"SUM(K35:V35)","v":0},{"$f":"K15+K20+SUM(K22:K34)","v":0},{"$f":"L15+L20+SUM(L22:L34)","v":0},{"$f":"M15+M20+SUM(M22:M34)","v":0},{"$f":"N15+N20+SUM(N22:N34)","v":0},{"$f":"O15+O20+SUM(O22:O34)","v":0},{"$f":"P15+P20+SUM(P22:P34)","v":0},{"$f":"Q15+Q20+SUM(Q22:Q34)","v":0},{"$f":"R15+R20+SUM(R22:R34)","v":0},{"$f":"S15+S20+SUM(S22:S34)","v":0},{"$f":"T15+T20+SUM(T22:T34)","v":0},{"$f":"U15+U20+SUM(U22:U34)","v":0},{"$f":"V15+V20+SUM(V22:V34)","v":0}]
[null,"売上利益",null,null,null,null,null,"円",{"$f":"配列シート!$B$8","v":0},{"$f":"SUM(K36:V36)","v":0},{"$f":"K14-K35","v":0},{"$f":"L14-L35","v":0},{"$f":"M14-M35","v":0},{"$f":"N14-N35","v":0},{"$f":"O14-O35","v":0},{"$f":"P14-P35","v":0},{"$f":"Q14-Q35","v":0},{"$f":"R14-R35","v":0},{"$f":"S14-S35","v":0},{"$f":"T14-T35","v":0},{"$f":"U14-U35","v":0},{"$f":"V14-V35","v":0}]
[null,"販売費及び一般管理費","販売費及び一般管理費","うち役員報酬",null,null,null,"円",{"$f":"配列シート!$B$8","v":0},{"$f":"SUM(K37:V37)","v":0}]
[null,null,null,null,null,null,null,"円",{"$f":"配列シート!$B$8","v":0},{"$f":"SUM(K38:V38)","v":0}]
[null,null,null,null,null,null,null,"円",{"$f":"配列シート!$B$8","v":0},{"$f":"SUM(K39:V39)","v":0}]
[null,null,null,null,null,null,null,"円",{"$f":"配列シート!$B$8","v":0},{"$f":"SUM(K40:V40)","v":0}]
[null,null,null,null,null,null,null,"円",{"$f":"配列シート!$B$8","v":0},{"$f":"SUM(K41:V41)","v":0}]
[null,null,null,null,null,null,null,"円",{"$f":"配列シート!$B$8","v":0},{"$f":"SUM(K42:V42)","v":0}]
[null,null,null,null,null,null,null,"円",{"$f":"配列シート!$B$8","v":0},{"$f":"SUM(K43:V43)","v":0}]
[null,null,null,null,null,null,null,"円",{"$f":"配列シート!$B$8","v":0},{"$f":"SUM(K44:V44)","v":0}]
[null,null,null,null,null,null,null,"円",{"$f":"配列シート!$B$8","v":0},{"$f":"SUM(K45:V45)","v":0}]
[null,null,null,null,null,null,null,"円",{"$f":"配列シート!$B$8","v":0},{"$f":"SUM(K46:V46)","v":0}]
[null,null,null,"計",null,null,null,"円",{"$f":"配列シート!$B$8","v":0},{"$f":"SUM(K47:V47)","v":0},{"$f":"SUM(K37:K46)","v":0},{"$f":"SUM(L37:L46)","v":0},{"$f":"SUM(M37:M46)","v":0},{"$f":"SUM(N37:N46)","v":0},{"$f":"SUM(O37:O46)","v":0},{"$f":"SUM(P37:P46)","v":0},{"$f":"SUM(Q37:Q46)","v":0},{"$f":"SUM(R37:R46)","v":0},{"$f":"SUM(S37:S46)","v":0},{"$f":"SUM(T37:T46)","v":0},{"$f":"SUM(U37:U46)","v":0},{"$f":"SUM(V37:V46)","v":0}]
[null,"事業利益",null,null,null,null,null,"円",{"$f":"配列シート!$B$8","v":0},{"$f":"SUM(K48:V48)","v":0},{"$f":"K36-K47","v":0},{"$f":"L36-L47","v":0},{"$f":"M36-M47","v":0},{"$f":"N36-N47","v":0},{"$f":"O36-O47","v":0},{"$f":"P36-P47","v":0},{"$f":"Q36-Q47","v":0},{"$f":"R36-R47","v":0},{"$f":"S36-S47","v":0},{"$f":"T36-T47","v":0},{"$f":"U36-U47","v":0},{"$f":"V36-V47","v":0}]
[null,"事業外","収入","うち国の奨励金",null,null,null,"円",{"$f":"配列シート!$B$8","v":0},{"$f":"SUM(K49:V49)","v":0}]
[null,null,null,null,null,null,null,"円",{"$f":"配列シート!$B$8","v":0},{"$f":"SUM(K50:V50)","v":0}]
[null,null,null,null,null,null,null,"円",{"$f":"配列シート!$B$8","v":0},{"$f":"SUM(K51:V51)","v":0}]
[null,null,null,"計",null,null,null,"円",{"$f":"配列シート!$B$8","v":0},{"$f":"SUM(K52:V52)","v":0},{"$f":"SUM(K49:K51)","v":0},{"$f":"SUM(L49:L51)","v":0},{"$f":"SUM(M49:M51)","v":0},{"$f":"SUM(N49:N51)","v":0},{"$f":"SUM(O49:O51)","v":0},{"$f":"SUM(P49:P51)","v":0},{"$f":"SUM(Q49:Q51)","v":0},{"$f":"SUM(R49:R51)","v":0},{"$f":"SUM(S49:S51)","v":0},{"$f":"SUM(T49:T51)","v":0},{"$f":"SUM(U49:U51)","v":0},{"$f":"SUM(V49:V51)","v":0}]
[null,null,"支出",null,null,null,null,"円",{"$f":"配列シート!$B$8","v":0},{"$f":"SUM(K53:V53)","v":0}]
[null,null,null,null,null,null,null,"円",{"$f":"配列シート!$B$8","v":0},{"$f":"SUM(K54:V54)","v":0}]
[null,null,null,null,null,null,null,"円",{"$f":"配列シート!$B$8","v":0},{"$f":"SUM(K55:V55)","v":0}]
[null,null,null,"計",null,null,null,"円",{"$f":"配列シート!$B$8","v":0},{"$f":"SUM(K56:V56)","v":0},{"$f":"SUM(K53:K55)","v":0},{"$f":"SUM(L53:L55)","v":0},{"$f":"SUM(M53:M55)","v":0},{"$f":"SUM(N53:N55)","v":0},{"$f":"SUM(O53:O55)","v":0},{"$f":"SUM(P53:P55)","v":0},{"$f":"SUM(Q53:Q55)","v":0},{"$f":"SUM(R53:R55)","v":0},{"$f":"SUM(S53:S55)","v":0},{"$f":"SUM(T53:T55)","v":0},{"$f":"SUM(U53:U55)","v":0},{"$f":"SUM(V53:V55)","v":0}]
[null,null,"収支　計",null,null,null,null,"円",{"$f":"配列シート!$B$8","v":0},{"$f":"SUM(K57:V57)","v":0},{"$f":"K52-K56","v":0},{"$f":"L52-L56","v":0},{"$f":"M52-M56","v":0},{"$f":"N52-N56","v":0},{"$f":"O52-O56","v":0},{"$f":"P52-P56","v":0},{"$f":"Q52-Q56","v":0},{"$f":"R52-R56","v":0},{"$f":"S52-S56","v":0},{"$f":"T52-T56","v":0},{"$f":"U52-U56","v":0},{"$f":"V52-V56","v":0}]
[null,"経常利益",null,null,null,null,null,"円",{"$f":"配列シート!$B$8","v":0},{"$f":"SUM(K58:V58)","v":0},{"$f":"K48+K57","v":0},{"$f":"L48+L57","v":0},{"$f":"M48+M57","v":0},{"$f":"N48+N57","v":0},{"$f":"O48+O57","v":0},{"$f":"P48+P57","v":0},{"$f":"Q48+Q57","v":0},{"$f":"R48+R57","v":0},{"$f":"S48+S57","v":0},{"$f":"T48+T57","v":0},{"$f":"U48+U57","v":0},{"$f":"V48+V57","v":0}]

{"sheet":"モニタ2キャッシュ(2)投資(3)財務・個人","index":35,"n_rows":55,"n_cols":23,"rows_kept":55,"cut":false,"hidden":false,"merged":[[51,2,51,7],[52,2,52,7],[53,2,53,7],[54,2,54,7],[42,2,42,7],[43,1,43,7],[45,1,46,8],[45,9,45,22],[47,1,54,1],[47,2,47,7],[48,2,49,2],[48,3,48,7],[49,3,49,7],[50,2,50,7],[33,1,42,1],[33,2,33,7],[34,3,34,7],[35,3,35,7],[36,2,36,7],[37,3,37,7],[38,3,38,7],[39,2,39,7],[40,2,40,7],[41,2,41,7],[24,1,24,7],[27,1,28,8],[27,9,27,22],[29,1,32,1],[29,2,29,7],[30,2,30,7],[31,2,31,7],[32,2,32,7],[15,1,15,7],[17,1,18,4],[17,5,17,8],[17,9,17,22],[18,7,18,8],[19,1,22,3],[19,4,22,4],[19,7,19,8],[20,7,20,8],[21,7,21,8],[10,1,14,1],[10,2,10,7],[11,2,11,7],[12,2,12,7],[13,2,13,7],[14,2,14,7],[3,1,4,8],[3,9,3,22],[5,1,9,1],[5,2,5,7],[6,2,6,7],[7,2,7,7],[8,2,8,7],[9,2,9,7]]}
[]
[null,"２　現金収支の確認・予測（個人）〔現金の収入と支出（現金の流れ）から、経営収支の動きを月次に把握・予測する。〕"]
[null,"（２）投資（固定資産の取得等）によるキャッシュフロー",null,null,null,null,null,null,null,null,null,null,null,null,null,null,null,null,null,null,null,null,"（単位：円）"]
[null,"項目",null,null,null,null,null,null,null,"月次モニタリング（兼　入力野帳）"]
[null,null,null,null,null,null,null,null,null,"年次","計",{"$f":"IF(配列シート!$W$3<>\"\",配列シート!$W$3,\"\")","v":""},{"$f":"IF(L5<>\"\",IF(L5+1<=12,L5+1,1),\"\")","v":""},{"$f":"IF(M5<>\"\",IF(M5+1<=12,M5+1,1),\"\")","v":""},{"$f":"IF(N5<>\"\",IF(N5+1<=12,N5+1,1),\"\")","v":""},{"$f":"IF(O5<>\"\",IF(O5+1<=12,O5+1,1),\"\")","v":""},{"$f":"IF(P5<>\"\",IF(P5+1<=12,P5+1,1),\"\")","v":""},{"$f":"IF(Q5<>\"\",IF(Q5+1<=12,Q5+1,1),\"\")","v":""},{"$f":"IF(R5<>\"\",IF(R5+1<=12,R5+1,1),\"\")","v":""},{"$f":"IF(S5<>\"\",IF(S5+1<=12,S5+1,1),\"\")","v":""},{"$f":"IF(T5<>\"\",IF(T5+1<=12,T5+1,1),\"\")","v":""},{"$f":"IF(U5<>\"\",IF(U5+1<=12,U5+1,1),\"\")","v":""},{"$f":"IF(V5<>\"\",IF(V5+1<=12,V5+1,1),\"\")","v":""}]
[null,"収入","土地・建物等の売却",null,null,null,null,null,"円",{"$f":"配列シート!$B$8","v":0},{"$f":"SUM(L6:W6)","v":0}]
[null,null,"機械等の売却代金",null,null,null,null,null,"円",{"$f":"配列シート!$B$8","v":0},{"$f":"SUM(L7:W7)","v":0}]
[null,null,null,null,null,null,null,null,"円",{"$f":"配列シート!$B$8","v":0},{"$f":"SUM(L8:W8)","v":0}]
[null,null,null,null,null,null,null,null,"円",{"$f":"配列シート!$B$8","v":0},{"$f":"SUM(L9:W9)","v":0}]
[null,null,"計",null,null,null,null,null,"円",{"$f":"配列シート!$B$8","v":0},{"$f":"SUM(L10:W10)","v":0},{"$f":"SUM(L6:L9)","v":0},{"$f":"SUM(M6:M9)","v":0},{"$f":"SUM(N6:N9)","v":0},{"$f":"SUM(O6:O9)","v":0},{"$f":"SUM(P6:P9)","v":0},{"$f":"SUM(Q6:Q9)","v":0},{"$f":"SUM(R6:R9)","v":0},{"$f":"SUM(S6:S9)","v":0},{"$f":"SUM(T6:T9)","v":0},{"$f":"SUM(U6:U9)","v":0},{"$f":"SUM(V6:V9)","v":0},{"$f":"SUM(W6:W9)","v":0}]
[null,"支出","土地・建物等の購入",null,null,null,null,null,"円",{"$f":"配列シート!$B$8","v":0},{"$f":"SUM(L11:W11)","v":0}]
[null,null,"畜舎等の改修（軽微な物を除く）",null,null,null,null,null,"円",{"$f":"配列シート!$B$8","v":0},{"$f":"SUM(L12:W12)","v":0}]
[null,null,null,null,null,null,null,null,"円",{"$f":"配列シート!$B$8","v":0},{"$f":"SUM(L13:W13)","v":0}]
[null,null,null,null,null,null,null,null,"円",{"$f":"配列シート!$B$8","v":0},{"$f":"SUM(L14:W14)","v":0}]
[null,null,"計",null,null,null,null,null,"円",{"$f":"配列シート!$B$8","v":0},{"$f":"SUM(L15:W15)","v":0},{"$f":"SUM(L11:L14)","v":0},{"$f":"SUM(M11:M14)","v":0},{"$f":"SUM(N11:N14)","v":0},{"$f":"SUM(O11:O14)","v":0},{"$f":"SUM(P11:P14)","v":0},{"$f":"SUM(Q11:Q14)","v":0},{"$f":"SUM(R11:R14)","v":0},{"$f":"SUM(S11:S14)","v":0},{"$f":"SUM(T11:T14)","v":0},{"$f":"SUM(U11:U14)","v":0},{"$f":"SUM(V11:V14)","v":0},{"$f":"SUM(W11:W14)","v":0}]
[null,"収支　合計",null,null,null,null,null,null,"円",{"$f":"配列シート!$B$8","v":0},{"$f":"SUM(L16:W16)","v":0},{"$f":"L10-L15","v":0},{"$f":"M10-M15","v":0},{"$f":"N10-N15","v":0},{"$f":"O10-O15","v":0},{"$f":"P10-P15","v":0},{"$f":"Q10-Q15","v":0},{"$f":"R10-R15","v":0},{"$f":"S10-S15","v":0},{"$f":"T10-T15","v":0},{"$f":"U10-U15","v":0},{"$f":"V10-V15","v":0},{"$f":"W10-W15","v":0}]
[null,null,null,null,null,null,null,null,null,null,null,null,null,null,null,null,null,null,null,null,null,null,"（単位：円）"]
[null,"項目",null,null,null,"経営改善計画（千円）",null,null,null,"月次モニタリング（兼　入力野帳）"]
[null,null,null,null,null,"年次","年次値","月次値",null,"年次","計",{"$f":"IF(配列シート!$W$3<>\"\",配列シート!$W$3,\"\")","v":""},{"$f":"IF(L19<>\"\",IF(L19+1<=12,L19+1,1),\"\")","v":""},{"$f":"IF(M19<>\"\",IF(M19+1<=12,M19+1,1),\"\")","v":""},{"$f":"IF(N19<>\"\",IF(N19+1<=12,N19+1,1),\"\")","v":""},{"$f":"IF(O19<>\"\",IF(O19+1<=12,O19+1,1),\"\")","v":""},{"$f":"IF(P19<>\"\",IF(P19+1<=12,P19+1,1),\"\")","v":""},{"$f":"IF(Q19<>\"\",IF(Q19+1<=12,Q19+1,1),\"\")","v":""},{"$f":"IF(R19<>\"\",IF(R19+1<=12,R19+1,1),\"\")","v":""},{"$f":"IF(S19<>\"\",IF(S19+1<=12,S19+1,1),\"\")","v":""},{"$f":"IF(T19<>\"\",IF(T19+1<=12,T19+1,1),\"\")","v":""},{"$f":"IF(U19<>\"\",IF(U19+1<=12,U19+1,1),\"\")","v":""},{"$f":"IF(V19<>\"\",IF(V19+1<=12,V19+1,1),\"\")","v":""}]
[null,"家　計　費",null,null,"円",{"$f":"配列シート!$B$8-2","v":-2},{"$f":"'1-2生活改善の計画'!L6*1000","v":0},{"$f":"G20/12","v":0},null,{"$f":"配列シート!$B$8-2","v":-2},{"$f":"SUM(L20:W20)","v":0}]
[null,null,null,null,null,{"$f":"配列シート!$B$8-1","v":-1},{"$f":"'1-2生活改善の計画'!L8*1000","v":0},{"$f":"G21/12","v":0},null,{"$f":"配列シート!$B$8-1","v":-1},{"$f":"SUM(L21:W21)","v":0}]
[null,null,null,null,null,{"$f":"配列シート!$B$8","v":0},{"$f":"'1-2生活改善の計画'!L9*1000","v":0},{"$f":"G22/12","v":0},null,{"$f":"配列シート!$B$8","v":0},{"$f":"SUM(L22:W22)","v":0}]
[null,null,null,null,null,"達成率（計画対比）",{"$f":"IF(G22=0,0,K22/G22*100)","v":0},"％",null,{"$f":"配列シート!$B$8","v":0},{"$f":"K22-G22","v":0},{"$f":"L22-$H$22","v":0},{"$f":"M22-$H$22","v":0},{"$f":"N22-$H$22","v":0},{"$f":"O22-$H$22","v":0},{"$f":"P22-$H$22","v":0},{"$f":"Q22-$H$22","v":0},{"$f":"R22-$H$22","v":0},{"$f":"S22-$H$22","v":0},{"$f":"T22-$H$22","v":0},{"$f":"U22-$H$22","v":0},{"$f":"V22-$H$22","v":0},{"$f":"W22-$H$22","v":0}]
[]
[null,"資金過不足",null,null,null,null,null,null,"円",{"$f":"配列シート!$B$8","v":0},{"$f":"SUM(L25:W25)","v":0},{"$f":"'モニタ2キャッシュ(1)経営・個人'!K57+L16-L22","v":0},{"$f":"'モニタ2キャッシュ(1)経営・個人'!L57+M16-M22","v":0},{"$f":"'モニタ2キャッシュ(1)経営・個人'!M57+N16-N22","v":0},{"$f":"'モニタ2キャッシュ(1)経営・個人'!N57+O16-O22","v":0},{"$f":"'モニタ2キャッシュ(1)経営・個人'!O57+P16-P22","v":0},{"$f":"'モニタ2キャッシュ(1)経営・個人'!P57+Q16-Q22","v":0},{"$f":"'モニタ2キャッシュ(1)経営・個人'!Q57+R16-R22","v":0},{"$f":"'モニタ2キャッシュ(1)経営・個人'!R57+S16-S22","v":0},{"$f":"'モニタ2キャッシュ(1)経営・個人'!S57+T16-T22","v":0},{"$f":"'モニタ2キャッシュ(1)経営・個人'!T57+U16-U22","v":0},{"$f":"'モニタ2キャッシュ(1)経営・個人'!U57+V16-V22","v":0},{"$f":"'モニタ2キャッシュ(1)経営・個人'!V57+W16-W22","v":0}]
[]
[null,"（３）財務活動（借入金等）によるキャッシュフロー",null,null,null,null,null,null,null,null,null,null,null,null,null,null,null,null,null,null,null,null,"（単位：円）"]
[null,"項目",null,null,null,null,null,null,null,"月次モニタリング（兼　入力野帳）"]
[null,null,null,null,null,null,null,null,null,"年次","計",{"$f":"IF(配列シート!$W$3<>\"\",配列シート!$W$3,\"\")","v":""},{"$f":"IF(L29<>\"\",IF(L29+1<=12,L29+1,1),\"\")","v":""},{"$f":"IF(M29<>\"\",IF(M29+1<=12,M29+1,1),\"\")","v":""},{"$f":"IF(N29<>\"\",IF(N29+1<=12,N29+1,1),\"\")","v":""},{"$f":"IF(O29<>\"\",IF(O29+1<=12,O29+1,1),\"\")","v":""},{"$f":"IF(P29<>\"\",IF(P29+1<=12,P29+1,1),\"\")","v":""},{"$f":"IF(Q29<>\"\",IF(Q29+1<=12,Q29+1,1),\"\")","v":""},{"$f":"IF(R29<>\"\",IF(R29+1<=12,R29+1,1),\"\")","v":""},{"$f":"IF(S29<>\"\",IF(S29+1<=12,S29+1,1),\"\")","v":""},{"$f":"IF(T29<>\"\",IF(T29+1<=12,T29+1,1),\"\")","v":""},{"$f":"IF(U29<>\"\",IF(U29+1<=12,U29+1,1),\"\")","v":""},{"$f":"IF(V29<>\"\",IF(V29+1<=12,V29+1,1),\"\")","v":""}]
[null,"借入金\n収入","短期資金の借入",null,null,null,null,null,"円",{"$f":"配列シート!$B$8","v":0},{"$f":"SUM(L30:W30)","v":0}]
[null,null,"長期資金の借入",null,null,null,null,null,"円",{"$f":"配列シート!$B$8","v":0},{"$f":"SUM(L31:W31)","v":0}]
[null,null,"その他の借入",null,null,null,null,null,"円",{"$f":"配列シート!$B$8","v":0},{"$f":"SUM(L32:W32)","v":0}]
[null,null,"計",null,null,null,null,null,"円",{"$f":"配列シート!$B$8","v":0},{"$f":"SUM(L33:W33)","v":0},{"$f":"SUM(L30:L32)","v":0},{"$f":"SUM(M30:M32)","v":0},{"$f":"SUM(N30:N32)","v":0},{"$f":"SUM(O30:O32)","v":0},{"$f":"SUM(P30:P32)","v":0},{"$f":"SUM(Q30:Q32)","v":0},{"$f":"SUM(R30:R32)","v":0},{"$f":"SUM(S30:S32)","v":0},{"$f":"SUM(T30:T32)","v":0},{"$f":"SUM(U30:U32)","v":0},{"$f":"SUM(V30:V32)","v":0},{"$f":"SUM(W30:W32)","v":0}]
[null,"借入金・預託等\n支出","短期資金の返済（元利金）",null,null,null,null,null,"円",{"$f":"配列シート!$B$8","v":0},{"$f":"SUM(L34:W34)","v":0},{"$f":"SUM(L35:L36)","v":0},{"$f":"SUM(M35:M36)","v":0},{"$f":"SUM(N35:N36)","v":0},{"$f":"SUM(O35:O36)","v":0},{"$f":"SUM(P35:P36)","v":0},{"$f":"SUM(Q35:Q36)","v":0},{"$f":"SUM(R35:R36)","v":0},{"$f":"SUM(S35:S36)","v":0},{"$f":"SUM(T35:T36)","v":0},{"$f":"SUM(U35:U36)","v":0},{"$f":"SUM(V35:V36)","v":0},{"$f":"SUM(W35:W36)","v":0}]
[null,null,null,"償還元金",null,null,null,null,"円",{"$f":"配列シート!$B$8","v":0},{"$f":"SUM(L35:W35)","v":0}]
[null,null,null,"償還利息",null,null,null,null,"円",{"$f":"配列シート!$B$8","v":0},{"$f":"SUM(L36:W36)","v":0}]
[null,null,"長期資金の返済（元利金）",null,null,null,null,null,"円",{"$f":"配列シート!$B$8","v":0},{"$f":"SUM(L37:W37)","v":0},{"$f":"SUM(L38:L39)","v":0},{"$f":"SUM(M38:M39)","v":0},{"$f":"SUM(N38:N39)","v":0},{"$f":"SUM(O38:O39)","v":0},{"$f":"SUM(P38:P39)","v":0},{"$f":"SUM(Q38:Q39)","v":0},{"$f":"SUM(R38:R39)","v":0},{"$f":"SUM(S38:S39)","v":0},{"$f":"SUM(T38:T39)","v":0},{"$f":"SUM(U38:U39)","v":0},{"$f":"SUM(V38:V39)","v":0},{"$f":"SUM(W38:W39)","v":0}]
[null,null,null,"償還元金",null,null,null,null,"円",{"$f":"配列シート!$B$8","v":0},{"$f":"SUM(L38:W38)","v":0}]
[null,null,null,"償還利息",null,null,null,null,"円",{"$f":"配列シート!$B$8","v":0},{"$f":"SUM(L39:W39)","v":0}]
[null,null,"リースの返済",null,null,null,null,null,"円",{"$f":"配列シート!$B$8","v":0},{"$f":"SUM(L40:W40)","v":0}]
[null,null,"その他の返済（元利金）",null,null,null,null,null,"円",{"$f":"配列シート!$B$8","v":0},{"$f":"SUM(L41:W41)","v":0}]
[null,null,"預託豚の支払（元利金）",null,null,null,null,null,"円",{"$f":"配列シート!$B$8","v":0},{"$f":"SUM(L42:W42)","v":0}]
[null,null,"計",null,null,null,null,null,"円",{"$f":"配列シート!$B$8","v":0},{"$f":"SUM(L43:W43)","v":0},{"$f":"L34+L37+SUM(L40:L42)","v":0},{"$f":"M34+M37+SUM(M40:M42)","v":0},{"$f":"N34+N37+SUM(N40:N42)","v":0},{"$f":"O34+O37+SUM(O40:O42)","v":0},{"$f":"P34+P37+SUM(P40:P42)","v":0},{"$f":"Q34+Q37+SUM(Q40:Q42)","v":0},{"$f":"R34+R37+SUM(R40:R42)","v":0},{"$f":"S34+S37+SUM(S40:S42)","v":0},{"$f":"T34+T37+SUM(T40:T42)","v":0},{"$f":"U34+U37+SUM(U40:U42)","v":0},{"$f":"V34+V37+SUM(V40:V42)","v":0},{"$f":"W34+W37+SUM(W40:W42)","v":0}]
[null,"収支　合計",null,null,null,null,null,null,"円",{"$f":"配列シート!$B$8","v":0},{"$f":"SUM(L44:W44)","v":0},{"$f":"L33-L43","v":0},{"$f":"M33-M43","v":0},{"$f":"N33-N43","v":0},{"$f":"O33-O43","v":0},{"$f":"P33-P43","v":0},{"$f":"Q33-Q43","v":0},{"$f":"R33-R43","v":0},{"$f":"S33-S43","v":0},{"$f":"T33-T43","v":0},{"$f":"U33-U43","v":0},{"$f":"V33-V43","v":0},{"$f":"W33-W43","v":0}]
[null,null,null,null,null,null,null,null,null,null,null,null,null,null,null,null,null,null,null,null,null,null,"（単位：円）"]
[null,"項目",null,null,null,null,null,null,null,"月次モニタリング（兼　入力野帳）"]
[null,null,null,null,null,null,null,null,null,{"$f":"配列シート!$B$8","v":0},"計",{"$f":"IF(配列シート!$W$3<>\"\",配列シート!$W$3,\"\")","v":""},{"$f":"IF(L47<>\"\",IF(L47+1<=12,L47+1,1),\"\")","v":""},{"$f":"IF(M47<>\"\",IF(M47+1<=12,M47+1,1),\"\")","v":""},{"$f":"IF(N47<>\"\",IF(N47+1<=12,N47+1,1),\"\")","v":""},{"$f":"IF(O47<>\"\",IF(O47+1<=12,O47+1,1),\"\")","v":""},{"$f":"IF(P47<>\"\",IF(P47+1<=12,P47+1,1),\"\")","v":""},{"$f":"IF(Q47<>\"\",IF(Q47+1<=12,Q47+1,1),\"\")","v":""},{"$f":"IF(R47<>\"\",IF(R47+1<=12,R47+1,1),\"\")","v":""},{"$f":"IF(S47<>\"\",IF(S47+1<=12,S47+1,1),\"\")","v":""},{"$f":"IF(T47<>\"\",IF(T47+1<=12,T47+1,1),\"\")","v":""},{"$f":"IF(U47<>\"\",IF(U47+1<=12,U47+1,1),\"\")","v":""},{"$f":"IF(V47<>\"\",IF(V47+1<=12,V47+1,1),\"\")","v":""}]
[null,"借入金等残高","既借入金（各月末時点）",null,null,null,null,null,"円",{"$f":"SUM(J49:J50)","v":0},"-",{"$f":"SUM(L49:L50)","v":0},{"$f":"SUM(M49:M50)","v":0},{"$f":"SUM(N49:N50)","v":0},{"$f":"SUM(O49:O50)","v":0},{"$f":"SUM(P49:P50)","v":0},{"$f":"SUM(Q49:Q50)","v":0},{"$f":"SUM(R49:R50)","v":0},{"$f":"SUM(S49:S50)","v":0},{"$f":"SUM(T49:T50)","v":0},{"$f":"SUM(U49:U50)","v":0},{"$f":"SUM(V49:V50)","v":0},{"$f":"SUM(W49:W50)","v":0}]
[null,null,null,"短期借入金",null,null,null,null,"円",null,"-"]
[null,null,null,"長期借入金",null,null,null,null,"円",null,"-"]
[null,null,"リース",null,null,null,null,null,"円",null,"-"]
[null,null,"預託豚",null,null,null,null,null,"円",null,"-"]
[null,null,"買掛未払金等（各月末時点）",null,null,null,null,null,"円",null,"-"]
[null,null,"預貯金",null,null,null,null,null,"円",null,"-"]
[null,null,"現金",null,null,null,null,null,"円",null,"-"]

{"sheet":"モニタ2キャッシュ(2)投資(3)財務・法人","index":36,"n_rows":48,"n_cols":23,"rows_kept":48,"cut":false,"hidden":false,"merged":[[44,2,44,7],[45,2,45,7],[46,2,46,7],[47,2,47,7],[35,2,35,7],[36,1,36,7],[38,1,39,8],[38,9,38,22],[40,1,47,1],[40,2,40,7],[41,2,42,2],[41,3,41,7],[42,3,42,7],[43,2,43,7],[26,1,35,1],[26,2,26,7],[27,3,27,7],[28,3,28,7],[29,2,29,7],[30,3,30,7],[31,3,31,7],[32,2,32,7],[33,2,33,7],[34,2,34,7],[15,1,15,7],[17,1,17,7],[20,1,21,8],[20,9,20,22],[22,1,25,1],[22,2,22,7],[23,2,23,7],[24,2,24,7],[25,2,25,7],[10,1,14,1],[10,2,10,7],[11,2,11,7],[12,2,12,7],[13,2,13,7],[14,2,14,7],[3,1,4,8],[3,9,3,22],[5,1,9,1],[5,2,5,7],[6,2,6,7],[7,2,7,7],[8,2,8,7],[9,2,9,7]]}
[]
[null,"２　現金収支の確認・予測（法人）〔現金の収入と支出（現金の流れ）から、経営収支の動きを月次に把握・予測する。〕"]
[null,"（２）投資（固定資産の取得等）によるキャッシュフロー",null,null,null,null,null,null,null,null,null,null,null,null,null,null,null,null,null,null,null,null,"（単位：円）"]
[null,"項目",null,null,null,null,null,null,null,"月次モニタリング（兼　入力野帳）"]
[null,null,null,null,null,null,null,null,null,"年次","計",{"$f":"IF(配列シート!$W$3<>\"\",配列シート!$W$3,\"\")","v":""},{"$f":"IF(L5<>\"\",IF(L5+1<=12,L5+1,1),\"\")","v":""},{"$f":"IF(M5<>\"\",IF(M5+1<=12,M5+1,1),\"\")","v":""},{"$f":"IF(N5<>\"\",IF(N5+1<=12,N5+1,1),\"\")","v":""},{"$f":"IF(O5<>\"\",IF(O5+1<=12,O5+1,1),\"\")","v":""},{"$f":"IF(P5<>\"\",IF(P5+1<=12,P5+1,1),\"\")","v":""},{"$f":"IF(Q5<>\"\",IF(Q5+1<=12,Q5+1,1),\"\")","v":""},{"$f":"IF(R5<>\"\",IF(R5+1<=12,R5+1,1),\"\")","v":""},{"$f":"IF(S5<>\"\",IF(S5+1<=12,S5+1,1),\"\")","v":""},{"$f":"IF(T5<>\"\",IF(T5+1<=12,T5+1,1),\"\")","v":""},{"$f":"IF(U5<>\"\",IF(U5+1<=12,U5+1,1),\"\")","v":""},{"$f":"IF(V5<>\"\",IF(V5+1<=12,V5+1,1),\"\")","v":""}]
[null,"収入","土地・建物等の売却",null,null,null,null,null,"円",{"$f":"配列シート!$B$8","v":0},{"$f":"SUM(L6:W6)","v":0}]
[null,null,"機械等の売却代金",null,null,null,null,null,"円",{"$f":"配列シート!$B$8","v":0},{"$f":"SUM(L7:W7)","v":0}]
[null,null,null,null,null,null,null,null,"円",{"$f":"配列シート!$B$8","v":0},{"$f":"SUM(L8:W8)","v":0}]
[null,null,null,null,null,null,null,null,"円",{"$f":"配列シート!$B$8","v":0},{"$f":"SUM(L9:W9)","v":0}]
[null,null,"計",null,null,null,null,null,"円",{"$f":"配列シート!$B$8","v":0},{"$f":"SUM(L10:W10)","v":0},{"$f":"SUM(L6:L9)","v":0},{"$f":"SUM(M6:M9)","v":0},{"$f":"SUM(N6:N9)","v":0},{"$f":"SUM(O6:O9)","v":0},{"$f":"SUM(P6:P9)","v":0},{"$f":"SUM(Q6:Q9)","v":0},{"$f":"SUM(R6:R9)","v":0},{"$f":"SUM(S6:S9)","v":0},{"$f":"SUM(T6:T9)","v":0},{"$f":"SUM(U6:U9)","v":0},{"$f":"SUM(V6:V9)","v":0},{"$f":"SUM(W6:W9)","v":0}]
[null,"支出","土地・建物等の購入",null,null,null,null,null,"円",{"$f":"配列シート!$B$8","v":0},{"$f":"SUM(L11:W11)","v":0}]
[null,null,"畜舎等の改修（軽微な物を除く）",null,null,null,null,null,"円",{"$f":"配列シート!$B$8","v":0},{"$f":"SUM(L12:W12)","v":0}]
[null,null,null,null,null,null,null,null,"円",{"$f":"配列シート!$B$8","v":0},{"$f":"SUM(L13:W13)","v":0}]
[null,null,null,null,null,null,null,null,"円",{"$f":"配列シート!$B$8","v":0},{"$f":"SUM(L14:W14)","v":0}]
[null,null,"計",null,null,null,null,null,"円",{"$f":"配列シート!$B$8","v":0},{"$f":"SUM(L15:W15)","v":0},{"$f":"SUM(L11:L14)","v":0},{"$f":"SUM(M11:M14)","v":0},{"$f":"SUM(N11:N14)","v":0},{"$f":"SUM(O11:O14)","v":0},{"$f":"SUM(P11:P14)","v":0},{"$f":"SUM(Q11:Q14)","v":0},{"$f":"SUM(R11:R14)","v":0},{"$f":"SUM(S11:S14)","v":0},{"$f":"SUM(T11:T14)","v":0},{"$f":"SUM(U11:U14)","v":0},{"$f":"SUM(V11:V14)","v":0},{"$f":"SUM(W11:W14)","v":0}]
[null,"収支　合計",null,null,null,null,null,null,"円",{"$f":"配列シート!$B$8","v":0},{"$f":"SUM(L16:W16)","v":0},{"$f":"L10-L15","v":0},{"$f":"M10-M15","v":0},{"$f":"N10-N15","v":0},{"$f":"O10-O15","v":0},{"$f":"P10-P15","v":0},{"$f":"Q10-Q15","v":0},{"$f":"R10-R15","v":0},{"$f":"S10-S15","v":0},{"$f":"T10-T15","v":0},{"$f":"U10-U15","v":0},{"$f":"V10-V15","v":0},{"$f":"W10-W15","v":0}]
[null,null,null,null,null,null,null,null,null,null,null,null,null,null,null,null,null,null,null,null,null,null,"（単位：円）"]
[null,"資金過不足",null,null,null,null,null,null,"円",{"$f":"配列シート!$B$8","v":0},{"$f":"SUM(L18:W18)","v":0},{"$f":"'モニタ2キャッシュ(1)経営・法人'!K58+L16","v":0},{"$f":"'モニタ2キャッシュ(1)経営・法人'!L58+M16","v":0},{"$f":"'モニタ2キャッシュ(1)経営・法人'!M58+N16","v":0},{"$f":"'モニタ2キャッシュ(1)経営・法人'!N58+O16","v":0},{"$f":"'モニタ2キャッシュ(1)経営・法人'!O58+P16","v":0},{"$f":"'モニタ2キャッシュ(1)経営・法人'!P58+Q16","v":0},{"$f":"'モニタ2キャッシュ(1)経営・法人'!Q58+R16","v":0},{"$f":"'モニタ2キャッシュ(1)経営・法人'!R58+S16","v":0},{"$f":"'モニタ2キャッシュ(1)経営・法人'!S58+T16","v":0},{"$f":"'モニタ2キャッシュ(1)経営・法人'!T58+U16","v":0},{"$f":"'モニタ2キャッシュ(1)経営・法人'!U58+V16","v":0},{"$f":"'モニタ2キャッシュ(1)経営・法人'!V58+W16","v":0}]
[]
[null,"（３）財務活動（借入金等）によるキャッシュフロー",null,null,null,null,null,null,null,null,null,null,null,null,null,null,null,null,null,null,null,null,"（単位：円）"]
[null,"項目",null,null,null,null,null,null,null,"月次モニタリング（兼　入力野帳）"]
[null,null,null,null,null,null,null,null,null,"年次","計",{"$f":"IF(配列シート!$W$3<>\"\",配列シート!$W$3,\"\")","v":""},{"$f":"IF(L22<>\"\",IF(L22+1<=12,L22+1,1),\"\")","v":""},{"$f":"IF(M22<>\"\",IF(M22+1<=12,M22+1,1),\"\")","v":""},{"$f":"IF(N22<>\"\",IF(N22+1<=12,N22+1,1),\"\")","v":""},{"$f":"IF(O22<>\"\",IF(O22+1<=12,O22+1,1),\"\")","v":""},{"$f":"IF(P22<>\"\",IF(P22+1<=12,P22+1,1),\"\")","v":""},{"$f":"IF(Q22<>\"\",IF(Q22+1<=12,Q22+1,1),\"\")","v":""},{"$f":"IF(R22<>\"\",IF(R22+1<=12,R22+1,1),\"\")","v":""},{"$f":"IF(S22<>\"\",IF(S22+1<=12,S22+1,1),\"\")","v":""},{"$f":"IF(T22<>\"\",IF(T22+1<=12,T22+1,1),\"\")","v":""},{"$f":"IF(U22<>\"\",IF(U22+1<=12,U22+1,1),\"\")","v":""},{"$f":"IF(V22<>\"\",IF(V22+1<=12,V22+1,1),\"\")","v":""}]
[null,"借入金\n収入","短期資金の借入",null,null,null,null,null,"円",{"$f":"配列シート!$B$8","v":0},{"$f":"SUM(L23:W23)","v":0}]
[null,null,"長期資金の借入",null,null,null,null,null,"円",{"$f":"配列シート!$B$8","v":0},{"$f":"SUM(L24:W24)","v":0}]
[null,null,"その他の借入",null,null,null,null,null,"円",{"$f":"配列シート!$B$8","v":0},{"$f":"SUM(L25:W25)","v":0}]
[null,null,"計",null,null,null,null,null,"円",{"$f":"配列シート!$B$8","v":0},{"$f":"SUM(L26:W26)","v":0},{"$f":"SUM(L23:L25)","v":0},{"$f":"SUM(M23:M25)","v":0},{"$f":"SUM(N23:N25)","v":0},{"$f":"SUM(O23:O25)","v":0},{"$f":"SUM(P23:P25)","v":0},{"$f":"SUM(Q23:Q25)","v":0},{"$f":"SUM(R23:R25)","v":0},{"$f":"SUM(S23:S25)","v":0},{"$f":"SUM(T23:T25)","v":0},{"$f":"SUM(U23:U25)","v":0},{"$f":"SUM(V23:V25)","v":0},{"$f":"SUM(W23:W25)","v":0}]
[null,"借入金・預託等\n支出","短期資金の返済（元利金）",null,null,null,null,null,"円",{"$f":"配列シート!$B$8","v":0},{"$f":"SUM(L27:W27)","v":0},{"$f":"SUM(L28:L29)","v":0},{"$f":"SUM(M28:M29)","v":0},{"$f":"SUM(N28:N29)","v":0},{"$f":"SUM(O28:O29)","v":0},{"$f":"SUM(P28:P29)","v":0},{"$f":"SUM(Q28:Q29)","v":0},{"$f":"SUM(R28:R29)","v":0},{"$f":"SUM(S28:S29)","v":0},{"$f":"SUM(T28:T29)","v":0},{"$f":"SUM(U28:U29)","v":0},{"$f":"SUM(V28:V29)","v":0},{"$f":"SUM(W28:W29)","v":0}]
[null,null,null,"償還元金",null,null,null,null,"円",{"$f":"配列シート!$B$8","v":0},{"$f":"SUM(L28:W28)","v":0}]
[null,null,null,"償還利息",null,null,null,null,"円",{"$f":"配列シート!$B$8","v":0},{"$f":"SUM(L29:W29)","v":0}]
[null,null,"長期資金の返済（元利金）",null,null,null,null,null,"円",{"$f":"配列シート!$B$8","v":0},{"$f":"SUM(L30:W30)","v":0},{"$f":"SUM(L31:L32)","v":0},{"$f":"SUM(M31:M32)","v":0},{"$f":"SUM(N31:N32)","v":0},{"$f":"SUM(O31:O32)","v":0},{"$f":"SUM(P31:P32)","v":0},{"$f":"SUM(Q31:Q32)","v":0},{"$f":"SUM(R31:R32)","v":0},{"$f":"SUM(S31:S32)","v":0},{"$f":"SUM(T31:T32)","v":0},{"$f":"SUM(U31:U32)","v":0},{"$f":"SUM(V31:V32)","v":0},{"$f":"SUM(W31:W32)","v":0}]
[null,null,null,"償還元金",null,null,null,null,"円",{"$f":"配列シート!$B$8","v":0},{"$f":"SUM(L31:W31)","v":0}]
[null,null,null,"償還利息",null,null,null,null,"円",{"$f":"配列シート!$B$8","v":0},{"$f":"SUM(L32:W32)","v":0}]
[null,null,"リースの返済",null,null,null,null,null,"円",{"$f":"配列シート!$B$8","v":0},{"$f":"SUM(L33:W33)","v":0}]
[null,null,"その他の返済（元利金）",null,null,null,null,null,"円",{"$f":"配列シート!$B$8","v":0},{"$f":"SUM(L34:W34)","v":0}]
[null,null,"預託豚の支払（元利金）",null,null,null,null,null,"円",{"$f":"配列シート!$B$8","v":0},{"$f":"SUM(L35:W35)","v":0}]
[null,null,"計",null,null,null,null,null,"円",{"$f":"配列シート!$B$8","v":0},{"$f":"SUM(L36:W36)","v":0},{"$f":"L27+L30+SUM(L33:L35)","v":0},{"$f":"M27+M30+SUM(M33:M35)","v":0},{"$f":"N27+N30+SUM(N33:N35)","v":0},{"$f":"O27+O30+SUM(O33:O35)","v":0},{"$f":"P27+P30+SUM(P33:P35)","v":0},{"$f":"Q27+Q30+SUM(Q33:Q35)","v":0},{"$f":"R27+R30+SUM(R33:R35)","v":0},{"$f":"S27+S30+SUM(S33:S35)","v":0},{"$f":"T27+T30+SUM(T33:T35)","v":0},{"$f":"U27+U30+SUM(U33:U35)","v":0},{"$f":"V27+V30+SUM(V33:V35)","v":0},{"$f":"W27+W30+SUM(W33:W35)","v":0}]
[null,"収支　合計",null,null,null,null,null,null,"円",{"$f":"配列シート!$B$8","v":0},{"$f":"SUM(L37:W37)","v":0},{"$f":"L26-L36","v":0},{"$f":"M26-M36","v":0},{"$f":"N26-N36","v":0},{"$f":"O26-O36","v":0},{"$f":"P26-P36","v":0},{"$f":"Q26-Q36","v":0},{"$f":"R26-R36","v":0},{"$f":"S26-S36","v":0},{"$f":"T26-T36","v":0},{"$f":"U26-U36","v":0},{"$f":"V26-V36","v":0},{"$f":"W26-W36","v":0}]
[null,null,null,null,null,null,null,null,null,null,null,null,null,null,null,null,null,null,null,null,null,null,"（単位：円）"]
[null,"項目",null,null,null,null,null,null,null,"月次モニタリング（兼　入力野帳）"]
[null,null,null,null,null,null,null,null,null,{"$f":"配列シート!$B$8","v":0},"計",{"$f":"IF(配列シート!$W$3<>\"\",配列シート!$W$3,\"\")","v":""},{"$f":"IF(L40<>\"\",IF(L40+1<=12,L40+1,1),\"\")","v":""},{"$f":"IF(M40<>\"\",IF(M40+1<=12,M40+1,1),\"\")","v":""},{"$f":"IF(N40<>\"\",IF(N40+1<=12,N40+1,1),\"\")","v":""},{"$f":"IF(O40<>\"\",IF(O40+1<=12,O40+1,1),\"\")","v":""},{"$f":"IF(P40<>\"\",IF(P40+1<=12,P40+1,1),\"\")","v":""},{"$f":"IF(Q40<>\"\",IF(Q40+1<=12,Q40+1,1),\"\")","v":""},{"$f":"IF(R40<>\"\",IF(R40+1<=12,R40+1,1),\"\")","v":""},{"$f":"IF(S40<>\"\",IF(S40+1<=12,S40+1,1),\"\")","v":""},{"$f":"IF(T40<>\"\",IF(T40+1<=12,T40+1,1),\"\")","v":""},{"$f":"IF(U40<>\"\",IF(U40+1<=12,U40+1,1),\"\")","v":""},{"$f":"IF(V40<>\"\",IF(V40+1<=12,V40+1,1),\"\")","v":""}]
[null,"借入金等残高","既借入金（各月末時点）",null,null,null,null,null,"円",{"$f":"SUM(J42:J43)","v":0},"-",{"$f":"SUM(L42:L43)","v":0},{"$f":"SUM(M42:M43)","v":0},{"$f":"SUM(N42:N43)","v":0},{"$f":"SUM(O42:O43)","v":0},{"$f":"SUM(P42:P43)","v":0},{"$f":"SUM(Q42:Q43)","v":0},{"$f":"SUM(R42:R43)","v":0},{"$f":"SUM(S42:S43)","v":0},{"$f":"SUM(T42:T43)","v":0},{"$f":"SUM(U42:U43)","v":0},{"$f":"SUM(V42:V43)","v":0},{"$f":"SUM(W42:W43)","v":0}]
[null,null,null,"短期借入金",null,null,null,null,"円",null,"-"]
[null,null,null,"長期借入金",null,null,null,null,"円",null,"-"]
[null,null,"リース",null,null,null,null,null,"円",null,"-"]
[null,null,"預託豚",null,null,null,null,null,"円",null,"-"]
[null,null,"買掛未払金等（各月末時点）",null,null,null,null,null,"円",null,"-"]
[null,null,"預貯金",null,null,null,null,null,"円",null,"-"]
[null,null,"現金",null,null,null,null,null,"円",null,"-"]

{"sheet":"モニタ3改善状況","index":37,"n_rows":105,"n_cols":29,"rows_kept":105,"cut":false,"hidden":false,"merged":[[60,3,60,12],[60,13,60,22],[60,23,60,32],[61,3,61,12],[61,13,61,22],[61,23,61,32],[58,28,58,32],[59,1,59,2],[59,3,59,7],[59,8,59,12],[59,13,59,17],[59,18,59,22],[59,23,59,27],[59,28,59,32],[58,1,58,2],[58,3,58,7],[58,8,58,12],[58,13,58,17],[58,18,58,22],[58,23,58,27],[55,3,55,12],[55,13,55,22],[55,23,55,32],[56,3,56,12],[56,13,56,22],[56,23,56,32],[53,28,53,32],[54,1,54,2],[54,3,54,7],[54,8,54,12],[54,13,54,17],[54,18,54,22],[54,23,54,27],[54,28,54,32],[53,1,53,2],[53,3,53,7],[53,8,53,12],[53,13,53,17],[53,18,53,22],[53,23,53,27],[50,3,50,12],[50,13,50,22],[50,23,50,32],[51,3,51,12],[51,13,51,22],[51,23,51,32],[48,28,48,32],[49,1,49,2],[49,3,49,7],[49,8,49,12],[49,13,49,17],[49,18,49,22],[49,23,49,27],[49,28,49,32],[48,1,48,2],[48,3,48,7],[48,8,48,12],[48,13,48,17],[48,18,48,22],[48,23,48,27],[45,3,45,12],[45,13,45,22],[45,23,45,32],[46,3,46,12],[46,13,46,22],[46,23,46,32],[43,28,43,32],[44,1,44,2],[44,3,44,7],[44,8,44,12],[44,13,44,17],[44,18,44,22],[44,23,44,27],[44,28,44,32],[43,1,43,2],[43,3,43,7],[43,8,43,12],[43,13,43,17],[43,18,43,22],[43,23,43,27],[40,3,40,12],[40,13,40,22],[40,23,40,32],[41,3,41,12],[41,13,41,22],[41,23,41,32],[38,28,38,32],[39,1,39,2],[39,3,39,7],[39,8,39,12],[39,13,39,17],[39,18,39,22],[39,23,39,27],[39,28,39,32],[38,1,38,2],[38,3,38,7],[38,8,38,12],[38,13,38,17],[38,18,38,22],[38,23,38,27],[35,3,35,12],[35,13,35,22],[35,23,35,32],[36,3,36,12],[36,13,36,22],[36,23,36,32],[33,28,33,32],[34,1,34,2],[34,3,34,7],[34,8,34,12],[34,13,34,17],[34,18,34,22],[34,23,34,27],[34,28,34,32],[33,1,33,2],[33,3,33,7],[33,8,33,12],[33,13,33,17],[33,18,33,22],[33,23,33,27],[30,3,30,12],[30,13,30,22],[30,23,30,32],[31,3,31,12],[31,13,31,22],[31,23,31,32],[28,28,28,32],[29,1,29,2],[29,3,29,7],[29,8,29,12],[29,13,29,17],[29,18,29,22],[29,23,29,27],[29,28,29,32],[28,1,28,2],[28,3,28,7],[28,8,28,12],[28,13,28,17],[28,18,28,22],[28,23,28,27],[25,3,25,12],[25,13,25,22],[25,23,25,32],[26,3,26,12],[26,13,26,22],[26,23,26,32],[23,28,23,32],[24,1,24,2],[24,3,24,7],[24,8,24,12],[24,13,24,17],[24,18,24,22],[24,23,24,27],[24,28,24,32],[23,1,23,2],[23,3,23,7],[23,8,23,12],[23,13,23,17],[23,18,23,22],[23,23,23,27],[20,3,20,12],[20,13,20,22],[20,23,20,32],[21,3,21,12],[21,13,21,22],[21,23,21,32],[18,28,18,32],[19,1,19,2],[19,3,19,7],[19,8,19,12],[19,13,19,17],[19,18,19,22],[19,23,19,27],[19,28,19,32],[18,1,18,2],[18,3,18,7],[18,8,18,12],[18,13,18,17],[18,18,18,22],[18,23,18,27],[15,3,15,12],[15,13,15,22],[15,23,15,32],[16,3,16,12],[16,13,16,22],[16,23,16,32],[13,28,13,32],[14,1,14,2],[14,3,14,7],[14,8,14,12],[14,13,14,17],[14,18,14,22],[14,23,14,27],[14,28,14,32],[13,1,13,2],[13,3,13,7],[13,8,13,12],[13,13,13,17],[13,18,13,22],[13,23,13,27],[10,3,10,12],[10,13,10,22],[10,23,10,32],[11,3,11,12],[11,13,11,22],[11,23,11,32],[8,28,8,32],[9,1,9,2],[9,3,9,7],[9,8,9,12],[9,13,9,17],[9,18,9,22],[9,23,9,27],[9,28,9,32],[8,1,8,2],[8,3,8,7],[8,8,8,12],[8,13,8,17],[8,18,8,22],[8,23,8,27],[5,3,5,12],[5,13,5,22],[5,23,5,32],[6,3,6,12],[6,13,6,22],[6,23,6,32],[3,28,3,32],[4,1,4,2],[4,3,4,7],[4,8,4,12],[4,13,4,17],[4,18,4,22],[4,23,4,27],[4,28,4,32],[2,1,2,2],[2,3,2,12],[2,13,2,22],[2,23,2,32],[3,1,3,2],[3,3,3,7],[3,8,3,12],[3,13,3,17],[3,18,3,22],[3,23,3,27]]}
[]
[null,"３　現状及び指導・助言報告書（現状及び指導・助言報告から、経営改善状況の動きを月次に把握する。）"]
[null,"区分",null,"畜産経営者",null,null,null,null,null,null,null,null,null,"融資機関",null,null,null,null,null,null,null,null,null,"道府県支援協議会等"]
[null,"年月日・時間",null,"9999/99/99",null,null,null,null,"00:00:00",null,null,null,null,"9999/99/99",null,null,null,null,"00:00:00",null,null,null,null,"9999/99/99",null,null,null,null,"00:00:00"]
[null,"氏名・所属",null,null,null,null,null,null,"－"]
[null,{"$f":"IF(配列シート!$W$3<>\"\",配列シート!$B$8,\"\")","v":""},"年"]
[null,{"$f":"IF(配列シート!$W$3<>\"\",配列シート!$W$3,\"\")","v":""},"月"," ",null,null,null,null,null,null,null,null,null," ",null,null,null,null,null,null,null,null,null," "]
[]
[null,"年月日・時間",null,"9999/99/99",null,null,null,null,"00:00:00",null,null,null,null,"9999/99/99",null,null,null,null,"00:00:00",null,null,null,null,"9999/99/99",null,null,null,null,"00:00:00"]
[null,"氏名・所属",null,null,null,null,null,null,"－"]
[null,{"$f":"IF($B$6<>\"\",IF($B12<$B$7,$B$6+1,$B$6),\"\")","v":""},"年"]
[null,{"$f":"IF($B$6<>\"\",IF($B7+1>12,1,$B7+1),\"\")","v":""},"月"," ",null,null,null,null,null,null,null,null,null," ",null,null,null,null,null,null,null,null,null," "]
[]
[null,"年月日・時間",null,"9999/99/99",null,null,null,null,"00:00:00",null,null,null,null,"9999/99/99",null,null,null,null,"00:00:00",null,null,null,null,"9999/99/99",null,null,null,null,"00:00:00"]
[null,"氏名・所属",null,null,null,null,null,null,"－"]
[null,{"$f":"IF($B$6<>\"\",IF($B17<$B$7,$B$6+1,$B$6),\"\")","v":""},"年"]
[null,{"$f":"IF($B$6<>\"\",IF($B12+1>12,1,$B12+1),\"\")","v":""},"月"," ",null,null,null,null,null,null,null,null,null," ",null,null,null,null,null,null,null,null,null," "]
[]
[null,"年月日・時間",null,"9999/99/99",null,null,null,null,"00:00:00",null,null,null,null,"9999/99/99",null,null,null,null,"00:00:00",null,null,null,null,"9999/99/99",null,null,null,null,"00:00:00"]
[null,"氏名・所属",null,null,null,null,null,null,"－"]
[null,{"$f":"IF($B$6<>\"\",IF($B22<$B$7,$B$6+1,$B$6),\"\")","v":""},"年"]
[null,{"$f":"IF($B$6<>\"\",IF($B17+1>12,1,$B17+1),\"\")","v":""},"月"," ",null,null,null,null,null,null,null,null,null," ",null,null,null,null,null,null,null,null,null," "]
[]
[null,"年月日・時間",null,"9999/99/99",null,null,null,null,"00:00:00",null,null,null,null,"9999/99/99",null,null,null,null,"00:00:00",null,null,null,null,"9999/99/99",null,null,null,null,"00:00:00"]
[null,"氏名・所属",null,null,null,null,null,null,"－"]
[null,{"$f":"IF($B$6<>\"\",IF($B27<$B$7,$B$6+1,$B$6),\"\")","v":""},"年"]
[null,{"$f":"IF($B$6<>\"\",IF($B22+1>12,1,$B22+1),\"\")","v":""},"月"," ",null,null,null,null,null,null,null,null,null," ",null,null,null,null,null,null,null,null,null," "]
[]
[null,"年月日・時間",null,"9999/99/99",null,null,null,null,"00:00:00",null,null,null,null,"9999/99/99",null,null,null,null,"00:00:00",null,null,null,null,"9999/99/99",null,null,null,null,"00:00:00"]
[null,"氏名・所属",null,null,null,null,null,null,"－"]
[null,{"$f":"IF($B$6<>\"\",IF($B32<$B$7,$B$6+1,$B$6),\"\")","v":""},"年"]
[null,{"$f":"IF($B$6<>\"\",IF($B27+1>12,1,$B27+1),\"\")","v":""},"月"," ",null,null,null,null,null,null,null,null,null," ",null,null,null,null,null,null,null,null,null," "]
[]
[null,"年月日・時間",null,"9999/99/99",null,null,null,null,"00:00:00",null,null,null,null,"9999/99/99",null,null,null,null,"00:00:00",null,null,null,null,"9999/99/99",null,null,null,null,"00:00:00"]
[null,"氏名・所属",null,null,null,null,null,null,"－"]
[null,{"$f":"IF($B$6<>\"\",IF($B37<$B$7,$B$6+1,$B$6),\"\")","v":""},"年"]
[null,{"$f":"IF($B$6<>\"\",IF($B32+1>12,1,$B32+1),\"\")","v":""},"月"," ",null,null,null,null,null,null,null,null,null," ",null,null,null,null,null,null,null,null,null," "]
[]
[null,"年月日・時間",null,"9999/99/99",null,null,null,null,"00:00:00",null,null,null,null,"9999/99/99",null,null,null,null,"00:00:00",null,null,null,null,"9999/99/99",null,null,null,null,"00:00:00"]
[null,"氏名・所属",null,null,null,null,null,null,"－"]
[null,{"$f":"IF($B$6<>\"\",IF($B42<$B$7,$B$6+1,$B$6),\"\")","v":""},"年"]
[null,{"$f":"IF($B$6<>\"\",IF($B37+1>12,1,$B37+1),\"\")","v":""},"月"," ",null,null,null,null,null,null,null,null,null," ",null,null,null,null,null,null,null,null,null," "]
[]
[null,"年月日・時間",null,"9999/99/99",null,null,null,null,"00:00:00",null,null,null,null,"9999/99/99",null,null,null,null,"00:00:00",null,null,null,null,"9999/99/99",null,null,null,null,"00:00:00"]
[null,"氏名・所属",null,null,null,null,null,null,"－"]
[null,{"$f":"IF($B$6<>\"\",IF($B47<$B$7,$B$6+1,$B$6),\"\")","v":""},"年"]
[null,{"$f":"IF($B$6<>\"\",IF($B42+1>12,1,$B42+1),\"\")","v":""},"月"," ",null,null,null,null,null,null,null,null,null," ",null,null,null,null,null,null,null,null,null," "]
[]
[null,"年月日・時間",null,"9999/99/99",null,null,null,null,"00:00:00",null,null,null,null,"9999/99/99",null,null,null,null,"00:00:00",null,null,null,null,"9999/99/99",null,null,null,null,"00:00:00"]
[null,"氏名・所属",null,null,null,null,null,null,"－"]
[null,{"$f":"IF($B$6<>\"\",IF($B52<$B$7,$B$6+1,$B$6),\"\")","v":""},"年"]
[null,{"$f":"IF($B$6<>\"\",IF($B47+1>12,1,$B47+1),\"\")","v":""},"月"," ",null,null,null,null,null,null,null,null,null," ",null,null,null,null,null,null,null,null,null," "]
[]
[null,"年月日・時間",null,"9999/99/99",null,null,null,null,"00:00:00",null,null,null,null,"9999/99/99",null,null,null,null,"00:00:00",null,null,null,null,"9999/99/99",null,null,null,null,"00:00:00"]
[null,"氏名・所属",null,null,null,null,null,null,"－"]
[null,{"$f":"IF($B$6<>\"\",IF($B57<$B$7,$B$6+1,$B$6),\"\")","v":""},"年"]
[null,{"$f":"IF($B$6<>\"\",IF($B52+1>12,1,$B52+1),\"\")","v":""},"月"," ",null,null,null,null,null,null,null,null,null," ",null,null,null,null,null,null,null,null,null," "]
[]
[null,"年月日・時間",null,"9999/99/99",null,null,null,null,"00:00:00",null,null,null,null,"9999/99/99",null,null,null,null,"00:00:00",null,null,null,null,"9999/99/99",null,null,null,null,"00:00:00"]
[null,"氏名・所属",null,null,null,null,null,null,"－"]
[null,{"$f":"IF($B$6<>\"\",IF($B62<$B$7,$B$6+1,$B$6),\"\")","v":""},"年"]
[null,{"$f":"IF($B$6<>\"\",IF($B57+1>12,1,$B57+1),\"\")","v":""},"月"," ",null,null,null,null,null,null,null,null,null," ",null,null,null,null,null,null,null,null,null," "]
[]
[]
[]
[]
[]
[]
[]
[]
[]
[]
[]
[]
[]
[]
[]
[]
[]
[]
[]
[]
[]
[]
[]
[]
[]
[]
[]
[]
[]
[]
[]
[]
[]
[]
[]
[]
[]
[]
[null,null,null,"積極的に改善に取り組んでいる（成果が出た）",null,null,null,null,null,null,null,null,null,"計画達成の見込み（順調に推移）",null,null,null,null,null,null,null,null,null,"計画達成の見込み（順調に推移）"]
[null,null,null,"積極的に改善に取り組んでいる（成果が未だ表れない）",null,null,null,null,null,null,null,null,null,"計画達成の見込み（一部注意が必要）",null,null,null,null,null,null,null,null,null,"計画達成の見込み（一部注意が必要）"]
[null,null,null,"取組が不十分だった（改善点を把握している）",null,null,null,null,null,null,null,null,null,"計画を下回る見込み（経過観察）",null,null,null,null,null,null,null,null,null,"計画を下回る見込み（経過観察）"]
[null,null,null,"取組が不十分だった（さらなる改善点を指導して欲しい）",null,null,null,null,null,null,null,null,null,"計画を下回る見込み（現地巡回等で対応）",null,null,null,null,null,null,null,null,null,"計画を下回る見込み（融資機関の現地巡回等が必要）"]
[null,null,null,"突発的な問題が発生した",null,null,null,null,null,null,null,null,null,"計画達成が困難（指導機関の現地巡回等が必要）",null,null,null,null,null,null,null,null,null,"計画達成が困難（指導機関の現地巡回等が必要）"]